Workbook
Name _ftn1: Hints1!#REF!
Name _ftn1: Hinweise1!#REF!
Name _ftn1: Hinweise3!$A$3
Name _ftnref1: Hints1!$A$3
Name _ftnref1: Hinweise1!$A$2
Name _ftnref1: Hinweise3!#REF!
Name Daten: #REF!
Name Daten: #REF!
Name Daten: #REF!
Name MBlei: #REF!
Name MBlei: #REF!
Name MBlei: #REF!
Name OLE_LINK1: Ergebnisangabe!$A$20
Name OLE_LINK1: Reporting!$A$14
Name OLE_LINK2: Reporting!$J$7
Name Parameter2: #REF!
Name Parameter2: #REF!
Name Parameter2: #REF!
Name Parameter2: #REF!
Name Parameter2alt: #REF!
Name Parameter2alt: #REF!
Name Parameter2alt: #REF!
Name test: [1]Parameter2!$B$3:$B$18
Name test: [2]Parameter2!$B$3:$B$18
Name test: [2]Parameter2!$B$3:$B$18
Name test: [1]Parameter2!$B$3:$B$18
Name test: [3]Parameter2!$B$3:$B$18
Name test1: [2]Parameter2!$B$3:$B$18

Sheet Hints1
A1: References to the result transmission and to the indication of result (Deadline see "Ergebnisse")
A2: Before analysing the samples, homogenize the samples again, please. After homogenisation You should analyse both samples with your standard procedures.
A3: Use this file for your result transmissions, please. Fill for this in the file yellow fields deposited out and send back the file afterwards by email to “ergebnisse@lvus.de”. It is important that for the clear allocation of the results to your laboratory in the table "Ergebnisse" (results) your client number and your postal zip code must be entered (both numbers only).
A4: The result data must be given in in the units as described at every parameter. To the avoidance of deviations in the laboratory made roundness, You are asked with each parameter after the first number deviating from 0 to indicate still the listened further numbers (even if due to Your validating data this accuracy is not kept by your analysis procedure). ISO 13 528 4.6 recommends that individual measurement results schould not be rounded by more than sr/2.
A6: Examples for transmissions of results:
A7: It a test material the element "Mg" was quantified. You are asked to report 3 significant numbers. The following computational contents are determined:
A9: Computed Value [mg/kg] | B9: Transmission of result [mg/kg]
A10: 1379 | B10: 1380
A11: 179.34 | B11: 179
A12: 80.12 | B12: 80.1
A13: 7.8 | B13: 7.8

Sheet Reporting

Sheet Hinweise1
A1: Hinweise zur Ergebnisübermittlung und zur Ergebnisangabe
A2: Bitte verwenden Sie diese Datei für Ihre Ergebnisübermittlung. Füllen Sie hierzu alle in der Tabelle "Ergebnisse" gelb hinterlegten Felder aus bzw. wählen Sie Ihre Angaben zu den von Ihnen verwendeten Methoden über die vorhandenen Auswahlfenster aus.
A3: Die ausgefüllte Exceltabelle muss per eMail als Anlage bis spätestens zur Deadline an eine der beiden Adressen ergebnisse@lvus.de oder results@lvus.de gesendet werden. Bitte beachten Sie, dass Ihre eMail nur die Exceltabelle als Anlage enthalten darf. Ausser Ihrem Absender soll die eigentliche eMail keine weiteren Daten oder Texte enthalten, da alle an die Adressen ergebnisse@lvus.de oder results@lvus.de gesendeten eMails automatisch ausgelesen werden.
A4: Nach der in der Tabelle "Ergebnisse" aufgeführten Deadline eingehende Ergebnisse werden bei der Auswertung nicht berücksichtigt.
A5: Es ist wichtig, dass Sie zur eindeutigen Zuordnung der Ergebnisse zu Ihrem Labor sowohl Ihre Kunden-Nr. als auch Ihre Postleitzahl (auf dem Anschreiben enthalten - nur Ziffern eingeben) eingeben. Über eine bei der Auswertung durchgeführte Plausibilitätsprüfung soll erkannt werden, ob Tippfehler vorliegen und dadurch die Daten einem anderen Teilnehmer zugeordnet werden könnten.
A6: Interne Teilnahme: Diesen Wert bitte nur ändern, falls Sie für Ihr Haus mehrere getrennte und damit kostenpflichtige Teilnahmen gebucht haben. Über diesen Wert werden die unter einer Kundennummer geführten Teilnahmen getrennt erfasst und die Ergebnisse anschließend der Auswertung zugeführt. Entscheiden Sie, welcher Ihrer Laborbereiche unter der Teilnahme 1 oder 2 registirert und ausgewertet werden soll.
A7: Die Ergebnisangaben müssen in der/den vorgegebenen Maßeinheiten erfolgen - Ihre Angaben werden ohne Änderungen zur Auswertung verwendet! Zur Vermeidung von Abweichungen durch bereits im Labor vorgenommene Rundungen werden Sie gebeten, bei jedem Parameter eine bestimmte Anzahl signifikanter Ziffern anzugeben (auch wenn auf Grund Ihrer Validierungsdaten diese Genauigkeit von Ihrem Analysenverfahren nicht eingehalten wird). Nach ISO 13528 Abschnitt 4.6 sollen Ergebnisse nicht stärker gerundet werden als dem halben Betrag der Wiederholstandardabweichung entspricht.
A8: Beispiele zur Ergebnisangabe: In einer Probe wurde der Gehalt von Mangan bestimmt. Es werden folgende rechnerischen Gehalte ermittelt:
A9: Beispielhafter Wert [mg/kg] | B9: Ergebnisangabe mit 3 signifikanten Ziffern [mg/kg]
A10: 1379 | B10: 1380
A11: 179.34 | B11: 179
A12: 80.12 | B12: 80.1
A13: 7.8 | B13: 7.8
A15: Verfahren sowie Literaturangaben, die von Teilnehmern bei bereits durchgeführten Laborvergleichsuntersuchungen angewendet wurden, sind in Auswahlfenstern vorbelegt, um Ihnen das Ausfüllen zu erleichtern. Über diese Auswahlfenster wählen Sie bitte diejenigen Einträge aus, die bei den von Ihnen angewandten Verfahren zutreffend sind. Ist kein zutreffender Eintrag vorhanden, so wählen Sie bitte den Eintrag "sonstiges.." aus. Tragen Sie dann in der nächsten Zeile (wird gelb hervorgehoben) die auf Ihr Verfahren zutreffende Beschreibung ein.
A16: Geben Sie in der Tabelle "Kontakt" den Namen, die eMail-Adresse sowie die Telefonnummer der Kontaktperson an, die wir bei Fragen kontaktieren können. Nach Fertigstellung der Auswertung soll an die angegebene eMail-Adresse zusätzlich zur gedruckten Auswertung auch eine Passwort-freie Auswertedatei im PDF-Format gesendet werden.
A17: Sollten Sie uns ergänzende Hinweise/Beobachtungen mitteilen wollen, so verwenden Sie hierfür den vorgesehenen Bereich innerhalb der Tabelle "Mitteilungen".
A18: Da Ihre eMail automatisch weiterverarbeitet wird, dürfen nur in der Exceltabelle Kommentare oder Hinweise zu den Proben und durchgeführten Untersuchungen enthalten sein. Außerdem darf Ihre eMail nur eine einzige Anlage enthalten. Sie erhalten automatisch eine Benachrichtigung über den Eingang Ihrer Ergebnisse.

Sheet Hinweise2
A1: Erläuterungen zur Weiterverarbeitung Ihrer Daten
A2: Diese Tabellen wurden so aufgebaut, dass die Daten automatisiert in unser Auswerteprogramm übernommen werden können. Die Tabellen dürfen daher keinesfalls im Aufbau verändert werden, da dann ein automatisiertes Auslesen der mitgeteilten Daten nicht mehr möglich wäre.
A3: Aus diesem Grund wurden die Tabellen gegen Veränderungen geschützt. Eingaben oder auch die Auswahl von Eigenschaften sind nur an wenigen Stellen nötig. Diese Stellen sind gelb hinterlegt.
A4: Da das Ausführen von Macros eine potentielle Gefährdung von Computersystemen bedeuten kann, gehen wir davon aus, dass ausführbare Macros in zahlreichen Fällen von den entsprechenden System-Administratoren unterdrückt werden. Deshalb wurde auf die Verwendung von Macros bei der Erstellung der Tabellen zur Ergebniserfassung komplett verzichtet, obwohl damit ein komfortableres Arbeiten möglich wäre.
A5: Beim Eingang Ihrer eMail wird diese von unserem System automatisch weiterverarbeitet, wobei einige Plausibilitäten (z.B. Vollständigkeit der Absenderangabe oder Kennzeichnung als Update bei erneuter Dateneinsendung) überprüft werden. Im Anschluss an diese Prüfung erhalten Sie automatisiert eine eMail-Antwort. Darin werden Sie darüber informiert, ob Ihre Daten prinzipiell weiterverarbeitet werden können oder ob benötigte Einträge fehlen und Sie Ihre Ergebnisse nach Ergänzung der fehlenden Angaben erneut einsenden sollen. Eine Prüfung auf Vollständigkeit von Ergebnisangaben (sind überhaupt Ergebnnisdaten vorhanden?) oder deren Angabe in den vorgegebenen Maßeinheiten wird zu diesem Zeitpunkt nicht vorgenommen.
A6: Sollten Sie noch vor dem Ende der Ergebnisannahme bemerken, dass in Ihrer Ergebnistabelle Fehler enthalten sind, so senden Sie einfach eine korrigierte Version an die Adresse ergebnisse@lvus.de. Kennzeichnen Sie in diesem Fall Ihre Tabelle als Aktualisierung, da ansonsten das System die Annahme der Daten zurückweist ("es sind ja bereits Daten von Ihnen vorhanden"). Ihre aktualiserte Ergebnistabelle muss vollständig ausgefüllt sein und insbesondere alle Ergebnisdaten der Vorversion enthalten, da bei einer Kennzeichung als Aktualiserung (Update) die zuvor eingesandte Ergebnistabelle durch die Aktualisierung vollständig ersetzt wird.
A7: Ihre Daten werden von uns wie mitgeteilt zur Auswertung verwendet. Selbst offensichtliche Fehler, wie - Tippfehler, - Übertragungsfehler in die Ergebniserfassungstabelle, - Angaben in einer anderen, von der Vorgabe abweichenden Maßeinheit werden zur Auswertung unverändert, also ohne Änderung übernommen und führen dann zu schlechten Bewertungen. Daher sollten Sie Ihre Eingaben sorgfältig durchführen und dabei insbesondere auch überprüfen, ob Ihre laborüblichen Maßeinheiten mit denen im Tabellenblatt übereinstimmen.
A8: Nach Ende der Frist zur Ergebnisabgabe sind Korrekturen nur noch möglich, falls die Auswertung der Daten noch nicht erfolgt ist. Korrekturen von fehlerhaften Teilnehmerangaben werden nach der Auswertung und insbesondere nach Veröffentlichung des Protokolls nicht mehr durchgeführt.

Sheet Hinweise3
A1: Hinweise zur Auswertung
A2: Die Beurteilung der Laborergebnisse erfolgt durch Z-Scores, die möglichst über die Vergleichsstandardabweichung des jeweiligen Standardverfahrens aus der Amtlichen Sammlung nach § 64 LFGB berechnet werden. Zusätzlich werden Z-Scores über die nach der Horwitz- funktion ermittelte Zielstandardabweichung für den jeweiligen Analyten berechnet.
A3: Mit abnehmenden Gehalten von Analyten in der Probe steigt die über die Horwitzfunktion berechnete Zielstandardabweichung stark an. So beträgt z.B. die relative Standardabweichung nach Horwitz 10 % bei einem Analytgehalt von 23 mg/kg und bereits 22,6 % bei einem Analytgehalt von 100 µg/kg.
A4: Zur Vermeidung zu „breiter“ Beurteilungszonen wird deshalb bei der Auswertung bei allen Parametern der Wert der Zielstandardabweichung auf maximal 22 % vom Wert des Medians beschränkt.
A5: Zunächst werden alle mitgeteilten Laborergebnisse berücksichtigt und die darüber berechneten statistischen Kenndaten für die Parameter aufgeführt.
A6: Zur Ermittlung der endgültigen statistischen Kenndaten werden bei allen in den Proben enthaltenen Wirkstoffe Zweitberechnungen durchgeführt. Bei diesen Zweitberechnungen bleiben generell die Ergebnisdaten von allen Laboratorien unberücksichtigt, deren Ergebnisse um mehr als 5 Zielstandardabweichungen (5 Z-Scores) vom Median des Analyten abweichen.
A7: Darüber hinaus bleiben bei allen Parametern zusätzlich alle Ergebnisse unberücksichtigt, die um mehr als 50 % vom Median abweichen und bei denen gleichzeitig der Betrag des Z-Score größer als 3 ist. Diese Regelung greift bei allen Parametern mit Analytgehalten unter 23 mg/kg.

Sheet Ergebnisangabe
A1: Hinweise zum Erfassen und Einsenden der Untersuchungsergebnisse
A2: Zur Bestimmung der Parameter sollen zwei vollständig getrennte Analysengänge durch¬geführt werden. Verwenden Sie für die Analysengänge 1 und 2 Probenmaterial aus verschiedenen Probeneinheiten.
A3: Benutzen Sie für die Ergebnisübermittlung diese vordefinierte Tabelle im Excelformat. Die Tabelle steht auch auf unserer Homepage (www.lvus.de) im Bereich „Download“ bereit.
A4: Geben Sie im Register "Kontakt" den Namen, die eMail-Adresse sowie die Telefonnummer der Kontaktperson an, die wir bei Fragen kontaktieren können. Nach Fertigstellung des Protokolls wird ausschließlich an die dort angegebenen eMail-Adressen vorab ein Passwort-freies Protokoll im PDF-Format gesendet.
A5: Tragen Sie im Register „Ergebnisse“ unbedingt Ihre Kundennummer und Ihre Postleitzahl ein, da darüber die Identifizierung des Einsenders erfolgt. In die beiden Datenfelder „Kundennummer“ und „Postleitzahl“ dürfen nur Ziffern eingegeben werden.
A6: Die Felder zur Eingabe Ihrer Ergebnisdaten sind nicht mit einer festen Nachkommazahl vordefiniert, um keine Hinweise auf eventuelle Gehalte von Parametern zu geben.
A7: Beachten Sie die Hinweise zu den gültigen (signifikanten) Ziffern bei den Parametern. Die Anzahl der Ziffern ist so zu wählen, dass beide Ergebnisse nur im Ausnahmefall aus iden¬tischen Ziffernfolgen bestehen. In einigen Fällen, z.B. bei Gehalten um 10 %, ist die Vorgabe gültiger Stellen schwierig: Die Ergebnisse „10,16% und 9,94% sind vergleichbar, nicht aber „10,2%“ und „9,94%“. Die Angabe einer zusätzlichen gültigen Stelle ist hier angebracht.
A8: Über Auswahlfelder sind gängige Untersuchungsverfahren bereits vordefiniert, um das Ausfüllen bei den Untersuchungsverfahren zu erleichtern. Sollten Sie ein nicht aufgeführtes Verfahren anwenden, wählen Sie „sonstiges“ aus und tragen Ihr Verfahren dann ein. Sofern weitere Informationen zur Auswertung nötig sind, werden auch gängige Verfahrensprinzipien und/oder Bezugsquellen kommerziell vertriebener Testsätze in ähnlicher Weise vordefiniert.
A9: In zahlreichen Fällen wird auch nachgefragt, ob Sie streng nach der Vorschrift gemäß § 64 LFGB arbeiten. Streng bedeutet, dass Sie ohne prüfrelevante Abweichungen arbeiten. Sollte die Abweichung lediglich die untersuchte Matrix sein (z.B. Ketchup anstelle von Brühwurst), dann soll dies nicht als Modifikation gekennzeichnet werden.
A10: Da Ihre eMail automatisch weiterverarbeitet wird, dürfen nur innerhalb der Exceltabelle in vordefinierten Bereichen Kommentare oder Hinweise zu den Proben und durchgeführten Untersuchungen enthalten sein (z.B. im Register „Mitteilungen“).
A11: Senden Sie uns die vollständig ausgefüllte Ergebnisdatei als Anlage im aktuellen Excelformat (Datei-Endung ".xlsx") oder im Format von Excel 2000 (Datei-Endung ".xls") per eMail an die Adresse „ergebnisse@lvus.de“. Ihre eMail darf nur eine einzige Anlage enthalten. eingesendete Tabellen verarbeiten.
A12: Nach dem Eingang in unserer Mailbox "ergebnisse@lvus.de" erhalten Sie automatisch eine Benachrichtigung/Bestätigung über den Eingang Ihrer eMail.
... A15: Senden Sie elektronisch mitgeteilte Ergebnisse nicht noch zusätzlich per Post oder Telefax.

Sheet Kontakt
A1: Kontaktperson | C1: Contact person
A2: Name | C2: Name
A3: eMail | C3: eMail-Address
A4: Telefon (inklusive Vorwahl): | C4: telefone (including country and area code)
A6: Bitte geben Sie den Namen, eMail-Adresse und die Telefonnummer der Person an, die wir bei Rückfragen kontaktieren können. An die aufgeführte eMailadresse wird das Protokoll zusätzlich auch als Passwort-freie PDF-Datei gesendet.
A8: Type in name, e-mail address and telefone number of the person we can contact in case of any questions, please. In addition to a printed version we will send a PDF-document (passwort-free) of the report to this e-mail address.
A10: Falls die Auswertung zusätzlich noch an eine zweite Adresse gesendet werden soll, geben Sie die zweite Adresse getrennt durch ein Semikolon mit nachfolgendem Leerzeichen ein.
A11: In case the PDF-document of the report should be sent to a second e-mail address seperate both e-mail addresses by typing in a semicolon followed by a blank.
A12: Beispiel für die Eingabe von 2 eMail-Adressen: Example how to type in 2 different e-mail addresses: | C12: info@lvus.de; ergebnisse@lvus.de
A15: eMail-Kontrolle: | C15: check of the e-Mail address
A16: Ergebnis der Überprüfung: | B16: =IF(ISBLANK(B15),"",IF(B3=B15,"Kontrolle erfolgreich - check ok","FEHLER - ERROR")) | C16: result of the control
B17: =IF(ISBLANK(B15),"",IF(ISERROR(FIND("@",B15,1)),"keine gültige eMail-Adresse",IF((VALUE(FIND("@",B15,1))>1),"","keine gültige eMail-Adresse!")))
B18: =IF(ISBLANK(B15),"",IF(ISERROR(FIND("@",B15,1)),"no valid eMail-adress",IF((VALUE(FIND("@",B15,1))>1),"","no valid eMail-address!")))
B19: =IF(ISBLANK(B15),"",IF(ISERROR(FIND("; ",B15,1)),"",IF((VALUE(FIND("; ",B15,1))>8),"","Achtung - die zweite eMail-Adresse wurde nicht korrekt eingegeben")))

Sheet Teilnehmerdaten
A1: Kundennummer | B1: =IF(ISNUMBER(VALUE(Ergebnisse!G1)),IF(VALUE(Ergebnisse!G1)>0,VALUE(Ergebnisse!G1),""),"") | D1: Umformung
A2: Postleitzahl | B2: =IF(ISNUMBER(VALUE(Ergebnisse!G2)),IF(VALUE(Ergebnisse!G2)>0,VALUE(Ergebnisse!G2),""),"")
A3: Produkt | B3: 43 | D3: Auswahl
A4: Jahrgang | B4: =YEAR(Ergebnisse!E5) -> 2020 | D4: 2
A5: Update | B5: =D8 -> N | D5: =IF(D4=2,"N","J") -> N | F5: 1 | G5: ja / yes
A6: Teilnahmen | B6: =Ergebnisse!G3 -> 1 | F6: 2 | G6: nein / no
A7: Deadline | B7: =Ergebnisse!E5 -> 44171
A8: Parameterzahl | B8: 8 | D8: =LEFT(D5,1) -> N
A9: Bestimmungen je Parameter | B9: 2
A10: Parameter 1 | B10: =Ergebnisse!A19 -> Gesamtasche | C10: =Ergebnisse!B19 -> g/100 g Probe1
A11: Parameter 2 | B11: =Ergebnisse!A20 -> Säureunlösliche Asche | C11: =Ergebnisse!B20 -> g/100 g Probe1
A12: Parameter 3 | B12: =Ergebnisse!A21 -> Wasser | C12: =Ergebnisse!B21 -> g/100 g Probe1
A13: Parameter 4 | B13: =Ergebnisse!A22 -> Ätherisches Öl | C13: =Ergebnisse!B22 -> mL/100 g Probe1
A14: Parameter 5 | B14: =Ergebnisse!A23 -> Linalool | C14: =Ergebnisse!B23 -> mg/100 g Probe1
A15: Parameter 6 | B15: =Ergebnisse!A24 -> Estragol | C15: =Ergebnisse!B24 -> mg/100 g Probe1
A16: Parameter 7 | B16: =Ergebnisse!A25 -> Eugenol | C16: =Ergebnisse!B25 -> mg/100 g Probe1
A17: Parameter 8 | B17: =Ergebnisse!A26 -> Methyleugenol | C17: =Ergebnisse!B26 -> mg/100 g Probe1

Sheet Ergebnisse
A1: Ergebnisdatenblatt | E1: Kunden-Nr.
A2: Kräuter/Gewürze | E2: Postleitzahl
E3: interne Teilnahme: | G3: 1
A4: Einsendeadresse: | B4: ergebnisse@lvus.de | F4: =IF(ISBLANK(G1),"",IF(ISNUMBER(VALUE(G1)),"","Bitte nur Ziffern eingeben (numbers only)")) | G4: V.1
A5: Annahmeschluss/Deadline: | E5: 44171 | F5: =IF(ISBLANK(G2),"",IF(ISNUMBER(VALUE(G2)),"","Bitte nur Ziffern eingeben (numbers only)"))
A7: Schreiben Sie Ihre Daten in die farblich hinterlegten Felder. Geben Sie Ihre Ergebnisse in den aufgeführten Einheiten an. Write your data into the coloured cells. Give your results in the units of column 2.
A8: Geben Sie Gehalte über 0,010 g/100 g mit den in Spalte 3 aufgeführten signifikanten Stellen an. Beispiele hierzu sind in "Hinweise1" enthalten. Report results higher than 0,010 g/100 g with in column 3 shown significant numbers (there are some examples in sheet "hints1" .
A9: In einigen Fällen, z.B. bei Gehalten um 1 % oder 10 %, ist die Vorgabe gültiger Stellen schwierig: Die Ergebnisse „1,06% und 0,98% sind vergleichbar, nicht aber „1,1 %“ und „0,98%“. Die Angabe einer zusätzlichen gültigen Stelle beim Beispielwert 1,06 ist hier angebracht.
A10: Sollte ein Inhaltsstoff nicht bestimmbar sein, so teilen Sie uns bitte den Wert Ihrer Bestimmungsgrenze mit vorangestelltem "< “ mit. In cases a parameter is not detectable, report your limit of quantification with "< " in front of the value.
A11: Falls Sie einen Parameter nicht bearbeiten, lassen Sie die zugehörigen Ergebnisdatenfelder bitte leer. If you are not analysing parameters in your laboratory do not write anything into the corresponding fields for the results.
A12: Zur Beschreibung des Analysenverfahrens verwenden Sie bitte die im unteren Teil dieses Datenblatts enthaltenen Auswahlfelder. To describe your method use the Pulldown-menus following after the result area.
A13: =IF(OR(ISBLANK(G1),ISBLANK(G2)),"Die Tabelle ist so nicht versandfertig. Es fehlen noch Eingaben bei Kunden-Nr. und/oder Postleitzahl.","Wichtig: Sind Ihre Eingaben bei Kunden-Nr. und Postleitzahl korrekt?") -> Die Tabelle ist so nicht versandfertig. Es fehlen noch Eingaben bei Kunden-Nr. und/oder Postleitzahl.
A14: =IF(OR(ISBLANK(G1),ISBLANK(G2)),"Nur wenn diese beiden Felder ausgefüllt sind, kann der Absender dieser Tabelle korrekt identifiziert werden.","") -> Nur wenn diese beiden Felder ausgefüllt sind, kann der Absender dieser Tabelle korrekt identifiziert werden.
A15: Tabelle wurde bereits einmal erfolgreich gesendet, es handelt sich um eine Aktualisierung: This table was sent before, successfully. It is an update:
A17: Parameter | B17: Einheit | C17: Signifikante Stellen | D17: Analysen- gang 1 | E17: Analysen- gang 2 | F17: Verfahren / Literatur | G17: Temperatur-bereich
A19: Gesamtasche | B19: g/100 g Probe1 | C19: 3 | F19: =Gesamtasche!B1 -> 16 | G19: =Gesamtasche!B30 -> 11 | H19: =Gesamtasche!$C$1 -> 15 | I19: =Gesamtasche!C30 -> 10
A20: Säureunlösliche Asche | B20: g/100 g Probe1 | C20: 3 | F20: ='Säureunlösliche Asche'!B1 -> 11 | H20: ='Säureunlösliche Asche'!$C$1 -> 10
A21: Wasser | B21: g/100 g Probe1 | C21: 3 | F21: =Wasser!$B$1 -> 25 | H21: =Wasser!$C$1 -> 24
A22: Ätherisches Öl | B22: mL/100 g Probe1 | C22: 3 | F22: =Etherisches_OeL!B1 -> 15 | H22: =Etherisches_OeL!C1 -> 14
A23: Linalool | B23: mg/100 g Probe1 | C23: 3 | F23: =Linalool!D2 -> 5 | H23: =Linalool!$C$1 -> 4
A24: Estragol | B24: mg/100 g Probe1 | C24: 3 | F24: =Linalool!E2 -> 5 | H24: =Linalool!$C$1 -> 4
A25: Eugenol | B25: mg/100 g Probe1 | C25: 3 | F25: =Linalool!F2 -> 5 | H25: =Linalool!$C$1 -> 4
A26: Methyleugenol | B26: mg/100 g Probe1 | C26: 3 | F26: =Linalool!G2 -> 5 | H26: =Linalool!$C$1 -> 4
B27: 1 Probe = sample 2 TM = Trockenmasse - dry mass
A29: Beschreibung der verwendeten Analysenverfahren
A30: =A19 -> Gesamtasche | I30: =ISBLANK(VLOOKUP(F19,Gesamtasche!A3:C18,3)) -> TRUE
A31: Veraschungstemperaturbereich
A32: =IF(F19=H19,"bitte eingeben:",IF(I30,"","Art der Modifikation:"))
A33: =A20 -> Säureunlösliche Asche | I33: =ISBLANK(VLOOKUP(F20,'Säureunlösliche Asche'!A3:C13,3)) -> TRUE
A34: =IF(F20=H20,"bitte eingeben:",IF(I33,"","Art der Modifikation:"))
A35: =A21 -> Wasser | I35: =ISBLANK(VLOOKUP(F21,Wasser!A3:C27,3)) -> TRUE
A36: =IF(F21=H21,"bitte eingeben:",IF(I35,"","Art der Modifikation:"))
A37: =A22 -> Ätherisches Öl | I37: =ISBLANK(VLOOKUP(F22,Etherisches_OeL!A3:C17,3)) -> TRUE
A38: =IF(F22=H22,"bitte eingeben:",IF(I37,"","Art der Modifikation:"))
A39: Linalool | I39: =ISBLANK(VLOOKUP(F23,Linalool!A3:C7,3)) -> TRUE
A40: =IF(F23=H23,"bitte eingeben:",IF(I39,"","Art der Modifikation:"))
A41: Estragol | I41: =ISBLANK(VLOOKUP(F24,Linalool!A3:C7,3)) -> TRUE
A42: =IF(F24=H24,"bitte eingeben:",IF(I41,"","Art der Modifikation:"))
A43: Eugenol | I43: =ISBLANK(VLOOKUP(F25,Linalool!A3:C7,3)) -> TRUE
A44: =IF(F25=H25,"bitte eingeben:",IF(I43,"","Art der Modifikation:"))
A45: Methyleugenol | I45: =ISBLANK(VLOOKUP(F26,Linalool!A3:C7,3)) -> TRUE
A46: =IF(F26=H26,"bitte eingeben:",IF(I45,"","Art der Modifikation:"))

Sheet Mitteilungen
A1: Nachfolgend können Sie uns ergänzende Hinweise geben oder wichtige Beobachtungen mitteilen. | H1: =COUNTA(A2:G38) -> 0

Sheet Gesamtasche
A1: Asche | B1: 16 | C1: =MAX($A$3:$A$18)-1 -> 15
A2: Methode | B2: Bezeichnung des Analysenverfahrens | C2: Anzahl
A3: 1 | B3: § 64 LFGB Nr. L 53.00-4 (DIN 10223)
A4: 2 | B4: § 64 LFGB Nr. L 53.00-4 (DIN 10223), modifiziert | C4: x
A5: 3 | B5: § 64 LFGB Nr. L 47.00-3 (DIN 10802: 1989)
A6: 4 | B6: § 64 LFGB Nr. L 47.00-3 (DIN 10802: 1989), modifiziert | C6: x
A7: 5 | B7: § 64 LFGB Nr. L 06.00-4
A8: 6 | B8: § 64 LFGB Nr. L 06.00-4, modifiziert | C8: x
A9: 7 | B9: § 64 LFGB Nr. L 17.00-3
A10: 8 | B10: § 64 LFGB Nr. L 17.00-3, modifiziert | C10: x
A11: 9 | B11: Veraschung im angegebenen Temperaturbereich
A12: 10 | B12: ISO 1575:1996
A13: 11 | B13: DIN 10802/ISO 1575-1987
A14: 12 | B14: TS 1564
A15: 13 | B15: ISO 928:2001
A16: 14 | B16: ISO 928:1999
A17: 15 | B17: Sonstiges
A18: 16
A30: Veraschungstemperatur | B30: 11 | C30: =MAX($A$31:$A$41)-1 -> 10
A31: 1 | B31: < 525 °C
A32: 2 | B32: 525 °C - 575 °C
A33: 3 | B33: 575 °C - 625 °C
A34: 4 | B34: 625 °C - 675 °C
A35: 5 | B35: 675 °C - 725 °C
A36: 6 | B36: 725 °C - 775 °C
A37: 7 | B37: 775 °C - 825 °C
A38: 8 | B38: 825 °C - 875 °C
A39: 9 | B39: 875 °C - 925 °C
A40: 10 | B40: > 925 °C
A41: 11

Sheet Säureunlösliche Asche
A1: Sreunl. Asche | B1: 11 | C1: =MAX($A$3:$A$13)-1 -> 10
A2: Methode | B2: Bezeichnung des Analysenverfahrens | C2: Anzahl
A3: 1 | B3: § 64 LFGB Nr. L 53.00-4 (DIN 10223)
A4: 2 | B4: § 64 LFGB Nr. L 53.00-4 (DIN 10223), modifiziert | C4: x
A5: 3 | B5: § 64 LFGB Nr. L 47.00-5 (DIN 10805:1985)
A6: 4 | B6: § 64 LFGB Nr. L 47.00-5 (DIN 10805:1985), modifiziert | C6: x
A7: 5 | B7: ISO 1577:1996
A8: 6 | B8: DIN 10805/ISO 1577-1987
A9: 7 | B9: ISO 930:2001
A10: 8 | B10: In den Aschetigel werden 25 ml Salzsäure (15%) gegeben, mit einem Uhrglas bedeckt und 15 Minuten auf dem siedenden Wasserbad erhitzt. Der Rückstand wird durch ein aschefreies Faltenfilter abfiltriert und mit dest. Wasser gewaschen bis das Filter neutral reagiert (ca. 500 ml). Die Porzelannschale und Filter werden eine Stunde im Trockenschrank bei 105°C getrocknet und danach eine Stunde im Muffelofen bei 600°C geglüht. Die Porzellanschale wird für mindestens 20 Minuten im Exsikator abgekühlt und abgewogen.
A11: 9 | B11: ISO 930:1999
A12: 10 | B12: sonstiges
A13: 11

Sheet Wasser
A1: Wasser | B1: 25 | C1: =MAX($A$3:$A$27)-1 -> 24
A2: Methode | B2: Bezeichnung des Analysenverfahrens | C2: Anzahl
A3: 1 | B3: § 64 LFGB Nr. L 53.00-8:2004 (DIN 10229:2000)
A4: 2 | B4: § 64 LFGB Nr.L 53.00-8:2004 (DIN 10229:2000), modifiziert | C4: x
A5: 3 | B5: § 64 LFGB Nr. L 47.00-1 (DIN 10800: 1992)
A6: 4 | B6: § 64 LFGB Nr. L 47.00-1 (DIN 10800: 1992), modifiziert | C6: x
A7: 5 | B7: § 64 LFGB Nr. L 47.00-2 (DIN 10806: 1992)
A8: 6 | B8: § 64 LFGB Nr. L 47.00-2 (DIN 10806: 1992), modifiziert | C8: x
A9: 7 | B9: § 64 LFGB Nr. L 06.00-3
A10: 8 | B10: § 64 LFGB Nr. L 06.00-3, modifiziert | C10: x
A11: 9 | B11: Trocknung bei 103 °C ± 2 °C
A12: 10 | B12: Trocknung bei 103 °C ± 2 °C mit Seesand
A13: 11 | B13: LECO TGA 701
A14: 12 | B14: ISO 939 1980-05
A15: 13 | B15: Ph.Eur.7.0, 2.2.13
A16: 14 | B16: SLMB 1048.1
A17: 15 | B17: Karl-Fischer-Methode
A18: 16 | B18: ASTA 2.1
A19: 17 | B19: Trocknung bei 95°C in Satorius Moisture Analyzer MA 50
A20: 18 | B20: DIN EN ISO 939:2009, mod. (Entwurf, zurückgezogenes Dokument)
A21: 19 | B21: §64 LFGB L 52.01.01-1, auch modifiziert
A22: 20 | B22: ISO 939 (Entwurf), auch modifiziert
... A26: 24 | B26: sonstiges
A27: 25

Sheet Etherisches_OeL
A1: Etherisches Öl | B1: 15 | C1: =MAX($A$3:$A$36)-1 -> 14
A2: Methode | B2: Bezeichnung des Analysenverfahrens | C2: Anzahl
A3: 1 | B3: § 64 LFGB Nr. L 53.00-10:2010 (DIN 6571:2009)
A4: 2 | B4: § 64 LFGB Nr.L 53.00-10:2010 (DIN 6571:2009), modifiziert | C4: x
A5: 3 | B5: Ph.Eur.7.0 2.8.12
A6: 4 | B6: nach Diemair Beythien: Destillation mit Neo-Clevenger-Apparatur
A7: 5 | B7: § 64 LFGB Nr. L 53.00-5 (DIN 10228), auch modifiziert
A8: 6 | B8: Ph. Eur. 8, 2014
A9: 7 | B9: Wasserdampfdestillation
A10: 8 | B10: Clevenger Apparatur
A11: 9 | B11: EN ISO 6571:2012
A12: 10 | B12: Einwaage: 10 g Probe in 500ml Kolben, Destillationsdauer: 2h, Methode nach DAB10
A13: 11 | B13: DIN EN ISO 6571: 2018-03
A14: 12 | B14: Ph.Eur. 9.0, 2.8.12
A15: 13 | B15: Diffusionsmethode
A16: 14 | B16: Sonstiges
A17: 15

Sheet Curcumin
A1: Cumarin | B1: 8 | C1: =MAX($A$3:$A$31)-1 -> 9
A2: Methode | B2: Bezeichnung des Analysenverfahrens | C2: Anzahl
A3: 1 | B3: § 64 LFGB Nr. L 53.03.01-1
A4: 2 | B4: § 64 LFGB Nr. L 53.03.01-1, modifiziert | C4: x
A5: 3 | B5: § 64 LFGB Nr. L 00.00-134
A6: 4 | B6: § 64 LFGB Nr. L 00.00-134, modifiziert | C6: x
A7: 5 | B7: HPLC-Verfahren (UV- oder DAD-Detektion)
A8: 6 | B8: HPLC-Verfahren (MS- oder MS/MS-Detektion)
A9: 7 | B9: Ph. Eur. (diverse Ausgaben)
A10: 8 | B10: photometrisch, ASTA 18.0
A11: 9 | B11: Sonstiges/Other
A12: 10

Sheet Thymol
A1: Thymol | B1: 4 | C1: =MAX($A$3:$A$25)-1 -> 3
A2: Methode | B2: Bezeichnung des Analysenverfahrens | C2: Anzahl
A3: 1 | B3: Ph.Eur. 9.0, 2.2.28 (Gaschromatographie des ätherischen Öles (% Thymol), anschl. Berechnung über den Ölgehalt (ml/ 100 g) und die Dichte (mg/100 g)
A4: 2 | B4: GC nach Destillation ISO 6571
A5: 3 | B5: Bitte angeben/please report
A6: 4

Sheet Carvacrol
A1: Carvacrol | B1: 4 | C1: =MAX($A$5:$A$25)-1 -> 3
A2: Methode | B2: Bezeichnung des Analysenverfahrens | C2: Anzahl
A3: 1 | B3: Ph.Eur. 9.0, 2.2.28 (Gaschromatographie des ätherischen Öles (% Thymol), anschl. Berechnung über den Ölgehalt (ml/ 100 g) und die Dichte (mg/100 g)
A4: 2 | B4: GC nach Destillation ISO 6571
A5: 3 | B5: Bitte angeben/please report
A6: 4

Sheet Gingerol
A1: Gingerol | B1: 5 | C1: =MAX($A$3:$A$26)-1 -> 4
A2: Methode | B2: Bezeichnung des Analysenverfahrens | C2: Anzahl
A3: 1 | B3: HPLC-Verfahren (MS- oder MS/MS-Detektion)
A4: 2 | B4: Ph. Eur. (diverse Ausgaben)
A5: 3 | B5: INA-Methode 114.000 (HPLC-UV)
A6: 4 | B6: Sonstiges/Other
A7: 5

Sheet Linalool
A1: Cumarin | B1: 8 | C1: =MAX($A$3:$A$26)-1 -> 4 | D1: Linalool | E1: Estragol | F1: Estragol | G1: Methyleugenol
A2: Methode | B2: Bezeichnung des Analysenverfahrens | C2: Anzahl | D2: 5 | E2: 5 | F2: 5 | G2: 5
A3: 1 | B3: HPLC-Verfahren (UV- oder DAD-Detektion)
A4: 2 | B4: HPLC-Verfahren (MS- oder MS/MS-Detektion)
A5: 3 | B5: Ph. Eur. (diverse Ausgaben)
A6: 4 | B6: Sonstiges/Other
A7: 5
