Workbook
Name _ftn1: Hints1!#REF!
Name _ftn1: Hinweise1!#REF!
Name _ftn1: Hinweise3!$A$3
Name _ftnref1: Hints1!$A$3
Name _ftnref1: Hinweise1!$A$2
Name _ftnref1: Hinweise3!#REF!
Name Daten: #REF!
Name Elemente: [1]Parameter2!$B$3:$B$18
Name MBlei: #REF!
Name OLE_LINK1: Ergebnisangabe!$A$20
Name OLE_LINK1: Reporting!$A$20
Name OLE_LINK2: Reporting!$J$13
Name Parameter2: Benzoe_Sorbin!$B$15:$B$16
Name Parameter2: #REF!
Name Parameter2: #REF!
Name Parameter2: #REF!
Name Parameter2: #REF!
Name Parameter2alt: #REF!
Name test: [2]Parameter2!$B$3:$B$18
Name test: [2]Parameter2!$B$3:$B$18
Name test: [2]Parameter2!$B$3:$B$18
Name test: [3]Parameter2!$B$3:$B$18
Name test: [3]Parameter2!$B$3:$B$18
Name test: [4]Parameter2!$B$3:$B$18
Name test: [2]Parameter2!$B$3:$B$18
Name test: [1]Parameter2!$B$3:$B$18
Name test: [5]Parameter2!$B$3:$B$18

Sheet Hints1
A1: References to the result transmission and to the indication of result (Deadline see "Ergebnisse")
A2: Before analysing the samples, homogenize the samples again, please. After homogenisation You should analyse both samples with your standard procedures.
A3: Use this file for your result transmissions, please. Fill for this in the file yellow fields deposited out and send back the file afterwards by email to “ergebnisse@lvus.de”. It is important that for the clear allocation of the results to your laboratory in the table "Ergebnisse" (results) your client number and your postal zip code must be entered (both numbers only).
A4: The result data must be given in in the units as described at every parameter. To the avoidance of deviations in the laboratory made roundness, You are asked with each parameter after the first number deviating from 0 to indicate still the listened further numbers (even if due to Your validating data this accuracy is not kept by your analysis procedure). ISO 13 528 4.6 recommends that individual measurement results schould not be rounded by more than sr/2.
A6: Examples for transmissions of results:
A7: It a test material the element "Mg" was quantified. You are asked to report 3 significant numbers. The following computational contents are determined:
A9: Computed Value [mg/kg] | B9: Transmission of result [mg/kg]
A10: 1379 | B10: 1380
A11: 179.34 | B11: 179
A12: 80.12 | B12: 80.1
A13: 7.8 | B13: 7.8

Sheet Reporting

Sheet Hinweise1
A1: Hinweise zur Ergebnisübermittlung und zur Ergebnisangabe
A2: Bitte verwenden Sie diese Datei für Ihre Ergebnisübermittlung. Füllen Sie hierzu alle in der Tabelle "Ergebnisse" gelb hinterlegten Felder aus bzw. wählen Sie Ihre Angaben zu den von Ihnen verwendeten Methoden über die vorhandenen Auswahlfenster aus.
A3: Die ausgefüllte Exceltabelle muss per eMail als Anlage bis spätestens zur Deadline an eine der beiden Adressen ergebnisse@lvus.de oder results@lvus.de gesendet werden. Bitte beachten Sie, dass Ihre eMail nur die Exceltabelle als Anlage enthalten darf. Ausser Ihrem Absender soll die eigentliche eMail keine weiteren Daten oder Texte enthalten, da alle an die Adressen ergebnisse@lvus.de oder results@lvus.de gesendeten eMails automatisch ausgelesen werden.
A4: Nach der in der Tabelle "Ergebnisse" aufgeführten Deadline eingehende Ergebnisse werden bei der Auswertung nicht berücksichtigt.
A5: Es ist wichtig, dass Sie zur eindeutigen Zuordnung der Ergebnisse zu Ihrem Labor sowohl Ihre Kunden-Nr. als auch Ihre Postleitzahl (auf dem Anschreiben enthalten - nur Ziffern eingeben) eingeben. Über eine bei der Auswertung durchgeführte Plausibilitätsprüfung soll erkannt werden, ob Tippfehler vorliegen und dadurch die Daten einem anderen Teilnehmer zugeordnet werden könnten.
A6: Interne Teilnahme: Diesen Wert bitte nur ändern, falls Sie für Ihr Haus mehrere getrennte und damit kostenpflichtige Teilnahmen gebucht haben. Über diesen Wert werden die unter einer Kundennummer geführten Teilnahmen getrennt erfasst und die Ergebnisse anschließend der Auswertung zugeführt. Entscheiden Sie, welcher Ihrer Laborbereiche unter der Teilnahme 1 oder 2 registirert und ausgewertet werden soll.
A7: Die Ergebnisangaben müssen in der/den vorgegebenen Maßeinheiten erfolgen - Ihre Angaben werden ohne Änderungen zur Auswertung verwendet! Zur Vermeidung von Abweichungen durch bereits im Labor vorgenommene Rundungen werden Sie gebeten, bei jedem Parameter eine bestimmte Anzahl signifikanter Ziffern anzugeben (auch wenn auf Grund Ihrer Validierungsdaten diese Genauigkeit von Ihrem Analysenverfahren nicht eingehalten wird). Nach ISO 13528 Abschnitt 4.6 sollen Ergebnisse nicht stärker gerundet werden als dem halben Betrag der Wiederholstandardabweichung entspricht.
A8: Beispiele zur Ergebnisangabe: In einer Probe wurde der Gehalt von Mangan bestimmt. Es werden folgende rechnerischen Gehalte ermittelt:
A9: Beispielhafter Wert [mg/kg] | B9: Ergebnisangabe mit 3 signifikanten Ziffern [mg/kg]
A10: 1379 | B10: 1380
A11: 179.34 | B11: 179
A12: 80.12 | B12: 80.1
A13: 7.8 | B13: 7.8
A15: Verfahren sowie Literaturangaben, die von Teilnehmern bei bereits durchgeführten Laborvergleichsuntersuchungen angewendet wurden, sind in Auswahlfenstern vorbelegt, um Ihnen das Ausfüllen zu erleichtern. Über diese Auswahlfenster wählen Sie bitte diejenigen Einträge aus, die bei den von Ihnen angewandten Verfahren zutreffend sind. Ist kein zutreffender Eintrag vorhanden, so wählen Sie bitte den Eintrag "sonstiges.." aus. Tragen Sie dann in der nächsten Zeile (wird gelb hervorgehoben) die auf Ihr Verfahren zutreffende Beschreibung ein.
A16: Geben Sie in der Tabelle "Kontakt" den Namen, die eMail-Adresse sowie die Telefonnummer der Kontaktperson an, die wir bei Fragen kontaktieren können. Nach Fertigstellung der Auswertung soll an die angegebene eMail-Adresse zusätzlich zur gedruckten Auswertung auch eine Passwort-freie Auswertedatei im PDF-Format gesendet werden.
A17: Sollten Sie uns ergänzende Hinweise/Beobachtungen mitteilen wollen, so verwenden Sie hierfür den vorgesehenen Bereich innerhalb der Tabelle "Mitteilungen".
A18: Da Ihre eMail automatisch weiterverarbeitet wird, dürfen nur in der Exceltabelle Kommentare oder Hinweise zu den Proben und durchgeführten Untersuchungen enthalten sein. Außerdem darf Ihre eMail nur eine einzige Anlage enthalten. Sie erhalten automatisch eine Benachrichtigung über den Eingang Ihrer Ergebnisse.

Sheet Hinweise2
A1: Erläuterungen zur Weiterverarbeitung Ihrer Daten
A2: Diese Tabellen wurden so aufgebaut, dass die Daten automatisiert in unser Auswerteprogramm übernommen werden können. Die Tabellen dürfen daher keinesfalls im Aufbau verändert werden, da dann ein automatisiertes Auslesen der mitgeteilten Daten nicht mehr möglich wäre.
A3: Aus diesem Grund wurden die Tabellen gegen Veränderungen geschützt. Eingaben oder auch die Auswahl von Eigenschaften sind nur an wenigen Stellen nötig. Diese Stellen sind gelb hinterlegt.
A4: Da das Ausführen von Macros eine potentielle Gefährdung von Computersystemen bedeuten kann, gehen wir davon aus, dass ausführbare Macros in zahlreichen Fällen von den entsprechenden System-Administratoren unterdrückt werden. Deshalb wurde auf die Verwendung von Macros bei der Erstellung der Tabellen zur Ergebniserfassung komplett verzichtet, obwohl damit ein komfortableres Arbeiten möglich wäre.
A5: Beim Eingang Ihrer eMail wird diese von unserem System automatisch weiterverarbeitet, wobei einige Plausibilitäten (z.B. Vollständigkeit der Absenderangabe oder Kennzeichnung als Update bei erneuter Dateneinsendung) überprüft werden. Im Anschluss an diese Prüfung erhalten Sie automatisiert eine eMail-Antwort. Darin werden Sie darüber informiert, ob Ihre Daten prinzipiell weiterverarbeitet werden können oder ob benötigte Einträge fehlen und Sie Ihre Ergebnisse nach Ergänzung der fehlenden Angaben erneut einsenden sollen. Eine Prüfung auf Vollständigkeit von Ergebnisangaben (sind überhaupt Ergebnnisdaten vorhanden?) oder deren Angabe in den vorgegebenen Maßeinheiten wird zu diesem Zeitpunkt nicht vorgenommen.
A6: Sollten Sie noch vor dem Ende der Ergebnisannahme bemerken, dass in Ihrer Ergebnistabelle Fehler enthalten sind, so senden Sie einfach eine korrigierte Version an die Adresse ergebnisse@lvus.de. Kennzeichnen Sie in diesem Fall Ihre Tabelle als Aktualisierung, da ansonsten das System die Annahme der Daten zurückweist ("es sind ja bereits Daten von Ihnen vorhanden"). Ihre aktualiserte Ergebnistabelle muss vollständig ausgefüllt sein und insbesondere alle Ergebnisdaten der Vorversion enthalten, da bei einer Kennzeichung als Aktualiserung (Update) die zuvor eingesandte Ergebnistabelle durch die Aktualisierung vollständig ersetzt wird.
A7: Ihre Daten werden von uns wie mitgeteilt zur Auswertung verwendet. Selbst offensichtliche Fehler, wie - Tippfehler, - Übertragungsfehler in die Ergebniserfassungstabelle, - Angaben in einer anderen, von der Vorgabe abweichenden Maßeinheit werden zur Auswertung unverändert, also ohne Änderung übernommen und führen dann zu schlechten Bewertungen. Daher sollten Sie Ihre Eingaben sorgfältig durchführen und dabei insbesondere auch überprüfen, ob Ihre laborüblichen Maßeinheiten mit denen im Tabellenblatt übereinstimmen.
A8: Nach Ende der Frist zur Ergebnisabgabe sind Korrekturen nur noch möglich, falls die Auswertung der Daten noch nicht erfolgt ist. Korrekturen von fehlerhaften Teilnehmerangaben werden nach der Auswertung und insbesondere nach Veröffentlichung des Protokolls nicht mehr durchgeführt.

Sheet Hinweise3
A1: Hinweise zur Auswertung
A2: Die Beurteilung der Laborergebnisse erfolgt durch Z-Scores, die möglichst über die Vergleichsstandardabweichung des jeweiligen Standardverfahrens aus der Amtlichen Sammlung nach § 64 LFGB berechnet werden. Zusätzlich werden Z-Scores über die nach der Horwitz- funktion ermittelte Zielstandardabweichung für den jeweiligen Analyten berechnet.
A3: Mit abnehmenden Gehalten von Analyten in der Probe steigt die über die Horwitzfunktion berechnete Zielstandardabweichung stark an. So beträgt z.B. die relative Standardabweichung nach Horwitz 10 % bei einem Analytgehalt von 23 mg/kg und bereits 22,6 % bei einem Analytgehalt von 100 µg/kg.
A4: Zur Vermeidung zu „breiter“ Beurteilungszonen wird deshalb bei der Auswertung bei allen Parametern der Wert der Zielstandardabweichung auf maximal 22 % vom Wert des Medians beschränkt.
A5: Zunächst werden alle mitgeteilten Laborergebnisse berücksichtigt und die darüber berechneten statistischen Kenndaten für die Parameter aufgeführt.
A6: Zur Ermittlung der endgültigen statistischen Kenndaten werden bei allen in den Proben enthaltenen Wirkstoffe Zweitberechnungen durchgeführt. Bei diesen Zweitberechnungen bleiben generell die Ergebnisdaten von allen Laboratorien unberücksichtigt, deren Ergebnisse um mehr als 5 Zielstandardabweichungen (5 Z-Scores) vom Median des Analyten abweichen.
A7: Darüber hinaus bleiben bei allen Parametern zusätzlich alle Ergebnisse unberücksichtigt, die um mehr als 50 % vom Median abweichen und bei denen gleichzeitig der Betrag des Z-Score größer als 3 ist. Diese Regelung greift bei allen Parametern mit Analytgehalten unter 23 mg/kg.

Sheet Ergebnisangabe
A1: Hinweise zum Erfassen und Einsenden der Untersuchungsergebnisse
A2: Zur Bestimmung der Parameter sollen zwei vollständig getrennte Analysengänge durch¬geführt werden. Verwenden Sie für die Analysengänge 1 und 2 Probenmaterial aus verschiedenen Probeneinheiten.
A3: Benutzen Sie für die Ergebnisübermittlung diese vordefinierte Tabelle im Excelformat. Die Tabelle steht auch auf unserer Homepage (www.lvus.de) im Bereich „Download“ bereit.
A4: Geben Sie im Register "Kontakt" den Namen, die eMail-Adresse sowie die Telefonnummer der Kontaktperson an, die wir bei Fragen kontaktieren können. Nach Fertigstellung des Protokolls wird ausschließlich an die dort angegebenen eMail-Adressen vorab ein Passwort-freies Protokoll im PDF-Format gesendet.
A5: Tragen Sie im Register „Ergebnisse“ unbedingt Ihre Kundennummer und Ihre Postleitzahl ein, da darüber die Identifizierung des Einsenders erfolgt. In die beiden Datenfelder „Kundennummer“ und „Postleitzahl“ dürfen nur Ziffern eingegeben werden.
A6: Die Felder zur Eingabe Ihrer Ergebnisdaten sind nicht mit einer festen Nachkommazahl vordefiniert, um keine Hinweise auf eventuelle Gehalte von Parametern zu geben.
A7: Beachten Sie die Hinweise zu den gültigen (signifikanten) Ziffern bei den Parametern. Die Anzahl der Ziffern ist so zu wählen, dass beide Ergebnisse nur im Ausnahmefall aus iden¬tischen Ziffernfolgen bestehen. In einigen Fällen, z.B. bei Gehalten um 10 %, ist die Vorgabe gültiger Stellen schwierig: Die Ergebnisse „10,16% und 9,94% sind vergleichbar, nicht aber „10,2%“ und „9,94%“. Die Angabe einer zusätzlichen gültigen Stelle ist hier angebracht.
A8: Über Auswahlfelder sind gängige Untersuchungsverfahren bereits vordefiniert, um das Ausfüllen bei den Untersuchungsverfahren zu erleichtern. Sollten Sie ein nicht aufgeführtes Verfahren anwenden, wählen Sie „sonstiges“ aus und tragen Ihr Verfahren dann ein. Sofern weitere Informationen zur Auswertung nötig sind, werden auch gängige Verfahrensprinzipien und/oder Bezugsquellen kommerziell vertriebener Testsätze in ähnlicher Weise vordefiniert.
A9: In zahlreichen Fällen wird auch nachgefragt, ob Sie streng nach der Vorschrift gemäß § 64 LFGB arbeiten. Streng bedeutet, dass Sie ohne prüfrelevante Abweichungen arbeiten. Sollte die Abweichung lediglich die untersuchte Matrix sein (z.B. Ketchup anstelle von Brühwurst), dann soll dies nicht als Modifikation gekennzeichnet werden.
A10: Da Ihre eMail automatisch weiterverarbeitet wird, dürfen nur innerhalb der Exceltabelle in vordefinierten Bereichen Kommentare oder Hinweise zu den Proben und durchgeführten Untersuchungen enthalten sein (z.B. im Register „Mitteilungen“).
A11: Senden Sie uns die vollständig ausgefüllte Ergebnisdatei als Anlage im aktuellen Excelformat (Datei-Endung ".xlsx") oder im Format von Excel 2000 (Datei-Endung ".xls") per eMail an die Adresse „ergebnisse@lvus.de“. Ihre eMail darf nur eine einzige Anlage enthalten. eingesendete Tabellen verarbeiten.
A12: Nach dem Eingang in unserer Mailbox "ergebnisse@lvus.de" erhalten Sie automatisch eine Benachrichtigung/Bestätigung über den Eingang Ihrer eMail.
... A15: Senden Sie elektronisch mitgeteilte Ergebnisse nicht noch zusätzlich per Post oder Telefax.

Sheet Kontakt
A1: Kontaktperson | C1: Contact person
A2: Name | C2: Name
A3: eMail | C3: eMail-Address
A4: Telefon (inklusive Vorwahl): | C4: telefone (including country and area code)
A6: Bitte geben Sie den Namen, eMail-Adresse und die Telefonnummer der Person an, die wir bei Rückfragen kontaktieren können. An die aufgeführte eMailadresse wird das Protokoll zusätzlich auch als Passwort-freie PDF-Datei gesendet.
A8: Type in name, e-mail address and telefone number of the person we can contact in case of any questions, please. In addition to a printed version we will send a PDF-document (passwort-free) of the report to this e-mail address.
A10: Falls die Auswertung zusätzlich noch an eine zweite Adresse gesendet werden soll, geben Sie die zweite Adresse getrennt durch ein Semikolon mit nachfolgendem Leerzeichen ein.
A11: In case the PDF-document of the report should be sent to a second e-mail address seperate both e-mail addresses by typing in a semicolon followed by a blank.
A12: Beispiel für die Eingabe von 2 eMail-Adressen: Example how to type in 2 different e-mail addresses: | C12: info@lvus.de; ergebnisse@lvus.de
A15: eMail-Kontrolle: | C15: check of the e-Mail address
A16: Ergebnis der Überprüfung: | B16: =IF(ISBLANK(B15),"",IF(B3=B15,"Kontrolle erfolgreich - check ok","FEHLER - ERROR")) | C16: result of the control
B17: =IF(ISBLANK(B15),"",IF(ISERROR(FIND("@",B15,1)),"keine gültige eMail-Adresse",IF((VALUE(FIND("@",B15,1))>1),"","keine gültige eMail-Adresse!")))
B18: =IF(ISBLANK(B15),"",IF(ISERROR(FIND("@",B15,1)),"no valid eMail-adress",IF((VALUE(FIND("@",B15,1))>1),"","no valid eMail-address!")))
B19: =IF(ISBLANK(B15),"",IF(ISERROR(FIND("; ",B15,1)),"",IF((VALUE(FIND("; ",B15,1))>8),"","Achtung - die zweite eMail-Adresse wurde nicht korrekt eingegeben")))

Sheet Teilnehmerdaten
A1: Kundennummer | B1: =IF(ISNUMBER(VALUE(Ergebnisse!G1)),IF(VALUE(Ergebnisse!G1)>0,VALUE(Ergebnisse!G1),""),"") | D1: Umformung
A2: Postleitzahl | B2: =IF(ISNUMBER(VALUE(Ergebnisse!G2)),IF(VALUE(Ergebnisse!G2)>0,VALUE(Ergebnisse!G2),""),"")
A3: Produkt | B3: 41 | D3: Auswahl
A4: Jahrgang | B4: 2020 | D4: 2
A5: Update | B5: =D8 -> N | D5: =IF(D4=2,"N","J") -> N | F5: 1 | G5: ja / yes
A6: Teilnahmen | B6: =Ergebnisse!G3 -> 1 | F6: 2 | G6: nein / no
A7: Deadline | B7: =Ergebnisse!E5 -> 44227
A8: Parameterzahl | B8: 22 | D8: =LEFT(D5,1) -> N
A9: Bestimmungen je Parameter | B9: 2
A10: Parameter 1 | B10: =Ergebnisse!A19 -> Fett | C10: =Ergebnisse!B19 -> g/100 g Probe
A11: Parameter 2 | B11: =Ergebnisse!A20 -> Halbmikrobuttersäurezahl (HBSZ) | C11: =Ergebnisse!B20 -> ohne
A12: Parameter 3 | B12: =Ergebnisse!A21 -> Milchfett, berechnet über HBSZ | C12: =Ergebnisse!B21 -> g/100 g Fett
A13: Parameter 4 | B13: =Ergebnisse!A22 -> Freie Buttersäure | C13: =Ergebnisse!B22 -> g/100 g Fett
A14: Parameter 5 | B14: =Ergebnisse!A23 -> Milchfett, berechnet über Buttersäure | C14: =Ergebnisse!B23 -> g/100 g Fett
A15: Parameter 6 | B15: =Ergebnisse!A24 -> Buttersäuremethylester | C15: =Ergebnisse!B24 -> g/100 g Fett
A16: Parameter 7 | B16: =Ergebnisse!A25 -> Milchfett, berechnet über Buttersäuremethylester | C16: =Ergebnisse!B25 -> g/100 g Fett
A17: Parameter 8 | B17: =Ergebnisse!A26 -> Pflanzliches Fremdfett | C17: =Ergebnisse!B26 -> g/100 g Fett
A18: Parameter 9 | B18: =Ergebnisse!A27 -> Saccharose, wasserfrei | C18: =Ergebnisse!B27 -> g/100 g Probe
A19: Parameter 10 | B19: =Ergebnisse!A28 -> Glucose, wasserfrei | C19: =Ergebnisse!B28 -> g/100 g Probe
A20: Parameter 11 | B20: =Ergebnisse!A29 -> Fructose, wasserfrei | C20: =Ergebnisse!B29 -> g/100 g Probe
A21: Parameter 12 | B21: =Ergebnisse!A30 -> L-Äpfelsäure | C21: =Ergebnisse!B30 -> mg/kg Probe
... A31: Parameter 22 | B31: =Ergebnisse!A40 -> 19 | C31: =Ergebnisse!B40 -> mg/kg

Sheet Ergebnisse
A1: Ergebnisdatenblatt | E1: Kunden-Nr.
A2: Speiseeis | E2: Postleitzahl
E3: interne Teilnahme: | G3: 1
A4: Einsendeadresse: | B4: ergebnisse@lvus.de | F4: =IF(ISBLANK(G1),"",IF(ISNUMBER(VALUE(G1)),"","Bitte nur Ziffern eingeben (numbers only)"))
A5: Annahmeschluss/Deadline: | E5: 44227 | F5: =IF(ISBLANK(G2),"",IF(ISNUMBER(VALUE(G2)),"","Bitte nur Ziffern eingeben (numbers only)"))
A7: Schreiben Sie Ihre Daten in die gelb hinterlegten Felder. Geben Sie Ihre Ergebnisse in den aufgeführten Einheiten an. Write your data into the yellow cells. Give your results in the units of column 2.
A8: Geben Sie Ihre Ergebnisse mit den in Spalte 3 aufgeführten signifikanten Stellen an. Beispiele hierzu sind in "Hinweise1" enthalten. Report your results with in column 3 shown significant numbers (there are some examples in sheet "hints1" .
A9: In einigen Fällen, z.B. bei Gehalten um 1 % oder 10 %, ist die Vorgabe gültiger Stellen schwierig: Die Ergebnisse „1,06% und 0,98% sind vergleichbar, nicht aber „1,1 %“ und „0,98%“. Die Angabe einer zusätzlichen gültigen Stelle beim Beispielwert 1,06 ist hier angebracht.
A10: Sollte ein Inhaltsstoff nicht bestimmbar sein, so teilen Sie uns bitte den Wert Ihrer Bestimmungsgrenze mit vorangestelltem "< “ mit. In cases you will not detect a parameter, report your limit of quantification with "< " in front of the value.
A11: Falls Sie einen Parameter nicht bearbeiten, lassen Sie die zugehörigen Ergebnisdatenfelder bitte leer. If you are not analysing parameters in your laboratory do not write anything into the corresponding fields for the results.
A12: Zur Beschreibung des Analysenverfahrens verwenden Sie bitte die im unteren Teil dieses Datenblatts enthaltenen Auswahlfelder. To describe your method use the Pulldown-menus following after the result area.
A13: =IF(OR(ISBLANK(G1),ISBLANK(G2)),"Die Tabelle ist so nicht versandfertig. Es fehlen noch Eingaben bei Kunden-Nr. und/oder Postleitzahl.","Wichtig: Sind Ihre Eingaben bei Kunden-Nr. und Postleitzahl korrekt?") -> Die Tabelle ist so nicht versandfertig. Es fehlen noch Eingaben bei Kunden-Nr. und/oder Postleitzahl.
A14: =IF(OR(ISBLANK(G1),ISBLANK(G2)),"Nur wenn diese beiden Felder ausgefüllt sind, kann der Absender dieser Tabelle korrekt identifiziert werden.","") -> Nur wenn diese beiden Felder ausgefüllt sind, kann der Absender dieser Tabelle korrekt identifiziert werden.
A15: Tabelle wurde bereits einmal erfolgreich gesendet, es handelt sich um eine Aktualisierung: This table was sent before, successfully. It is an update:
A17: Parameter | B17: Einheit | C17: Signifikante Stellen | D17: Analysen- gang 1 | E17: Analysen- gang 2 | F17: Verfahren / Extraktion
A19: Fett | B19: g/100 g Probe | C19: 3 | F19: =Fett!$B$1 -> 26 | H19: =Fett!$C$1 -> 25
A20: Halbmikrobuttersäurezahl (HBSZ) | B20: ohne | C20: 3 | F20: =HBSZ!B1 -> 4 | H20: =HBSZ!$C$1 -> 3
A21: Milchfett, berechnet über HBSZ | B21: g/100 g Fett | C21: 3
A22: Freie Buttersäure | B22: g/100 g Fett | C22: 3 | F22: =Buttersaeure!B1 -> 8 | H22: =Buttersaeure!$C$1 -> 7
A23: Milchfett, berechnet über Buttersäure | B23: g/100 g Fett | C23: 3
A24: Buttersäuremethylester | B24: g/100 g Fett | C24: 3 | F24: =BSME!$B$1 -> 15 | H24: =BSME!$C$1 -> 14
A25: Milchfett, berechnet über Buttersäuremethylester | B25: g/100 g Fett | C25: 3
A26: Pflanzliches Fremdfett | B26: g/100 g Fett | C26: 3 | F26: =Fremdfett!$B$1 -> 8 | H26: =Fremdfett!$C$1 -> 7
A27: Saccharose, wasserfrei | B27: g/100 g Probe | C27: 3 | F27: =Saccharose!B1 -> 16 | H27: =Saccharose!C1 -> 15 | I27: =#REF! -> #REF!
A28: Glucose, wasserfrei | B28: g/100 g Probe | C28: 3 | F28: =Glu_Fru!D2 -> 16 | H28: =Glu_Fru!C1 -> 15 | I28: =#REF! -> #REF!
A29: Fructose, wasserfrei | B29: g/100 g Probe | C29: 3 | F29: =Glu_Fru!E2 -> 16 | H29: =Glu_Fru!C1 -> 15 | I29: =#REF! -> #REF!
A30: L-Äpfelsäure | B30: mg/kg Probe | C30: 3 | F30: ='L-Äpfelsäure'!B1 -> 9 | H30: ='L-Äpfelsäure'!C1 -> 8 | I30: =#REF! -> #REF!
A31: Sorbinsäure | B31: mg/kg Probe | C31: 3 | F31: =Benzoe_Sorbin!D2 -> 14 | H31: =Benzoe_Sorbin!$C$1 -> 13
A32: Benzoesäure | B32: mg/kg Probe | C32: 3 | F32: =Benzoe_Sorbin!E2 -> 14 | H32: =Benzoe_Sorbin!$C$1 -> 13
A33: Nachgewiesener Farbstoff | B33: X | C33: X | D33: =Farbstoffe!B1 -> 19 | F33: =Farbstoffe_qual!B1 -> 28 | H33: =Farbstoffe_qual!C1 -> 27
A34: Nachgewiesener Farbstoff | B34: X | C34: X | D34: =Farbstoffe!C1 -> 19
A35: Nachgewiesener Farbstoff | B35: X | C35: X | D35: =Farbstoffe!D1 -> 19
A36: Nachgewiesener Farbstoff | B36: X | C36: X | D36: =Farbstoffe!E1 -> 19
A37: =Farbstoffe!B31 -> 19 | B37: mg/kg | C37: 3 | F37: =Farbstoffe_quan!B1 -> 28 | H37: =Farbstoffe_quan!C1 -> 27
A38: =Farbstoffe!C31 -> 19 | B38: mg/kg | C38: 3
A39: =Farbstoffe!D31 -> 19 | B39: mg/kg | C39: 3
A40: =Farbstoffe!E31 -> 19 | B40: mg/kg | C40: 3
A43: Beschreibung der verwendeten Analysenverfahren, Teil 1
A45: Fett | I45: =ISBLANK(VLOOKUP(F19,Fett!A3:C34,3)) -> TRUE
A46: =IF(F19=H19,"bitte eingeben:",IF(I45,"","Art der Modifikation:"))
A47: Halbmikrobuttersäurezahl (HBSZ) | I47: =ISBLANK(VLOOKUP(F20,HBSZ!A3:C15,3)) -> TRUE
A48: =IF(F20=H20,"bitte eingeben:",IF(I47,"","Art der Modifikation:"))
A49: =IF(($F$20-$H$20-1)<0,"Halbmikrobuttersäurezahl (HBSZ) von reinem Milchfett (Ihre Grundlage bei der Berechnung des Milchfettgehaltes):","")
A50: Freie Buttersäure | I50: =ISBLANK(VLOOKUP(F22,Buttersaeure!A3:C21,3)) -> TRUE
A51: =IF(F22=H22,"bitte eingeben:",IF(I50,"","Art der Modifikation:"))
A52: =IF(($F$22-$H$22-1)<0,"Gehalt von freier Buttersäure [g/100 g] in Milchfett (Ihre Grundlage bei der Berechnung des Milchfettgehaltes):","")
A53: Buttersäuremethylester | I53: =ISBLANK(VLOOKUP(F24,BSME!A3:C22,3)) -> TRUE
A54: =IF(F24=H24,"bitte eingeben:",IF(I53,"","Art der Modifikation:"))
A55: =IF(($F$24-$H$24-1)<0,"Gehalt von Buttersäuremethylester [g/100 g] in Milchfett (Ihre Grundlage bei der Berechnung des Milchfettgehaltes):","")
A56: Pflanzliches Fremdfett | I56: =ISBLANK(VLOOKUP(F26,Fremdfett!A3:C9,3)) -> TRUE
A57: =IF(F26=H26,"bitte eingeben:",IF(I56,"","Art der Modifikation:"))
A58: =IF(($F$26-$H$26-1)<0,"Analyt (Ihre Grundlage bei der Berechnung des Fremdfettgehaltes):","")
A60: Saccharose | I60: =ISBLANK(VLOOKUP(F27,Saccharose!A3:C18,3)) -> TRUE
A61: =IF(F27=H27,"bitte eingeben:",IF(I60,"","Art der Modifikation:"))
A62: Glucose | I62: =ISBLANK(VLOOKUP(F28,Glu_Fru!A4:C18,3)) -> TRUE
A63: =IF(F28=H28,"bitte eingeben:",IF(I62,"","Art der Modifikation:"))
A64: Fructose | I64: =ISBLANK(VLOOKUP(F29,Glu_Fru!A4:C18,3)) -> TRUE
A65: =IF(F29=H29,"bitte eingeben:",IF(I64,"","Art der Modifikation:"))
A66: Beschreibung der verwendeten Analysenverfahren, Teil 2
A67: L-Äpfelsäure | I67: =ISBLANK(VLOOKUP(F30,'L-Äpfelsäure'!A3:C11,3)) -> TRUE
A68: =IF(F30=H30,"bitte eingeben:",IF(I67,"","Art der Modifikation:"))
A69: Sorbinsäure | I69: =ISBLANK(VLOOKUP(F31,Benzoe_Sorbin!A3:C16,3)) -> TRUE
A70: =IF(F31=H31,"bitte eingeben:",IF(I69,"","Art der Modifikation:"))
A71: Benzoesäure | I71: =ISBLANK(VLOOKUP(F32,Benzoe_Sorbin!A3:C16,3)) -> TRUE
A72: =IF(F32=H32,"bitte eingeben:",IF(I71,"","Art der Modifikation:"))
A73: Farbstoffe, qualitativ | I73: =ISBLANK(VLOOKUP(F33,Farbstoffe_qual!A3:C30,3)) -> TRUE
A74: =IF(F33=H33,"bitte eingeben:",IF(I73,"","Art der Modifikation:"))
A75: Farbstoffe, quantitativ | I75: =ISBLANK(VLOOKUP(F37,Farbstoffe_quan!A3:C30,3)) -> TRUE
A76: =IF(F37=H37,"bitte eingeben:",IF(I75,"","Art der Modifikation:"))

Sheet Mitteilungen
A1: Nachfolgend können Sie uns ergänzende Hinweise geben oder wichtige Beobachtungen mitteilen. | H1: =COUNTA(A2:G38) -> 0

Sheet Saccharose
A1: Saccharose | B1: 16 | C1: =MAX($A$3:$A$18)-1 -> 15
A2: Methode | B2: Bezeichnung des Analysenverfahrens | C2: Anzahl
A3: 1 | B3: § 64 LFGB Nr. L 52.06-5 (enzymatisches Verfahren)
A4: 2 | B4: § 64 LFGB Nr. L 52.06-5 (enzymatisches Verfahren), modifiziert | C4: x
A5: 3 | B5: § 64 LFGB Nr. L 31.00-13 (enzymatisches Verfahren)
A6: 4 | B6: § 64 LFGB Nr. L 31.00-13 (enzymatisches Verfahren), modifiziert | C6: x
A7: 5 | B7: Enzymatisch nach r-biopharm / Roche Nr. 10 716 260 035 (Saccharose, Glucose, Fructose)
A8: 6 | B8: Enzymatisch nach r-biopharm / Roche Nr. 10 139 106 035 (Glucose, Fructose)
A9: 7 | B9: Enzymatisch nach r-biopharm / Roche Best.Nr. 11 113 950 035 (Maltose, Saccharose, Glucose)
A10: 8 | B10: SCIL-Testsatz Nr. 1247
A11: 9 | B11: HPLC- oder IC-Verfahren mit RI-Detektion
A12: 10 | B12: HPLC- oder IC-Verfahren mit sonstiger Detektion
A13: 11 | B13: IFU Nr. 55
A14: 12 | B14: Enzymatisch nach r-biopharm / Roche Nr. 10 716 251 035 (Glucose)
A15: 13 | B15: Enzymatisch nach r-biopharm / Roche Nr. 10 139 041 035 (Saccharose, Glucose)
A16: 14 | B16: Scil Testsatz Best-Nr. 1211
A17: 15 | B17: Sonstiges
A18: 16

Sheet Glu_Fru
A1: Glucose_Fructose | C1: =MAX($A$3:$A$18)-1 -> 15 | D1: Glucose | E1: Fructose
B2: Bezeichnung des Analysenverfahrens | C2: Modifikation | D2: 16 | E2: 16
A3: 1 | B3: § 64 LFGB Nr. L 52.06-5 (enzymatisches Verfahren)
A4: 2 | B4: § 64 LFGB Nr. L 52.06-5 (enzymatisches Verfahren), modifiziert | C4: x
A5: 3 | B5: § 64 LFGB Nr. L 31.00-12 (enzymatisches Verfahren)
A6: 4 | B6: § 64 LFGB Nr. L 31.00-12 (enzymatisches Verfahren), modifiziert | C6: x
A7: 5 | B7: Enzymatisch nach r-biopharm / Roche Nr. 10 716 260 035
A8: 6 | B8: Enzymatisch nach r-biopharm / Roche Nr. 10 139 106 035
A9: 7 | B9: Enzymatisch nach r-biopharm / Roche Nr. 10 139 041 035 (auch + PGF127396)
A10: 8 | B10: SCIL-Testsatz Nr. 1247
A11: 9 | B11: HPLC- oder IC-Verfahren mit RI-Detektion
A12: 10 | B12: HPLC- oder IC-Verfahren mit sonstiger Detektion
A13: 11 | B13: IFU Nr. 55
A14: 12 | B14: Enzymatisch nach r-biopharm / Roche Nr. 10 716 251 035 (Glucose)
A15: 13 | B15: Enzymatisch nach r-biopharm / Roche Nr. 10 139 041 035 (Saccharose, Glucose)
A16: 14 | B16: Scil Testsatz Best-Nr. 1211
A17: 15 | B17: Sonstiges
A18: 16

Sheet L-Äpfelsäure
A1: L-Äpfelsäure | B1: 9 | C1: =MAX($A$3:$A$11)-1 -> 8
A2: Methode | B2: Bezeichnung des Analysenverfahrens | C2: Anzahl
A3: 1 | B3: Enzymatisch nach r-biopharm / Roche Nr. 10 139 068 035
A4: 2 | B4: Enzymatisch nach Enzytek E1215
A5: 3 | B5: Enzymatisch nach Enzytek E5280
A6: 4 | B6: Enzymatisch (sonstige Quelle) | C6: x
A7: 5 | B7: HPLC
A8: 6 | B8: § 64 LFGB Nr. L 31.00-15
A9: 7 | B9: § 64 LFGB Nr. L 31.00-15, modifiziert | C9: x
A10: 8 | B10: Sonstiges
A11: 9

Sheet Benzoe_Sorbin
A1: Sorbinsäure | C1: =MAX($A$15:$A$16)-1 -> 13 | D1: Sorbinsre | E1: Benzoesre
A2: Methode | B2: Bezeichnung des Analysenverfahrens | C2: Anzahl | D2: 14 | E2: 14
A3: 1 | B3: § 64 LFGB Nr. L 00.00-9
A4: 2 | B4: § 64 LFGB Nr. L 00.00-9, modifiziert | C4: x
A5: 3 | B5: § 64 LFGB Nr. L 00.00-10
A6: 4 | B6: § 64 LFGB Nr. L 00.00-10, modifiziert | C6: x
A7: 5 | B7: § 64 LFGB Nr. L 00.00-28
A8: 6 | B8: § 64 LFGB Nr. L 00.00-28, modifiziert | C8: x
A9: 7 | B9: HPLC-Verfahren (UV- oder DAD-Detektion)
A10: 8 | B10: HPLC nach Hagenauer-Heuer, Deutsche Lebensmittelrundschau 86 Heft 1 (1990)
A11: 9 | B11: Wasserdampfdestillation mit anschließender HPLC-Detektion
A12: 10 | B12: Wasserdampfdestillation mit anschließender UV-Detektion
A13: 11 | B13: Aufarbeitung über Strata SAX Phenomenex-Kartusche; HPLC mit DAD
A14: 12 | B14: HPLC-Verfahren (UV-Detektion) nach Schulte
A15: 13 | B15: Sonstiges
A16: 14

Sheet Farbstoffe_qual
A1: Farbstoffe | B1: 28 | C1: =MAX($A$3:$A$30)-1 -> 27
A2: Methode | B2: Bezeichnung des Analysenverfahrens | C2: Anzahl
A3: 1 | B3: § 64 LFGB Nr. L 26.11.03-14
A4: 2 | B4: § 64 LFGB Nr. L 26.11.03-14, modifiziert | C4: x
A5: 3 | B5: Isolierung und Anreicherung: Wollfadenmethode; HPLC
A6: 4 | B6: Isolierung und Anreicherung: Wollfadenmethode; DC
A7: 5 | B7: Isolierung und Anreicherung: Wollfadenmethode; Papierchromatographie
A8: 6 | B8: Isolierung und Anreicherung: Polyamidpulver; HPLC
A9: 7 | B9: Isolierung und Anreicherung: Polyamidpulver; DC
A10: 8 | B10: Isolierung und Anreicherung: C18-Kartusche; HPLC
A11: 9 | B11: Isolierung und Anreicherung: C18-Kartusche; DC
A12: 10 | B12: Ammoniakauszug, Reinigung über DEAe-Cellulose-Säule, DC
A13: 11 | B13: Ammoniakauszug, Reinigung über DEAe-Cellulose-Säule, HPLC
A14: 12 | B14: Ggf. Zentrifugation/Filtration/Klärung (ohne Anreicherung); HPLC
A15: 13 | B15: Extraktion mit Acetonitril, HPLC
A16: 14 | B16: Isolierung und Anreicherung: Polyamid; Papierchromatographie
... A29: 27 | B29: Sonstiges
A30: 28

Sheet Farbstoffe_quan
A1: Farbstoffe | B1: 28 | C1: =MAX($A$3:$A$30)-1 -> 27
A2: Methode | B2: Bezeichnung des Analysenverfahrens | C2: Anzahl
A3: 1 | B3: § 64 LFGB Nr. L 26.11.03-14
A4: 2 | B4: § 64 LFGB Nr. L 26.11.03-14, modifiziert | C4: x
A5: 3 | B5: Isolierung und Anreicherung: Wollfadenmethode; HPLC
A6: 4 | B6: Isolierung und Anreicherung: Wollfadenmethode; DC
A7: 5 | B7: Isolierung und Anreicherung: Wollfadenmethode; Papierchromatographie
A8: 6 | B8: Isolierung und Anreicherung: Polyamidpulver; HPLC
A9: 7 | B9: Isolierung und Anreicherung: Polyamidpulver; DC
A10: 8 | B10: Isolierung und Anreicherung: C18-Kartusche; HPLC
A11: 9 | B11: Isolierung und Anreicherung: C18-Kartusche; DC
A12: 10 | B12: Ammoniakauszug, Reinigung über DEAe-Cellulose-Säule, DC
A13: 11 | B13: Ammoniakauszug, Reinigung über DEAe-Cellulose-Säule, HPLC
A14: 12 | B14: Ggf. Zentrifugation/Filtration/Klärung (ohne Anreicherung); HPLC
A15: 13 | B15: Extraktion mit Acetonitril, HPLC
A16: 14 | B16: Isolierung und Anreicherung: Polyamid; Papierchromatographie
... A29: 27 | B29: Sonstiges
A30: 28

Sheet Farbstoffe
A1: Farbstoffe | B1: 19 | C1: 19 | D1: 19 | E1: 19
A2: lfd. Nr. | B2: Bezeichnung des Farbstoffes
A3: 1 | B3: E 102 (Tartrazin)
A4: 2 | B4: E 104 (Chinolingelb)
A5: 3 | B5: E 110 (Gelborange S)
A6: 4 | B6: E 120 (Karmin)
A7: 5 | B7: 4-Amino-Karminsäure (aus E 120)
A8: 6 | B8: E 122 (Azorobin)
A9: 7 | B9: E 123 (Amaranth)
A10: 8 | B10: E 124 (Ponceau 4 R)
A11: 9 | B11: E 127 (Erythrosin)
A12: 10 | B12: E 128 (Rot 2G)
A13: 11 | B13: E 129 (Allurarot AC)
A14: 12 | B14: E 131 (Patentblau V)
... A21: 19 | B21: Farbstoffe nicht untersucht
B24: E 162 (Betain, Rote Bete)
B25: Rotsandelholz
B26: Angkak
B27: E 105 (Fast Yellow AB)
B28: E 107 (Gelb 2G)
A31: Farbstoffe | B31: 19 | C31: 19 | D31: 19 | E31: 19
A32: lfd. Nr. | B32: Bezeichnung des Farbstoffes
A33: 1 | B33: E 102 (Tartrazin)
A34: 2 | B34: E 104 (Chinolingelb)
A35: 3 | B35: E 110 (Gelborange S)
A36: 4 | B36: E 120 (Karmin)
A37: 5 | B37: 4-Amino-Karminsäure (aus E 120)
A38: 6 | B38: E 122 (Azorobin)
A39: 7 | B39: E 123 (Amaranth)
A40: 8 | B40: E 124 (Ponceau 4 R)
A41: 9 | B41: E 127 (Erythrosin)
A42: 10 | B42: E 128 (Rot 2G)
A43: 11 | B43: E 129 (Allurarot AC)
A44: 12 | B44: E 131 (Patentblau V)
... A51: 19 | B51: Farbstoff nicht quantifiziert

Sheet Fett
A1: Fett | B1: 26 | C1: =MAX($A$3:$A$28)-1 -> 25
A2: Methode | B2: Bezeichnung des Analysenverfahrens | C2: Modifikation
A3: 1 | B3: § 64 LFGB Nr. L 20.01/02-5
A4: 2 | B4: § 64 LFGB Nr. L 20.01/02-5, modifiziert | C4: x
A5: 3 | B5: § 64 LFGB Nr. L 06.00-6
A6: 4 | B6: § 64 LFGB Nr. L 06.00-6, modifiziert | C6: x
A7: 5 | B7: Caviezel (Büchi oder Gerstel)
A8: 6 | B8: Weibull-Stoldt
A9: 7 | B9: § 64 LFGB Nr. L 01.00-20
A10: 8 | B10: § 64 LFGB Nr. L 01.00-20, modifiziert | C10: x
A11: 9 | B11: § 64 LFGB Nr. L 16.00-5
A12: 10 | B12: § 64 LFGB Nr. L 16.00-5, modifiziert | C12: x
A13: 11 | B13: § 64 LFGB Nr. L 42.00-13
A14: 12 | B14: § 64 LFGB Nr. L 42.00-13, modifiziert | C14: x
A15: 13 | B15: § 64 LFGB Nr. L 42.00-19
A16: 14 | B16: § 64 LFGB Nr. L 42.00-19, modifiziert | C16: x
A17: 15 | B17: § 64 LFGB Nr. L 44.00-4
A18: 16 | B18: § 64 LFGB Nr. L 44.00-4, modifiziert | C18: x
A19: 17 | B19: Soxhlet
A20: 18 | B20: NMR-Technologie nach Mikrowellentrocknung
A21: 19 | B21: AOAC 948.15
A22: 20 | B22: Fett nach Schulte
A23: 21 | B23: ISO 1444: 1996
A24: 22 | B24: DIN 10342
A25: 23 | B25: Mikrowellen-Heißextraktion mit Cyclohexan nach Säureaufschluss
A26: 24 | B26: Butyrometer
A27: 25 | B27: sonstiges
A28: 26

Sheet HBSZ
A1: HBSZ | B1: 4 | C1: =MAX($A$3:$A$6)-1 -> 3
A2: Methode | B2: Bezeichnung des Analysenverfahrens | C2: Anzahl
A3: 1 | B3: § 64 LFGB Nr. L 17.00-8 (18.00-1)
A4: 2 | B4: § 64 LFGB Nr. L 17.00-8 (18.00-1), modifiziert | C4: x
A5: 3 | B5: sonstiges
A6: 4

Sheet Buttersaeure
A1: Buttersäure | B1: 8 | C1: =MAX($A$3:$A$10)-1 -> 7
A2: Methode | B2: Bezeichnung des Analysenverfahrens | C2: Anzahl
A3: 1 | B3: § 64 LFGB Nr. L 17.00-13 (18.00-15)
A4: 2 | B4: § 64 LFGB Nr. L 17.00-13 (18.00-15), modifiziert | C4: x
A5: 3 | B5: Caviezel (Büchi oder Gerstel)
A6: 4 | B6: DGF-Einheitsmethode C-VI 11d (98)
A7: 5 | B7: DGF Einheitsmethode C-III 8 (89)
A8: 6 | B8: Dampfraum-GC / Headspace-GC
A9: 7 | B9: sonstiges
A10: 8

Sheet BSME
A1: Buttersäuremethylester | B1: 15 | C1: =MAX($A$3:$A$17)-1 -> 14
A2: Methode | B2: Bezeichnung des Analysenverfahrens | C2: Anzahl
A3: 1 | B3: § 64 LFGB Nr. L 17.00-12 (18.00-9)
A4: 2 | B4: § 64 LFGB Nr. L 17.00-12 (18.00-9), modifiziert | C4: x
A5: 3 | B5: Schulte et al: Fat Sci Technol 91 181 (1989)
A6: 4 | B6: Veresterung der Fette mittels Natriummethylat nach Schulte, GC
A7: 5 | B7: Verfahren nach Precht, Verseifung mit methanolischer KOH, GC
A8: 6 | B8: GC der Methylester (methanolische KOH)
A9: 7 | B9: Veresterung der Fette mit Kaliummethanolat, Methylester-GC mit Istd
A10: 8 | B10: GC der Methylester (Schwefelsäure/Methanol)
A11: 9 | B11: DGF C-VI 10a i.V.m. C-VI 11e, GC/FID
A12: 10 | B12: Veresterung der Fette mit Natriummethylat; GC/FID
A13: 11 | B13: DGF C-VI 11d
A14: 12 | B14: § 64 LFGB Nr. 13.00.26 und 27/3 (TMSH)
A15: 13 | B15: Bestimmung des Buttersäuremethylester mittels GC-FID
A16: 14 | B16: sonstiges
A17: 15

Sheet Fremdfett
A1: Fremdfett | B1: 8 | C1: =MAX($A$3:$A$10)-1 -> 7
A2: Methode | B2: Bezeichnung des Analysenverfahrens | C2: Anzahl
A3: 1 | B3: § 64 LFGB Nr. L 42.00-17:2012-07
A4: 2 | B4: § 64 LFGB Nr. L 42.00-17:2012-07, modifiziert | C4: x
A5: 3 | B5: Caviezel
A6: 4 | B6: DGF C-VI 10a/11d
A7: 5 | B7: § 64 LFGB Nr. L 17.00-12
A8: 6 | B8: § 64 LFGB Nr. L 17.00-12, modifiziert | C8: x
A9: 7 | B9: Sonstiges
A10: 8
A24: Analyt | B24: 8 | C24: =MAX(A25:A27)-1 -> 2
A25: 1 | B25: Laurinsäure
A26: 2 | B26: Sonstiges
A27: 3
