Workbook
Name _ftn1: Hints!#REF!
Name _ftn1: Hinweise1!#REF!
Name _ftn1: Hinweise3!$A$3
Name _ftnref1: Hints!$A$3
Name _ftnref1: Hinweise1!$A$2
Name _ftnref1: Hinweise3!#REF!
Name Daten: #REF!
Name Daten: #REF!
Name MBlei: #REF!
Name MBlei: #REF!
Name OLE_LINK1: Ergebnisangabe!$A$20
Name OLE_LINK1: Reporting!$A$20
Name OLE_LINK2: Reporting!$J$13
Name Parameter2: Bezugsquellen!$B$6:$B$16
Name Parameter2: #REF!
Name Parameter2: #REF!
Name Parameter2: Lactose!$B$9:$B$22
Name Parameter2: #REF!
Name Parameter2alt: #REF!
Name Parameter2alt: #REF!
Name test: [1]Parameter2!$B$3:$B$18
Name test: [2]Parameter2!$B$3:$B$18
Name test: [2]Parameter2!$B$3:$B$18
Name test: [1]Parameter2!$B$3:$B$18
Name test: [1]Parameter2!$B$3:$B$18
Name test: [2]Parameter2!$B$3:$B$18

Sheet Hints
A1: References to the result transmission and to the indication of result (Deadline see "Ergebnisse")
A2: Before analysing the samples, homogenize the samples again, please. After homogenisation You should analyse both samples with your standard procedures.
A3: Use this file for your result transmissions, please. Fill for this in the file yellow fields deposited out and send back the file afterwards by email to “ergebnisse@lvus.de”. It is important that for the clear allocation of the results to your laboratory in the table "Ergebnisse" (results) your client number and your postal zip code must be entered (both numbers only).
A4: The result data must be given in in the units as described at every parameter. To the avoidance of deviations in the laboratory made roundness, You are asked with each parameter after the first number deviating from 0 to indicate still the listened further numbers (even if due to Your validating data this accuracy is not kept by your analysis procedure). ISO 13 528 4.6 recommends that individual measurement results schould not be rounded by more than sr/2.
A6: Examples for transmissions of results:
A7: It a test material the element "Mg" was quantified. You are asked to report 3 significant numbers. The following computational contents are determined:
A9: Computed Value [mg/kg] | B9: Transmission of result [mg/kg]
A10: 1379 | B10: 1380
A11: 179.34 | B11: 179
A12: 80.12 | B12: 80.1
A13: 7.8 | B13: 7.8

Sheet Reporting

Sheet Hinweise1
A1: Hinweise zur Ergebnisübermittlung und zur Ergebnisangabe
A2: Bitte verwenden Sie diese Datei für Ihre Ergebnisübermittlung. Füllen Sie hierzu alle in der Tabelle "Ergebnisse" gelb hinterlegten Felder aus bzw. wählen Sie Ihre Angaben zu den von Ihnen verwendeten Methoden über die vorhandenen Auswahlfenster aus.
A3: Die ausgefüllte Exceltabelle muss per eMail als Anlage bis spätestens zur Deadline an eine der beiden Adressen ergebnisse@lvus.de oder results@lvus.de gesendet werden. Bitte beachten Sie, dass Ihre eMail nur die Exceltabelle als Anlage enthalten darf. Ausser Ihrem Absender soll die eigentliche eMail keine weiteren Daten oder Texte enthalten, da alle an die Adressen ergebnisse@lvus.de oder results@lvus.de gesendeten eMails automatisch ausgelesen werden.
A4: Nach der in der Tabelle "Ergebnisse" aufgeführten Deadline eingehende Ergebnisse werden bei der Auswertung nicht berücksichtigt.
A5: Es ist wichtig, dass Sie zur eindeutigen Zuordnung der Ergebnisse zu Ihrem Labor sowohl Ihre Kunden-Nr. als auch Ihre Postleitzahl (auf dem Anschreiben enthalten - nur Ziffern eingeben) eingeben. Über eine bei der Auswertung durchgeführte Plausibilitätsprüfung soll erkannt werden, ob Tippfehler vorliegen und dadurch die Daten einem anderen Teilnehmer zugeordnet werden könnten.
A6: Interne Teilnahme: Diesen Wert bitte nur ändern, falls Sie für Ihr Haus mehrere getrennte und damit kostenpflichtige Teilnahmen gebucht haben. Über diesen Wert werden die unter einer Kundennummer geführten Teilnahmen getrennt erfasst und die Ergebnisse anschließend der Auswertung zugeführt. Entscheiden Sie, welcher Ihrer Laborbereiche unter der Teilnahme 1 oder 2 registirert und ausgewertet werden soll.
A7: Die Ergebnisangaben müssen in der/den vorgegebenen Maßeinheiten erfolgen - Ihre Angaben werden ohne Änderungen zur Auswertung verwendet! Zur Vermeidung von Abweichungen durch bereits im Labor vorgenommene Rundungen werden Sie gebeten, bei jedem Parameter eine bestimmte Anzahl signifikanter Ziffern anzugeben (auch wenn auf Grund Ihrer Validierungsdaten diese Genauigkeit von Ihrem Analysenverfahren nicht eingehalten wird). Nach ISO 13528 Abschnitt 4.6 sollen Ergebnisse nicht stärker gerundet werden als dem halben Betrag der Wiederholstandardabweichung entspricht.
A8: Beispiele zur Ergebnisangabe: In einer Probe wurde der Gehalt von Mangan bestimmt. Es werden folgende rechnerischen Gehalte ermittelt:
A9: Beispielhafter Wert [mg/kg] | B9: Ergebnisangabe mit 3 signifikanten Ziffern [mg/kg]
A10: 1379 | B10: 1380
A11: 179.34 | B11: 179
A12: 80.12 | B12: 80.1
A13: 7.8 | B13: 7.8
A15: Verfahren sowie Literaturangaben, die von Teilnehmern bei bereits durchgeführten Laborvergleichsuntersuchungen angewendet wurden, sind in Auswahlfenstern vorbelegt, um Ihnen das Ausfüllen zu erleichtern. Über diese Auswahlfenster wählen Sie bitte diejenigen Einträge aus, die bei den von Ihnen angewandten Verfahren zutreffend sind. Ist kein zutreffender Eintrag vorhanden, so wählen Sie bitte den Eintrag "sonstiges.." aus. Tragen Sie dann in der nächsten Zeile (wird gelb hervorgehoben) die auf Ihr Verfahren zutreffende Beschreibung ein.
A16: Geben Sie in der Tabelle "Kontakt" den Namen, die eMail-Adresse sowie die Telefonnummer der Kontaktperson an, die wir bei Fragen kontaktieren können. Nach Fertigstellung der Auswertung soll an die angegebene eMail-Adresse zusätzlich zur gedruckten Auswertung auch eine Passwort-freie Auswertedatei im PDF-Format gesendet werden.
A17: Sollten Sie uns ergänzende Hinweise/Beobachtungen mitteilen wollen, so verwenden Sie hierfür den vorgesehenen Bereich innerhalb der Tabelle "Mitteilungen".
A18: Da Ihre eMail automatisch weiterverarbeitet wird, dürfen nur in der Exceltabelle Kommentare oder Hinweise zu den Proben und durchgeführten Untersuchungen enthalten sein. Außerdem darf Ihre eMail nur eine einzige Anlage enthalten. Sie erhalten automatisch eine Benachrichtigung über den Eingang Ihrer Ergebnisse.

Sheet Hinweise2
A1: Erläuterungen zur Weiterverarbeitung Ihrer Daten
A2: Diese Tabellen wurden so aufgebaut, dass die Daten automatisiert in unser Auswerteprogramm übernommen werden können. Die Tabellen dürfen daher keinesfalls im Aufbau verändert werden, da dann ein automatisiertes Auslesen der mitgeteilten Daten nicht mehr möglich wäre.
A3: Aus diesem Grund wurden die Tabellen gegen Veränderungen geschützt. Eingaben oder auch die Auswahl von Eigenschaften sind nur an wenigen Stellen nötig. Diese Stellen sind gelb hinterlegt.
A4: Da das Ausführen von Macros eine potentielle Gefährdung von Computersystemen bedeuten kann, gehen wir davon aus, dass ausführbare Macros in zahlreichen Fällen von den entsprechenden System-Administratoren unterdrückt werden. Deshalb wurde auf die Verwendung von Macros bei der Erstellung der Tabellen zur Ergebniserfassung komplett verzichtet, obwohl damit ein komfortableres Arbeiten möglich wäre.
A5: Beim Eingang Ihrer eMail wird diese von unserem System automatisch weiterverarbeitet, wobei einige Plausibilitäten (z.B. Vollständigkeit der Absenderangabe oder Kennzeichnung als Update bei erneuter Dateneinsendung) überprüft werden. Im Anschluss an diese Prüfung erhalten Sie automatisiert eine eMail-Antwort. Darin werden Sie darüber informiert, ob Ihre Daten prinzipiell weiterverarbeitet werden können oder ob benötigte Einträge fehlen und Sie Ihre Ergebnisse nach Ergänzung der fehlenden Angaben erneut einsenden sollen. Eine Prüfung auf Vollständigkeit von Ergebnisangaben (sind überhaupt Ergebnnisdaten vorhanden?) oder deren Angabe in den vorgegebenen Maßeinheiten wird zu diesem Zeitpunkt nicht vorgenommen.
A6: Sollten Sie noch vor dem Ende der Ergebnisannahme bemerken, dass in Ihrer Ergebnistabelle Fehler enthalten sind, so senden Sie einfach eine korrigierte Version an die Adresse ergebnisse@lvus.de. Kennzeichnen Sie in diesem Fall Ihre Tabelle als Aktualisierung, da ansonsten das System die Annahme der Daten zurückweist ("es sind ja bereits Daten von Ihnen vorhanden"). Ihre aktualiserte Ergebnistabelle muss vollständig ausgefüllt sein und insbesondere alle Ergebnisdaten der Vorversion enthalten, da bei einer Kennzeichung als Aktualiserung (Update) die zuvor eingesandte Ergebnistabelle durch die Aktualisierung vollständig ersetzt wird.
A7: Ihre Daten werden von uns wie mitgeteilt zur Auswertung verwendet. Selbst offensichtliche Fehler, wie - Tippfehler, - Übertragungsfehler in die Ergebniserfassungstabelle, - Angaben in einer anderen, von der Vorgabe abweichenden Maßeinheit werden zur Auswertung unverändert, also ohne Änderung übernommen und führen dann zu schlechten Bewertungen. Daher sollten Sie Ihre Eingaben sorgfältig durchführen und dabei insbesondere auch überprüfen, ob Ihre laborüblichen Maßeinheiten mit denen im Tabellenblatt übereinstimmen.
A8: Nach Ende der Frist zur Ergebnisabgabe sind Korrekturen nur noch möglich, falls die Auswertung der Daten noch nicht erfolgt ist. Korrekturen von fehlerhaften Teilnehmerangaben werden nach der Auswertung und insbesondere nach Veröffentlichung des Protokolls nicht mehr durchgeführt.

Sheet Hinweise3
A1: Hinweise zur Auswertung
A2: Die Beurteilung der Laborergebnisse erfolgt durch Z-Scores, die möglichst über die Vergleichsstandardabweichung des jeweiligen Standardverfahrens aus der Amtlichen Sammlung nach § 64 LFGB berechnet werden. Zusätzlich werden Z-Scores über die nach der Horwitzfunktion ermittelte Zielstandardabweichung für den jeweiligen Analyten berechnet.
A3: Mit abnehmenden Gehalten von Analyten in der Probe steigt die über die Horwitzfunktion berechnete Zielstandardabweichung stark an. So beträgt z.B. die relative Standardabweichung nach Horwitz 10 % bei einem Analytgehalt von 23 mg/kg und bereits 22,6 % bei einem Analytgehalt von 100 µg/kg.
A4: Zur Vermeidung zu „breiter“ Beurteilungszonen wird deshalb bei der Auswertung bei allen Parametern der Wert der Zielstandardabweichung auf maximal 22 % vom Wert des Medians beschränkt.
A5: Zunächst werden alle mitgeteilten Laborergebnisse berücksichtigt und die darüber berechneten statistischen Kenndaten für die Parameter aufgeführt.
A6: Zur Ermittlung der endgültigen statistischen Kenndaten werden bei allen in den Proben enthaltenen Wirkstoffe Zweitberechnungen durchgeführt. Bei diesen Zweitberechnungen bleiben generell die Ergebnisdaten von allen Laboratorien unberücksichtigt, deren Ergebnisse um mehr als 5 Zielstandardabweichungen (5 Z-Scores) vom Median des Analyten abweichen.
A7: Darüber hinaus bleiben bei allen Parametern zusätzlich alle Ergebnisse unberücksichtigt, die um mehr als 50 % vom Median abweichen und bei denen gleichzeitig der Betrag des Z-Score größer als 3 ist. Diese Regelung greift bei allen Parametern mit Analytgehalten unter 23 mg/kg.

Sheet Ergebnisangabe
A1: Hinweise zum Erfassen und Einsenden der Untersuchungsergebnisse
A2: Zur Bestimmung der Parameter sollen zwei vollständig getrennte Analysengänge durch¬geführt werden. Verwenden Sie für die Analysengänge 1 und 2 Probenmaterial aus verschiedenen Probeneinheiten.
A3: Benutzen Sie für die Ergebnisübermittlung diese vordefinierte Tabelle im Excelformat. Die Tabelle steht auch auf unserer Homepage (www.lvus.de) im Bereich „Download“ bereit.
A4: Geben Sie im Register "Kontakt" den Namen, die eMail-Adresse sowie die Telefonnummer der Kontaktperson an, die wir bei Fragen kontaktieren können. Nach Fertigstellung des Protokolls wird ausschließlich an die dort angegebenen eMail-Adressen vorab ein Passwort-freies Protokoll im PDF-Format gesendet.
A5: Tragen Sie im Register „Ergebnisse“ unbedingt Ihre Kundennummer und Ihre Postleitzahl ein, da darüber die Identifizierung des Einsenders erfolgt. In die beiden Datenfelder „Kundennummer“ und „Postleitzahl“ dürfen nur Ziffern eingegeben werden.
A6: Die Felder zur Eingabe Ihrer Ergebnisdaten sind nicht mit einer festen Nachkommazahl vordefiniert, um keine Hinweise auf eventuelle Gehalte von Parametern zu geben.
A7: Beachten Sie die Hinweise zu den gültigen (signifikanten) Ziffern bei den Parametern. Die Anzahl der Ziffern ist so zu wählen, dass beide Ergebnisse nur im Ausnahmefall aus iden¬tischen Ziffernfolgen bestehen. In einigen Fällen, z.B. bei Gehalten um 10 %, ist die Vorgabe gültiger Stellen schwierig: Die Ergebnisse „10,16% und 9,94% sind vergleichbar, nicht aber „10,2%“ und „9,94%“. Die Angabe einer zusätzlichen gültigen Stelle ist hier angebracht.
A8: Über Auswahlfelder sind gängige Untersuchungsverfahren bereits vordefiniert, um das Ausfüllen bei den Untersuchungsverfahren zu erleichtern. Sollten Sie ein nicht aufgeführtes Verfahren anwenden, wählen Sie „sonstiges“ aus und tragen Ihr Verfahren dann ein. Sofern weitere Informationen zur Auswertung nötig sind, werden auch gängige Verfahrensprinzipien und/oder Bezugsquellen kommerziell vertriebener Testsätze in ähnlicher Weise vordefiniert.
A9: In zahlreichen Fällen wird auch nachgefragt, ob Sie streng nach der Vorschrift gemäß § 64 LFGB arbeiten. Streng bedeutet, dass Sie ohne prüfrelevante Abweichungen arbeiten. Sollte die Abweichung lediglich die untersuchte Matrix sein (z.B. Ketchup anstelle von Brühwurst), dann soll dies nicht als Modifikation gekennzeichnet werden.
A10: Da Ihre eMail automatisch weiterverarbeitet wird, dürfen nur innerhalb der Exceltabelle in vordefinierten Bereichen Kommentare oder Hinweise zu den Proben und durchgeführten Untersuchungen enthalten sein (z.B. im Register „Mitteilungen“).
A11: Senden Sie uns die vollständig ausgefüllte Ergebnisdatei als Anlage im aktuellen Excelformat (Datei-Endung ".xlsx") oder im Format von Excel 2000 (Datei-Endung ".xls") per eMail an die Adresse „ergebnisse@lvus.de“. Ihre eMail darf nur eine einzige Anlage enthalten. eingesendete Tabellen verarbeiten.
A12: Nach dem Eingang in unserer Mailbox "ergebnisse@lvus.de" erhalten Sie automatisch eine Benachrichtigung/Bestätigung über den Eingang Ihrer eMail.
... A15: Senden Sie elektronisch mitgeteilte Ergebnisse nicht noch zusätzlich per Post oder Telefax.

Sheet Kontakt
A1: Kontaktperson | C1: Contact person
A2: Name | C2: Name
A3: eMail | C3: eMail-Address
A4: Telefon (inklusive Vorwahl): | C4: telefone (including country and area code)
A6: Bitte geben Sie den Namen, eMail-Adresse und die Telefonnummer der Person an, die wir bei Rückfragen kontaktieren können. An die aufgeführte eMailadresse wird das Protokoll zusätzlich auch als Passwort-freie PDF-Datei gesendet.
A8: Type in name, e-mail address and telefone number of the person we can contact in case of any questions, please. In addition to a printed version we will send a PDF-document (passwort-free) of the report to this e-mail address.
A10: Falls die Auswertung zusätzlich noch an eine zweite Adresse gesendet werden soll, geben Sie die zweite Adresse getrennt durch ein Semikolon mit nachfolgendem Leerzeichen ein.
A11: In case the PDF-document of the report should be sent to a second e-mail address seperate both e-mail addresses by typing in a semicolon followed by a blank.
A12: Beispiel für die Eingabe von 2 eMail-Adressen: Example how to type in 2 different e-mail addresses: | C12: info@lvus.de; ergebnisse@lvus.de
A15: eMail-Kontrolle: | C15: check of the e-Mail address
A16: Ergebnis der Überprüfung: | B16: =IF(ISBLANK(B15),"",IF(B3=B15,"Kontrolle erfolgreich - check ok","FEHLER - ERROR")) | C16: result of the control
B17: =IF(ISBLANK(B15),"",IF(ISERROR(FIND("@",B15,1)),"keine gültige eMail-Adresse",IF((VALUE(FIND("@",B15,1))>1),"","keine gültige eMail-Adresse!")))
B18: =IF(ISBLANK(B15),"",IF(ISERROR(FIND("@",B15,1)),"no valid eMail-adress",IF((VALUE(FIND("@",B15,1))>1),"","no valid eMail-address!")))
B19: =IF(ISBLANK(B15),"",IF(ISERROR(FIND("; ",B15,1)),"",IF((VALUE(FIND("; ",B15,1))>8),"","Achtung - die zweite eMail-Adresse wurde nicht korrekt eingegeben")))

Sheet Teilnehmerdaten
A1: Kundennummer | B1: =IF(ISNUMBER(VALUE(ErgebnisseProtein!G1)),IF(VALUE(ErgebnisseProtein!G1)>0,VALUE(ErgebnisseProtein!G1),""),"") | D1: Umformung
A2: Postleitzahl | B2: =IF(ISNUMBER(VALUE(ErgebnisseProtein!G2)),IF(VALUE(ErgebnisseProtein!G2)>0,VALUE(ErgebnisseProtein!G2),""),"")
A3: Produkt | B3: 32b | D3: Auswahl
A4: Jahrgang | B4: 2020 | D4: 2
A5: Update | B5: =D8 -> N | D5: =IF(D4=2,"N","J") -> N | F5: 1 | G5: ja / yes
A6: Teilnahmen | B6: =ErgebnisseProtein!G3 -> 1 | F6: 2 | G6: nein / no
A7: Deadline | B7: =ErgebnisseProtein!E5 -> 44220
A8: Parameterzahl | B8: 24 | D8: =LEFT(D5,1) -> N
A9: Bestimmungen je Parameter | B9: 2
A10: Parameter 1 | B10: =ErgebnisseProtein!A18 -> Lupine
A11: Parameter 2 | B11: =ErgebnisseProtein!A20 -> Sesam
A12: Parameter 3 | B12: =ErgebnisseProtein!A22 -> Mandel
A13: Parameter 4 | B13: =ErgebnisseProtein!A24 -> Erdnuss
A14: Parameter 5 | B14: =ErgebnisseProtein!A26 -> Haselnuss
A15: Parameter 6 | B15: =ErgebnisseProtein!A28 -> Paranuss
A16: Parameter 7 | B16: =ErgebnisseProtein!A30 -> Walnuss
A17: Parameter 8 | B17: =ErgebnisseProtein!A32 -> Macadamia
A18: Parameter 9 | B18: =ErgebnisseProtein!A37 -> Pistazien
A19: Parameter 10 | B19: =ErgebnisseProtein!A39 -> Fisch (Differenzierung unmöglich)
A20: Parameter 11 | B20: =ErgebnisseProtein!A41 -> Kabeljau (Gadus morhua)
A21: Parameter 12 | B21: =ErgebnisseProtein!A43 -> Tintenfisch
A22: Parameter 13 | B22: =ErgebnisseProtein!A45 -> Shrimps
A23: Parameter 14 | B23: =ErgebnisseProtein!A47 -> Senf (Differenzierung unmöglich)
A24: Parameter 15 | B24: =ErgebnisseProtein!A49 -> Senf, weiß/gelb (Sinapis alba)
A25: Parameter 16 | B25: =ErgebnisseProtein!A51 -> Senf, braun /schwarz (Brassica)
A26: Parameter 17 | B26: =ErgebnisseProtein!A53 -> Gluten
A27: Parameter 18 | B27: =ErgebnisseProtein!A55 -> Soja
A28: Parameter 19 | B28: =ErgebnisseProtein!A58 -> Sellerie
A29: Parameter 20 | B29: =ErgebnisseProtein!A60 -> Ei (vom Huhn) - Zutat!
A30: Parameter 21 | B30: =ErgebnisseProtein!A62 -> Milchprotein, allgemein
A31: Parameter 22 | B31: =ErgebnisseProtein!A64 -> Molkenprotein
A32: Parameter 23 | B32: =ErgebnisseProtein!A66 -> Casein
A33: Parameter 24 | B33: =ErgebnisseProtein!A68 -> Lactose

Sheet ErgebnisseMolekular
A1: Ergebnisdatenblatt (Resultsheet) | E1: Kunden-Nr. (Client-Nb.)
A2: Allergene (molekularbiologische Verfahren) | E2: Postleitzahl (ZIP-Code)
A3: Brühwurst / Canned Saussage | E3: interne Teilnahme: | G3: 1 | H3: V.1
A4: Einsendeadresse: | B4: ergebnisse@lvus.de | E4: =MAX(Bezug!A3:A28)-1 -> 25 | G4: =IF(ISBLANK(G1),"",IF(ISNUMBER(VALUE(G1)),"","Bitte nur Ziffern eingeben (numbers only)")) | H4: =MAX('DNA-Extraktion'!$A$4:$A$22)-1 -> 18
A5: Annahmeschluss/Deadline: | E5: 44220 | G5: =IF(ISBLANK(G2),"",IF(ISNUMBER(VALUE(G2)),"","Bitte nur Ziffern eingeben (numbers only)"))
A7: Bitte werten Sie Ihre Messergebnisse aus und teilen Sie daraufhin je Untersuchungsparameter und Probe genau ein einziges zusammengefasstes Untersuchungsergebnis (Beurteilungsergebnis) mit. Geben Sie dazu über die Auswahlmenüs Ihre qualitativen Ergebnisse an. Bei nicht nachweisbaren Parameter kreuzen Sie bitte „negativ“ und bei zweifelhaften Ergebnissen (Spur, im Bereich der Nachweisgrenze des angewendeten Verfahrens) wählen Sie „unsicher“ aus. Beim eindeutigen Nachweis eines Allergens in der Probe wählen Sie bitte „positiv“.
A8: Falls Sie einen Parameter "negativ" beurteilen, geben Sie bitte die entsprechende Nachweisgrenze des Verfahrens mit vorangestelltem "< " an - bei Beurteilung "positiv" entsprechend mit vorangestelltem "> ". Sofern Sie ein quantitatives Verfahren einsetzen, geben Sie bitte den in der Proben festgestellten Gehalt an. Bei Gehalten über 10 mg/kg sollen die Ergebnisse mit drei und unter 10 mg/kg mit zwei signifikanten Ziffern angegeben werden.
A9: Sofern es Ihre Verfahren ermöglichen, führen Sie bitte Beurteilungen der Ergebnisse mit positivem Befund durch (diese Beurteilungen werden nicht bewertet, sondern lediglich informativ aufgeführt). Unterscheiden Sie hierzu bitte, ob unter Berücksichtigung der Messunsicherheit der Beurteilungswert des jeweiligen Allergens gesichert überschritten oder unterschritten ist. Liegt das Ergebnis im Streubereich des Beurteilungswertes (Messwert im Bereich Beurteilungswert ± Messunsicherheit), wählen Sie bitte „positiv, Streubereich des Beurteilungswerts“ aus.
A10: Tragen Sie die Codes mit den Angaben zu den Verfahrensprinzipien und zur Durchführung in die gelb hinterlegten Felder ein (nur bei gelb hinterlegten Feldern werden Eingaben erwartet, bitte keine Eingaben bei grauen Feldern). Die entsprechenden Codes finden Sie in den entsprechend bezeichneten separaten Datenblättern und auf den zusammen mit den Proben versendeten Ergebnisdatenblättern. Falls ein von Ihnen angewendetes Verfahrensprinzip, eine Bezugsquelle oder die näher spezifizierte Durchführung in den Listen noch fehlen sollten, ergänzen Sie die Daten bitte im Bereich der Buchstaben und geben dann beim jeweiligen Parameter den bei der Ergänzung stehenden Buchstaben an.
A11: Beim Parameter Lactose erfolgt die Auswahl des angewendeten Verfahrens abweichend über ein Auswahlmenü. Sollten Sie Ihre Verfahren dabei nicht finden, wählen Sie bitte "Sonstiges" aus und geben Sie Ihr Verfahren anschließend in das vorgesehene Feld ein.
A12: Falls Sie einen Parameter nicht bearbeiten, lassen Sie die zugehörigen Ergebnisdatenfelder bitte leer. If You are not analysing parameters in Your laboratory do not write anything into the corresponding fields for the results.
A13: =IF(OR(ISBLANK(G1),ISBLANK(G2)),"Die Tabelle ist so nicht versandfertig. Es fehlen noch Eingaben bei Kunden-Nr. und/oder Postleitzahl. Nur wenn diese beiden Felder ausgefüllt sind, kann der Absender dieser Tabelle korrekt identifiziert werden.","Wichtig: Sind Ihre Eingaben bei Kunden-Nr. und Postleitzahl korrekt?") -> Die Tabelle ist so nicht versandfertig. Es fehlen noch Eingaben bei Kunden-Nr. und/oder Postleitzahl. Nur wenn diese beiden Felder ausgefüllt sind, kann der Absender dieser Tabelle korrekt identifiziert werden.
A14: Tabelle wurde bereits einmal erfolgreich gesendet, es handelt sich um eine Aktualisierung:
A15: Parameter | B15: Ergebnis (molekularbiologische V.) | D15: Verfahrens- prinzip | E15: Bezugsquelle | F15: Bezugs- Code | G15: Durch-führung | H15: DNA-Extraktion
A16: Erbse | B16: 7 | E16: 26 | H16: 19
A17: Gehalt [mg/kg]
A18: Lupine | B18: 7 | E18: 26 | H18: 19
A19: Gehalt [mg/kg]
A20: Sesam | B20: 7 | E20: 26 | H20: 0
A21: Gehalt [mg/kg]
A22: Mandel | B22: 7 | E22: 26 | H22: 19
A23: Gehalt [mg/kg]
A24: Erdnuss | B24: 7 | E24: 26 | H24: 19
A25: Gehalt [mg/kg]
A26: Haselnuss | B26: 7 | E26: 26 | H26: 19
A27: Gehalt [mg/kg]
A28: Paranuss | B28: 7 | E28: 26 | H28: 0
A29: Gehalt [mg/kg]
A30: Walnuss | B30: 7 | E30: 26 | H30: 0
A31: Gehalt [mg/kg]
A32: Macadamia | B32: 7 | E32: 26 | H32: 19
A33: Gehalt [mg/kg]
A34: Cashew | B34: 7 | E34: 26 | H34: 19
A35: Gehalt [mg/kg]
A36: Parameter | B36: Ergebnis (molekularbiologische V.) | D36: Verfahrens- prinzip | E36: Bezugsquelle | F36: Bezugs- Code | G36: Durch-führung | H36: DNA-Extraktion
A37: Pistazien | B37: 7 | E37: 26 | H37: 19
A38: Gehalt [mg/kg]
A39: Fisch (Differenzierung unmöglich) | B39: 7 | E39: 26 | H39: 19
A40: Gehalt [mg/kg]
A41: Kabeljau (Gadus morhua) | B41: 7 | E41: 26 | H41: 19
...

Sheet ErgebnisseProtein
A1: Ergebnisdatenblatt (Resultsheet) | E1: Kunden-Nr. (Client-Nb.) | G1: =IF(ISBLANK(ErgebnisseMolekular!G1),"Bitte bei ErgebnisseMolekular angeben",ErgebnisseMolekular!G1) -> Bitte bei ErgebnisseMolekular angeben
A2: Allergene (Protein-basierende Verfahren) | E2: Postleitzahl (ZIP-Code) | G2: =IF(ISBLANK(ErgebnisseMolekular!G2),"Bitte bei ErgebnisseMolekular angeben",ErgebnisseMolekular!G2) -> Bitte bei ErgebnisseMolekular angeben
A3: Brühwurst / Canned Saussage | E3: interne Teilnahme: | G3: =ErgebnisseMolekular!G3 -> 1 | H3: =ErgebnisseMolekular!H3 -> V.1
A4: Einsendeadresse: | B4: ergebnisse@lvus.de
A5: Annahmeschluss/Deadline: | E5: 44220
B6: =MAX(Ergebnis!A3:A9) -> 7 | E6: =MAX(Bezug!A3:A28)-1 -> 25 | H6: =MAX(#REF!)-1 -> #REF!
A7: Bitte werten Sie Ihre Messergebnisse aus und teilen Sie daraufhin je Untersuchungsparameter und Probe genau ein einziges zusammengefasstes Untersuchungsergebnis (Beurteilungsergebnis) mit. Geben Sie dazu über die Auswahlmenüs Ihre qualitativen Ergebnisse an. Bei nicht nachweisbaren Parameter kreuzen Sie bitte „negativ“ und bei zweifelhaften Ergebnissen (Spur, im Bereich der Nachweisgrenze des angewendeten Verfahrens) wählen Sie „unsicher“ aus. Beim eindeutigen Nachweis eines Allergens in der Probe wählen Sie bitte „positiv“.
A8: Falls Sie einen Parameter "negativ" beurteilen, geben Sie bitte die entsprechende Nachweisgrenze des Verfahrens mit vorangestelltem "< " an - bei Beurteilung "positiv" entsprechend mit vorangestelltem "> ". Sofern Sie ein quantitatives Verfahren einsetzen, geben Sie bitte den in der Proben festgestellten Gehalt an. Bei Gehalten über 10 mg/kg sollen die Ergebnisse mit drei und unter 10 mg/kg mit zwei signifikanten Ziffern angegeben werden.
A9: Sofern es Ihre Verfahren ermöglichen, führen Sie bitte Beurteilungen der Ergebnisse mit positivem Befund durch (diese Beurteilungen werden nicht bewertet, sondern lediglich informativ aufgeführt). Unterscheiden Sie hierzu bitte, ob unter Berücksichtigung der Messunsicherheit der Beurteilungswert des jeweiligen Allergens gesichert überschritten oder unterschritten ist. Liegt das Ergebnis im Streubereich des Beurteilungswertes (Messwert im Bereich Beurteilungswert ± Messunsicherheit), wählen Sie bitte „positiv, Streubereich des Beurteilungswerts“ aus.
A10: Tragen Sie die Codes mit den Angaben zu den Verfahrensprinzipien und zur Durchführung in die gelb hinterlegten Felder ein (nur bei gelb hinterlegten Feldern werden Eingaben erwartet, bitte keine Eingaben bei grauen Feldern). Die entsprechenden Codes finden Sie in den entsprechend bezeichneten separaten Datenblättern und auf den zusammen mit den Proben versendeten Ergebnisdatenblättern. Falls ein von Ihnen angewendetes Verfahrensprinzip, eine Bezugsquelle oder die näher spezifizierte Durchführung in den Listen noch fehlen sollten, ergänzen Sie die Daten bitte im Bereich der Buchstaben und geben dann beim jeweiligen Parameter den bei der Ergänzung stehenden Buchstaben an.
A11: Beim Parameter Lactose erfolgt die Auswahl des angewendeten Verfahrens abweichend über ein Auswahlmenü. Sollten Sie Ihre Verfahren dabei nicht finden, wählen Sie bitte "sonstiges" aus und geben Sie Ihr Verfahren anschließend in das vorgesehene Feld ein.
A12: Falls Sie einen Parameter nicht bearbeiten, lassen Sie die zugehörigen Ergebnisdatenfelder bitte leer. If You are not analysing parameters in Your laboratory do not write anything into the corresponding fields for the results.
A13: =IF(OR(ISBLANK(ErgebnisseMolekular!G1),ISBLANK(ErgebnisseMolekular!G2)),"Die Tabelle ist so nicht versandfertig. Es fehlen noch Eingaben bei Kunden-Nr. und/oder Postleitzahl in der Tabelle ErgebnisseMolekular. Nur wenn diese beiden Felder ausgefüllt sind, kann der Absender dieser Tabelle korrekt identifiziert werden.","Wichtig: Sind Ihre Eingaben bei Kunden-Nr. und Postleitzahl korrekt?") -> Die Tabelle ist so nicht versandfertig. Es fehlen noch Eingaben bei Kunden-Nr. und/oder Postleitzahl in der Tabelle ErgebnisseMolekular. Nur wenn diese beiden Felder ausgefüllt sind, kann der Absender dieser Tabelle korrekt identifiziert werden.
A14: Tabelle wurde bereits einmal erfolgreich gesendet, es handelt sich um eine Aktualisierung:
A15: Parameter | B15: Ergebnis (Protein-basierend) | D15: Verfahrens- prinzip | E15: Bezugsquelle | F15: Bezugs- Code | G15: Durch-führung | H15: Hinweis
A16: Erbse | B16: 7 | E16: 26
A17: Gehalt [mg/kg]
A18: Lupine | B18: 7 | E18: 26
A19: Gehalt [mg/kg]
A20: Sesam | B20: 7 | E20: 26
A21: Gehalt [mg/kg]
A22: Mandel | B22: 7 | E22: 26
A23: Gehalt [mg/kg]
A24: Erdnuss | B24: 7 | E24: 26
A25: Gehalt [mg/kg]
A26: Haselnuss | B26: 7 | E26: 26
A27: Gehalt [mg/kg]
A28: Paranuss | B28: 7 | E28: 26
A29: Gehalt [mg/kg]
A30: Walnuss | B30: 7 | E30: 26
A31: Gehalt [mg/kg]
A32: Macadamia | B32: 7 | E32: 26
A33: Gehalt [mg/kg]
A34: Cashew | B34: 7 | E34: 26
A35: Gehalt [mg/kg]
A36: Parameter | B36: Ergebnis (Protein-basierend) | D36: Verfahrens- prinzip | E36: Bezugsquelle | F36: Bezugs- Code | G36: Durch-führung | H36: Hinweis
A37: Pistazien | B37: 7 | E37: 26
A38: Gehalt [mg/kg]
A39: Fisch (Differenzierung unmöglich) | B39: 7 | E39: 26
A40: Gehalt [mg/kg]
...

Sheet Mitteilungen
A1: Nachfolgend können Sie uns ergänzende Hinweise geben oder wichtige Beobachtungen mitteilen. | H1: =COUNTA(A2:G38) -> 0

Sheet Ergebnis qualitativ
A2: Ergebnis | B2: Erläuterung
A3: positiv, sicher oberhalb Beurteilungswert | B3: Das Allergen ist sicher nachgewiesen und der festgestellte Gehalt liegt unter Berücksichtigung der Messunsicherheit des Verfahrens sicher oberhalb des Beurteilungswerts
A4: positiv, Streubereich des Beurteilungswerts | B4: Das Allergen ist sicher nachgewiesen und der festgestellte Gehalt liegt unter Berücksichtigung der Messunsicherheit des Verfahrens im Streubereich des Beurteilungswerts
A5: positiv, sicher unterhalb Beurteilungswert | B5: Das Allergen ist sicher nachgewiesen und der festgestellte Gehalt liegt unter Berücksichtigung der Messunsicherheit des Verfahrens sicher unterhalb des Beurteilungswerts
A6: positiv (Ergebnis ohne Bewertung) | B6: Das Allergen ist sicher nachgewiesen. Aus internen Gründen erfolgt keine Aussage bezüglich Gehalt in der Probe und Beurteilungswert
A7: unsicher (zweifelhaftes Ergebnis) | B7: Das Testergebnis ist weder eindeutig positiv noch eindeutig negativ (im Bereich der Erfassungsgrenze)
A8: negativ | B8: Das Allergen ist nicht in der Probe enthalten

Sheet Prinzipien
A1: Vordefinierte Prinzipien der angewendeten Verfahren
A3: lfd. Nummer | B3: Prinzip
A4: 1 | B4: ELISA
A5: 2 | B5: Real-Time PCR
A6: 3 | B6: PCR
A7: 4 | B7: Multiplex Real-time PCR
A8: 5 | B8: Immunologisch mit Teststrips
A9: 6 | B9: LC-MS/MS
A10: 7 | B10: ddPCR
A11: 8 | B11: Sequenzierung
A12: 9 | B12: Sonstiges (Bitte Prinzip unten aufführen)
A16: Falls Sie Ihr Verfahrensprinzip nicht unter den vordefinierten finden, so ergänzen Sie bitte Ihr(e) Prinzip(ien) in der
A17: nachfolgenden Tabelle und verwenden Sie die zugehörigen Codes beim entsprechenden Parameter.
A19: lfd.Buchstabe | B19: Bezeichnung des Sonstigen Prinzips
A20: A
A21: B
A22: C
A23: D
A24: E
A25: F
A26: G
A27: H
A28: I
A29: J
A30: K

Sheet Bezugsquellen
A1: Vordefinierte Bezugsquellen
A3: lfd. Nummer | B3: Bezugsquelle
A4: 1 | B4: Nicht kommerziell
A5: 2 | B5: r-biopharm
A6: 3 | B6: Coring System
A7: 4 | B7: Veratox
A8: 5 | B8: TIBMOLBIOL
A9: 6 | B9: Tepnel
A10: 7 | B10: Congen
A11: 8 | B11: Neogene
A12: 9 | B12: ELISA Systems
A13: 10 | B13: Oxoid
A14: 11 | B14: Koeppel / Microsynth
A15: 12 | B15: Microsynth
... A28: 25 | B28: Sonstige (bitte Bezugsquelle unten aufführen)
A31: Falls Sie Ihre Bezugsquelle nicht unter den vordefinierten finden, so wählen Sie "sonstige" aus und ergänzen Ihre Bezugsquelle in der
A32: nachfolgenden Tabelle und verwenden Sie die zugehörigen Codes beim entsprechenden Parameter in der Spalte "Code".
A34: lfd.Buchstabe | B34: Sonstige Bezugsquelle
A35: A
A36: B
A37: C
A38: D
A39: E
A40: F
A41: G
A42: H
A43: I
A44: J
A45: K

Sheet Durchführungen
A1: Vordefinierte Versuchdurchführungen bzw. Methodenbeschreibungen
A3: lfd.Nummer | B3: Beschreibung des Durchführungsverfahrens
A4: 1 | B4: Durchführung nach Testanleitung
A5: 2 | B5: Hausmethode (Eigenentwicklung)
A6: 3 | B6: § 64 LFGB Nr. L 08.00-56 (DIN CEN/TS 15634-2:2012)
A7: 4 | B7: § 64 LFGB Nr. L 08.00-58(V)
A8: 5 | B8: § 64 LFGB Nr. L 08.00-59
A9: 6 | B9: § 64 LFGB Nr. L 08.00-65 (2016 bzw. 2017)
A10: 7 | B10: § 64 LFGB Nr. L 14.02-4
A11: 8 | B11: § 64 LFGB Nr. L 18.00-20:2014-08
A12: 9 | B12: § 64 LFGB Nr. L 44.00-08:2010-01
A13: 10 | B13: § 64 LFGB Nr. L 44.00-11
A14: 11 | B14: § 64 LFGB Nr. L 00.00-105
A15: 12 | B15: All All A
... A48: 45 | B48: § 64 LFGB Nr. L 12.01-3
A51: Falls Sie Ihr Verfahren nicht unter den vordefinierten finden, so ergänzen Sie bitte Ihr(e) Verfahren
A52: in der nachfolgenden Tabelle und verwenden Sie die zugehörigen Codes beim entsprechenden Parameter.
A54: lfd.Buchstabe | B54: Bezeichnung des sonstigen Verfahrens
A55: A
A56: B
A57: C
A58: D
A59: E
A60: F
A61: G
A62: H
A63: I
A64: J
A65: K

Sheet Extraktion der DNA
A1: Vordefinierte Vorgehensweisen bei der DNA-Extraktion
A3: lfd.Nummer | B3: Beschreibung des Durchführungsverfahrens
A4: 1 | B4: kommerzieller DNA-Extraktionskit: (bitte angeben)
A5: 2 | B5: CTAB-Methode mit weiterer Aufreinigung (s. z.B. § 64 LFGB L 08.00-56)
A6: 3 | B6: CTAB-Präzipitationsmethode (s. z.B. § 64 LFGB, Methodenentwürfe Reis- und Weizenkeks)
A7: 4 | B7: Wizard-Methode (SLMB)
A8: 5 | B8: Nucleo Spin Food Kit von Macherey & Nagel
A9: 6 | B9: Congen Allergen Prep
A10: 7 | B10: SureFood Prep Plant-Kit
A11: 8 | B11: DNeasy Tissue Kit QIAGEN
A12: 9 | B12: Qiagen Mericon Food Kit
A13: 10 | B13: Genespin Eurofins
A14: 11 | B14: SureFood PREP Advanced, Protokoll 2, R-Biopharm (Congen)
A15: 12 | B15: SureFood PREP Basic
... A20: 17 | B20: CTAB, Proteinase K, Promega Wizard DNA CleanUp
A26: Falls Sie Ihr Verfahren zur Extraktion von DNA nicht unter den vordefinierten finden, so ergänzen Sie bitte Ihr(e) Verfahren
A27: in der nachfolgenden Tabelle und verwenden Sie die zugehörigen Codes beim entsprechenden Parameter.
A29: lfd.Buchstabe | B29: Beschreibung der sonstigen DNA-Extraktion Verfahrens
A30: A
A31: B
A32: C
A33: D
A34: E
A35: F
A36: G
A37: H
A38: I
A39: J
A40: K

Sheet DNA-Extraktion
A1: Vordefinierte Vorgehensweisen bei der DNA-Extraktion
A3: lfd.Nummer | B3: Beschreibung des Durchführungsverfahrens
A4: 1 | B4: kommerzieller DNA-Extraktionskit: (bitte angeben)
A5: 2 | B5: CTAB-Methode mit weiterer Aufreinigung (s. z.B. § 64 LFGB L 08.00-56)
A6: 3 | B6: CTAB-Präzipitationsmethode (s. z.B. § 64 LFGB, Methodenentwürfe Reis- und Weizenkeks)
A7: 4 | B7: Wizard-Methode (SLMB)
A8: 5 | B8: Nucleo Spin Food Kit von Macherey & Nagel
A9: 6 | B9: Congen Allergen Prep
A10: 7 | B10: SureFood Prep Plant-Kit
A11: 8 | B11: DNeasy Tissue Kit QIAGEN
A12: 9 | B12: Qiagen Mericon Food Kit
A13: 10 | B13: Genespin Eurofins
A14: 11 | B14: SureFood PREP Advanced, Protokoll 2, R-Biopharm (Congen)
A15: 12 | B15: SureFood PREP Basic
... A21: 18 | B21: Sonstige
A22: 19
A25: Falls Sie Ihr Verfahren zur Extraktion von DNA nicht unter den vordefinierten finden, so ergänzen Sie bitte Ihr(e) Verfahren
A26: in der nachfolgenden Tabelle und verwenden Sie die zugehörigen Codes beim entsprechenden Parameter.
A28: lfd.Buchstabe | B28: Bezeichnung des sonstigen Verfahrens
A29: A
A30: B
A31: C
A32: D
A33: E
A34: F
A35: G
A36: H
A37: I
A38: J
A39: K

Sheet Ergebnis
A2: Ergebnis | B2: Erläuterung
A3: 1 | B3: positiv, sicher oberhalb Beurteilungswert
A4: 2 | B4: positiv, Streubereich des Beurteilungswerts
A5: 3 | B5: positiv, sicher unterhalb Beurteilungswert
A6: 4 | B6: positiv (Ergebnis ohne Bewertung)
A7: 5 | B7: unsicher (zweifelhaftes Ergebnis)
A8: 6 | B8: negativ
A9: 7

Sheet Bezug
C1: =MAX($A$3:$A$28)-1 -> 25
A2: Code | B2: Bezugsquelle
A3: 1 | B3: Nicht kommerziell
A4: 2 | B4: r-biopharm
A5: 3 | B5: Coring System
A6: 4 | B6: Veratox
A7: 5 | B7: TIBMOLBIOL
A8: 6 | B8: Tepnel
A9: 7 | B9: Congen
A10: 8 | B10: Neogene
A11: 9 | B11: ELISA Systems
A12: 10 | B12: Oxoid
A13: 11 | B13: Koeppel / Microsynth
A14: 12 | B14: Microsynth
... A27: 25 | B27: Sonstige (bitte Bezugsquelle unten aufführen)
A28: 26

Sheet Prinzip
B1: 5 | C1: =MAX($A$3:$A$7)-1 -> 4
A2: Methode | B2: Bezeichnung des Analysenverfahrens | C2: Anzahl
A3: 1 | B3: ELISA
A4: 2 | B4: Real-Time PCR
A5: 3 | B5: PCR
A6: 4 | B6: Multiplex Real-time PCR
A7: 5 | B7: Immunologisch mit Teststrips
A8: 6 | B8: LC-MS/MS
A9: 7 | B9: ddPCR
A10: 8 | B10: Sequenzierung
A11: 9 | B11: Sonstiges (Bitte Prinzip unten aufführen)
A12: 10

Sheet Durchführung
B1: 5 | C1: =MAX(A3:A49)-1 -> 46
A2: Methode | B2: Bezeichnung des Analysenverfahrens
A3: 1 | B3: Durchführung nach Testanleitung
A4: 2 | B4: Hausmethode (Eigenentwicklung)
A5: 3 | B5: § 64 LFGB Nr. L 08.00-56 (DIN CEN/TS 15634-2:2012)
A6: 4 | B6: § 64 LFGB Nr. L 08.00-58(V)
A7: 5 | B7: § 64 LFGB Nr. L 08.00-59
A8: 6 | B8: § 64 LFGB Nr. L 08.00-65 (2016 bzw. 2017)
A9: 7 | B9: § 64 LFGB Nr. L 14.02-4
A10: 8 | B10: § 64 LFGB Nr. L 18.00-20
A11: 9 | B11: § 64 LFGB Nr. L 44.00-8
A12: 10 | B12: § 64 LFGB Nr. L 44.00-11
A13: 11 | B13: § 64 LFGB Nr. L 00.00-105
A14: 12 | B14: All All A
... A48: 46 | B48: Sonstige (Bitte Quelle unten aufführen)
A49: 47

Sheet Lactose
A1: Lactose | B1: 20 | C1: =MAX($A$3:$A$22)-1 -> 19
A2: Methode | B2: Bezeichnung des Analysenverfahrens | C2: Anzahl
A3: 1 | B3: § 64 LFGB Nr. L 44.00-6
A4: 2 | B4: § 64 LFGB Nr. L 44.00-6, modifiziert | C4: x
A5: 3 | B5: § 64 LFGB Nr. L 07.00-23
A6: 4 | B6: § 64 LFGB Nr. L 07.00-23, modifiziert | C6: x
A7: 5 | B7: Enzymatisch nach r-biopharm / roche 10 176 303 035 (Lac/Galac)
A8: 6 | B8: Enzymatisch nach r-biopharm 10 986 119 035
A9: 7 | B9: Enzymatisch nach SCIL 200 086
A10: 8 | B10: HPLC (diverse Detektoren)
A11: 9 | B11: Polarimetrisch nach Thieler: ZLUF 80 440-449 (1940)
A12: 10 | B12: Ionenchromatographie nach Carrez-Klärung
A13: 11 | B13: HPLC auf Kationenaustauscher mit Bleibelegung (analog 64 LFGB Nr. L 00.00-72: Bestimmung der Zuckeralkohole)
A14: 12 | B14: Hochleistungs-Anionen-Austausch Chromatographie mit gepulster amperometrischer Detektion
A15: 13 | B15: Ionenchromatographie (diverse Detektoren)
A16: 14 | B16: EnzymeFast Lactose, Firma ifp Institut für Produktqualität
A17: 15 | B17: § 64 LFGB Nr. L 08.00-24
A18: 16 | B18: § 64 LFGB Nr. L 08.00-24, modifiziert | C18: x
A19: 17 | B19: Enzymatisch (Enzytec r-biopharm: E8110 / E8120)
A20: 18 | B20: GC-MS
A21: 19 | B21: Sonstiges (Bitte angeben)
A22: 20
