Workbook
Name _ftn1: Hints1!#REF!
Name _ftn1: Hinweise1!#REF!
Name _ftn1: Hinweise3!$A$3
Name _ftnref1: Hints1!$A$3
Name _ftnref1: Hinweise1!$A$2
Name _ftnref1: Hinweise3!#REF!
Name Daten: #REF!
Name MBlei: #REF!
Name OLE_LINK1: Ergebnisangabe!$A$20
Name OLE_LINK1: Reporting!$A$14
Name OLE_LINK2: Reporting!$J$7
Name Parameter2: #REF!
Name Parameter2: #REF!
Name Parameter2: Parameter2!$B$5:$B$18
Name Parameter2alt: #REF!
Name test: [1]Parameter2!$B$3:$B$18
Name test: [2]Parameter2!$B$3:$B$18
Name test: [2]Parameter2!$B$3:$B$18
Name test: [1]Parameter2!$B$3:$B$18
Name test: [1]Parameter2!$B$3:$B$18

Sheet Hints1
A1: References to the result transmission and to the indication of result (Deadline see "Ergebnisse")
A2: Before analysing the samples, homogenize the samples again, please. After homogenisation You should analyse both samples with your standard procedures.
A3: Use this file for your result transmissions, please. Fill for this in the file yellow fields deposited out and send back the file afterwards by email to “ergebnisse@lvus.de”. It is important that for the clear allocation of the results to your laboratory in the table "Ergebnisse" (results) your client number and your postal zip code must be entered (both numbers only).
A4: The result data must be given in in the units as described at every parameter. To the avoidance of deviations in the laboratory made roundness, You are asked with each parameter after the first number deviating from 0 to indicate still the listened further numbers (even if due to Your validating data this accuracy is not kept by your analysis procedure). ISO 13 528 4.6 recommends that individual measurement results schould not be rounded by more than sr/2.
A6: Examples for transmissions of results:
A7: It a test material the element "Mg" was quantified. You are asked to report 3 significant numbers. The following computational contents are determined:
A9: Computed Value [mg/kg] | B9: Transmission of result [mg/kg]
A10: 1379 | B10: 1380
A11: 179.34 | B11: 179
A12: 80.12 | B12: 80.1
A13: 7.8 | B13: 7.8

Sheet Reporting

Sheet Hinweise1
A1: Hinweise zur Ergebnisübermittlung und zur Ergebnisangabe
A2: Bitte verwenden Sie diese Datei für Ihre Ergebnisübermittlung. Füllen Sie hierzu alle in der Tabelle "Ergebnisse" gelb hinterlegten Felder aus bzw. wählen Sie Ihre Angaben zu den von Ihnen verwendeten Methoden über die vorhandenen Auswahlfenster aus.
A3: Die ausgefüllte Exceltabelle muss per eMail als Anlage bis spätestens zur Deadline an eine der beiden Adressen ergebnisse@lvus.de oder results@lvus.de gesendet werden. Bitte beachten Sie, dass Ihre eMail nur die Exceltabelle als Anlage enthalten darf. Ausser Ihrem Absender soll die eigentliche eMail keine weiteren Daten oder Texte enthalten, da alle an die Adressen ergebnisse@lvus.de oder results@lvus.de gesendeten eMails automatisch ausgelesen werden.
A4: Nach der in der Tabelle "Ergebnisse" aufgeführten Deadline eingehende Ergebnisse werden bei der Auswertung nicht berücksichtigt.
A5: Es ist wichtig, dass Sie zur eindeutigen Zuordnung der Ergebnisse zu Ihrem Labor sowohl Ihre Kunden-Nr. als auch Ihre Postleitzahl (auf dem Anschreiben enthalten - nur Ziffern eingeben) eingeben. Über eine bei der Auswertung durchgeführte Plausibilitätsprüfung soll erkannt werden, ob Tippfehler vorliegen und dadurch die Daten einem anderen Teilnehmer zugeordnet werden könnten.
A6: Interne Teilnahme: Diesen Wert bitte nur ändern, falls Sie für Ihr Haus mehrere getrennte und damit kostenpflichtige Teilnahmen gebucht haben. Über diesen Wert werden die unter einer Kundennummer geführten Teilnahmen getrennt erfasst und die Ergebnisse anschließend der Auswertung zugeführt. Entscheiden Sie, welcher Ihrer Laborbereiche unter der Teilnahme 1 oder 2 registirert und ausgewertet werden soll.
A7: Die Ergebnisangaben müssen in der/den vorgegebenen Maßeinheiten erfolgen - Ihre Angaben werden ohne Änderungen zur Auswertung verwendet! Zur Vermeidung von Abweichungen durch bereits im Labor vorgenommene Rundungen werden Sie gebeten, bei jedem Parameter eine bestimmte Anzahl signifikanter Ziffern anzugeben (auch wenn auf Grund Ihrer Validierungsdaten diese Genauigkeit von Ihrem Analysenverfahren nicht eingehalten wird). Nach ISO 13528 Abschnitt 4.6 sollen Ergebnisse nicht stärker gerundet werden als dem halben Betrag der Wiederholstandardabweichung entspricht.
A8: Beispiele zur Ergebnisangabe: In einer Probe wurde der Gehalt von Mangan bestimmt. Es werden folgende rechnerischen Gehalte ermittelt:
A9: Beispielhafter Wert [mg/kg] | B9: Ergebnisangabe mit 3 signifikanten Ziffern [mg/kg]
A10: 1379 | B10: 1380
A11: 179.34 | B11: 179
A12: 80.12 | B12: 80.1
A13: 7.8 | B13: 7.8
A15: Verfahren sowie Literaturangaben, die von Teilnehmern bei bereits durchgeführten Laborvergleichsuntersuchungen angewendet wurden, sind in Auswahlfenstern vorbelegt, um Ihnen das Ausfüllen zu erleichtern. Über diese Auswahlfenster wählen Sie bitte diejenigen Einträge aus, die bei den von Ihnen angewandten Verfahren zutreffend sind. Ist kein zutreffender Eintrag vorhanden, so wählen Sie bitte den Eintrag "sonstiges.." aus. Tragen Sie dann in der nächsten Zeile (wird gelb hervorgehoben) die auf Ihr Verfahren zutreffende Beschreibung ein.
A16: Geben Sie in der Tabelle "Kontakt" den Namen, die eMail-Adresse sowie die Telefonnummer der Kontaktperson an, die wir bei Fragen kontaktieren können. Nach Fertigstellung der Auswertung soll an die angegebene eMail-Adresse zusätzlich zur gedruckten Auswertung auch eine Passwort-freie Auswertedatei im PDF-Format gesendet werden.
A17: Sollten Sie uns ergänzende Hinweise/Beobachtungen mitteilen wollen, so verwenden Sie hierfür den vorgesehenen Bereich innerhalb der Tabelle "Mitteilungen".
A18: Da Ihre eMail automatisch weiterverarbeitet wird, dürfen nur in der Exceltabelle Kommentare oder Hinweise zu den Proben und durchgeführten Untersuchungen enthalten sein. Außerdem darf Ihre eMail nur eine einzige Anlage enthalten. Sie erhalten automatisch eine Benachrichtigung über den Eingang Ihrer Ergebnisse.

Sheet Hinweise2
A1: Erläuterungen zur Weiterverarbeitung Ihrer Daten
A2: Diese Tabellen wurden so aufgebaut, dass die Daten automatisiert in unser Auswerteprogramm übernommen werden können. Die Tabellen dürfen daher keinesfalls im Aufbau verändert werden, da dann ein automatisiertes Auslesen der mitgeteilten Daten nicht mehr möglich wäre.
A3: Aus diesem Grund wurden die Tabellen gegen Veränderungen geschützt. Eingaben oder auch die Auswahl von Eigenschaften sind nur an wenigen Stellen nötig. Diese Stellen sind gelb hinterlegt.
A4: Da das Ausführen von Macros eine potentielle Gefährdung von Computersystemen bedeuten kann, gehen wir davon aus, dass ausführbare Macros in zahlreichen Fällen von den entsprechenden System-Administratoren unterdrückt werden. Deshalb wurde auf die Verwendung von Macros bei der Erstellung der Tabellen zur Ergebniserfassung komplett verzichtet, obwohl damit ein komfortableres Arbeiten möglich wäre.
A5: Beim Eingang Ihrer eMail wird diese von unserem System automatisch weiterverarbeitet, wobei einige Plausibilitäten (z.B. Vollständigkeit der Absenderangabe oder Kennzeichnung als Update bei erneuter Dateneinsendung) überprüft werden. Im Anschluss an diese Prüfung erhalten Sie automatisiert eine eMail-Antwort. Darin werden Sie darüber informiert, ob Ihre Daten prinzipiell weiterverarbeitet werden können oder ob benötigte Einträge fehlen und Sie Ihre Ergebnisse nach Ergänzung der fehlenden Angaben erneut einsenden sollen. Eine Prüfung auf Vollständigkeit von Ergebnisangaben (sind überhaupt Ergebnnisdaten vorhanden?) oder deren Angabe in den vorgegebenen Maßeinheiten wird zu diesem Zeitpunkt nicht vorgenommen.
A6: Sollten Sie noch vor dem Ende der Ergebnisannahme bemerken, dass in Ihrer Ergebnistabelle Fehler enthalten sind, so senden Sie einfach eine korrigierte Version an die Adresse ergebnisse@lvus.de. Kennzeichnen Sie in diesem Fall Ihre Tabelle als Aktualisierung, da ansonsten das System die Annahme der Daten zurückweist ("es sind ja bereits Daten von Ihnen vorhanden"). Ihre aktualiserte Ergebnistabelle muss vollständig ausgefüllt sein und insbesondere alle Ergebnisdaten der Vorversion enthalten, da bei einer Kennzeichung als Aktualiserung (Update) die zuvor eingesandte Ergebnistabelle durch die Aktualisierung vollständig ersetzt wird.
A7: Ihre Daten werden von uns wie mitgeteilt zur Auswertung verwendet. Selbst offensichtliche Fehler, wie - Tippfehler, - Übertragungsfehler in die Ergebniserfassungstabelle, - Angaben in einer anderen, von der Vorgabe abweichenden Maßeinheit werden zur Auswertung unverändert, also ohne Änderung übernommen und führen dann zu schlechten Bewertungen. Daher sollten Sie Ihre Eingaben sorgfältig durchführen und dabei insbesondere auch überprüfen, ob Ihre laborüblichen Maßeinheiten mit denen im Tabellenblatt übereinstimmen.
A8: Nach Ende der Frist zur Ergebnisabgabe sind Korrekturen nur noch möglich, falls die Auswertung der Daten noch nicht erfolgt ist. Korrekturen von fehlerhaften Teilnehmerangaben werden nach der Auswertung und insbesondere nach Veröffentlichung des Protokolls nicht mehr durchgeführt.

Sheet Hinweise3
A1: Hinweise zur Auswertung
A2: Die Beurteilung der Laborergebnisse erfolgt durch Z-Scores, die möglichst über die Vergleichsstandardabweichung des jeweiligen Standardverfahrens aus der Amtlichen Sammlung nach § 64 LFGB berechnet werden. Zusätzlich werden Z-Scores über die nach der Horwitz- funktion ermittelte Zielstandardabweichung für den jeweiligen Analyten berechnet.
A3: Mit abnehmenden Gehalten von Analyten in der Probe steigt die über die Horwitzfunktion berechnete Zielstandardabweichung stark an. So beträgt z.B. die relative Standardabweichung nach Horwitz 10 % bei einem Analytgehalt von 23 mg/kg und bereits 22,6 % bei einem Analytgehalt von 100 µg/kg.
A4: Zur Vermeidung zu „breiter“ Beurteilungszonen wird deshalb bei der Auswertung bei allen Parametern der Wert der Zielstandardabweichung auf maximal 22 % vom Wert des Medians beschränkt.
A5: Zunächst werden alle mitgeteilten Laborergebnisse berücksichtigt und die darüber berechneten statistischen Kenndaten für die Parameter aufgeführt.
A6: Zur Ermittlung der endgültigen statistischen Kenndaten werden bei allen in den Proben enthaltenen Wirkstoffe Zweitberechnungen durchgeführt. Bei diesen Zweitberechnungen bleiben generell die Ergebnisdaten von allen Laboratorien unberücksichtigt, deren Ergebnisse um mehr als 5 Zielstandardabweichungen (5 Z-Scores) vom Median des Analyten abweichen.
A7: Darüber hinaus bleiben bei allen Parametern zusätzlich alle Ergebnisse unberücksichtigt, die um mehr als 50 % vom Median abweichen und bei denen gleichzeitig der Betrag des Z-Score größer als 3 ist. Diese Regelung greift bei allen Parametern mit Analytgehalten unter 23 mg/kg.

Sheet Ergebnisangabe
A1: Hinweise zum Erfassen und Einsenden der Untersuchungsergebnisse
A2: Zur Bestimmung der Parameter sollen zwei vollständig getrennte Analysengänge durch¬geführt werden. Verwenden Sie für die Analysengänge 1 und 2 Probenmaterial aus verschiedenen Probeneinheiten.
A3: Benutzen Sie für die Ergebnisübermittlung diese vordefinierte Tabelle im Excelformat. Die Tabelle steht auch auf unserer Homepage (www.lvus.de) im Bereich „Download“ bereit.
A4: Geben Sie im Register "Kontakt" den Namen, die eMail-Adresse sowie die Telefonnummer der Kontaktperson an, die wir bei Fragen kontaktieren können. Nach Fertigstellung des Protokolls wird ausschließlich an die dort angegebenen eMail-Adressen vorab ein Passwort-freies Protokoll im PDF-Format gesendet.
A5: Tragen Sie im Register „Ergebnisse“ unbedingt Ihre Kundennummer und Ihre Postleitzahl ein, da darüber die Identifizierung des Einsenders erfolgt. In die beiden Datenfelder „Kundennummer“ und „Postleitzahl“ dürfen nur Ziffern eingegeben werden.
A6: Die Felder zur Eingabe Ihrer Ergebnisdaten sind nicht mit einer festen Nachkommazahl vordefiniert, um keine Hinweise auf eventuelle Gehalte von Parametern zu geben.
A7: Beachten Sie die Hinweise zu den gültigen (signifikanten) Ziffern bei den Parametern. Die Anzahl der Ziffern ist so zu wählen, dass beide Ergebnisse nur im Ausnahmefall aus iden¬tischen Ziffernfolgen bestehen. In einigen Fällen, z.B. bei Gehalten um 10 %, ist die Vorgabe gültiger Stellen schwierig: Die Ergebnisse „10,16% und 9,94% sind vergleichbar, nicht aber „10,2%“ und „9,94%“. Die Angabe einer zusätzlichen gültigen Stelle ist hier angebracht.
A8: Über Auswahlfelder sind gängige Untersuchungsverfahren bereits vordefiniert, um das Ausfüllen bei den Untersuchungsverfahren zu erleichtern. Sollten Sie ein nicht aufgeführtes Verfahren anwenden, wählen Sie „sonstiges“ aus und tragen Ihr Verfahren dann ein. Sofern weitere Informationen zur Auswertung nötig sind, werden auch gängige Verfahrensprinzipien und/oder Bezugsquellen kommerziell vertriebener Testsätze in ähnlicher Weise vordefiniert.
A9: In zahlreichen Fällen wird auch nachgefragt, ob Sie streng nach der Vorschrift gemäß § 64 LFGB arbeiten. Streng bedeutet, dass Sie ohne prüfrelevante Abweichungen arbeiten. Sollte die Abweichung lediglich die untersuchte Matrix sein (z.B. Ketchup anstelle von Brühwurst), dann soll dies nicht als Modifikation gekennzeichnet werden.
A10: Da Ihre eMail automatisch weiterverarbeitet wird, dürfen nur innerhalb der Exceltabelle in vordefinierten Bereichen Kommentare oder Hinweise zu den Proben und durchgeführten Untersuchungen enthalten sein (z.B. im Register „Mitteilungen“).
A11: Senden Sie uns die vollständig ausgefüllte Ergebnisdatei als Anlage im aktuellen Excelformat (Datei-Endung ".xlsx") oder im Format von Excel 2000 (Datei-Endung ".xls") per eMail an die Adresse „ergebnisse@lvus.de“. Ihre eMail darf nur eine einzige Anlage enthalten. eingesendete Tabellen verarbeiten.
A12: Nach dem Eingang in unserer Mailbox "ergebnisse@lvus.de" erhalten Sie automatisch eine Benachrichtigung/Bestätigung über den Eingang Ihrer eMail.
... A15: Senden Sie elektronisch mitgeteilte Ergebnisse nicht noch zusätzlich per Post oder Telefax.

Sheet Kontakt
A1: Kontaktperson | C1: Contact person
A2: Name | C2: Name
A3: eMail | C3: eMail-Address
A4: Telefon (inklusive Vorwahl): | C4: telefone (including country and area code)
A6: Bitte geben Sie den Namen, eMail-Adresse und die Telefonnummer der Person an, die wir bei Rückfragen kontaktieren können. An die aufgeführte eMailadresse wird das Protokoll zusätzlich auch als Passwort-freie PDF-Datei gesendet.
A8: Type in name, e-mail address and telefone number of the person we can contact in case of any questions, please. In addition to a printed version we will send a PDF-document (passwort-free) of the report to this e-mail address.
A10: Falls die Auswertung zusätzlich noch an eine zweite Adresse gesendet werden soll, geben Sie die zweite Adresse getrennt durch ein Semikolon mit nachfolgendem Leerzeichen ein.
A11: In case the PDF-document of the report should be sent to a second e-mail address seperate both e-mail addresses by typing in a semicolon followed by a blank.
A12: Beispiel für die Eingabe von 2 eMail-Adressen: Example how to type in 2 different e-mail addresses: | C12: info@lvus.de; ergebnisse@lvus.de
A15: eMail-Kontrolle: | C15: check of the e-Mail address
A16: Ergebnis der Überprüfung: | B16: =IF(ISBLANK(B15),"",IF(B3=B15,"Kontrolle erfolgreich - check ok","FEHLER - ERROR")) | C16: result of the control
B17: =IF(ISBLANK(B15),"",IF(ISERROR(FIND("@",B15,1)),"keine gültige eMail-Adresse",IF((VALUE(FIND("@",B15,1))>1),"","keine gültige eMail-Adresse!")))
B18: =IF(ISBLANK(B15),"",IF(ISERROR(FIND("@",B15,1)),"no valid eMail-adress",IF((VALUE(FIND("@",B15,1))>1),"","no valid eMail-address!")))
B19: =IF(ISBLANK(B15),"",IF(ISERROR(FIND("; ",B15,1)),"",IF((VALUE(FIND("; ",B15,1))>8),"","Achtung - die zweite eMail-Adresse wurde nicht korrekt eingegeben")))

Sheet Teilnehmerdaten
A1: Kundennummer | B1: =IF(ISNUMBER(VALUE(Ergebnisse!G1)),IF(VALUE(Ergebnisse!G1)>0,VALUE(Ergebnisse!G1),""),"") | D1: Umformung
A2: Postleitzahl | B2: =IF(ISNUMBER(VALUE(Ergebnisse!G2)),IF(VALUE(Ergebnisse!G2)>0,VALUE(Ergebnisse!G2),""),"")
A3: Produkt | B3: 29 | D3: Auswahl
A4: Jahrgang | B4: =YEAR(Ergebnisse!E5) -> 2020 | D4: 2
A5: Update | B5: =D8 -> N | D5: =IF(D4=2,"N","J") -> N | F5: 1 | G5: ja / yes
A6: Teilnahmen | B6: =Ergebnisse!G3 -> 1 | F6: 2 | G6: nein / no
A7: Deadline | B7: =Ergebnisse!E5 -> 44038
A8: Parameterzahl | B8: 9 | D8: =LEFT(D5,1) -> N
A9: Bestimmungen je Parameter | B9: 2
A10: Parameter 1 | B10: =Ergebnisse!A22 -> Relative Dichte 20°C/20°C | C10: =Ergebnisse!B22 -> ohne
A11: Parameter 2 | B11: =Ergebnisse!A23 -> Alkohol | C11: =Ergebnisse!B23 -> % vol
A12: Parameter 3 | B12: =Ergebnisse!A24 -> Extrakt scheinbar | C12: =Ergebnisse!B24 -> g/100 g
A13: Parameter 4 | B13: =Ergebnisse!A25 -> Extrakt wirklich | C13: =Ergebnisse!B25 -> g/100 g
A14: Parameter 5 | B14: =Ergebnisse!A26 -> Stammwürze | C14: =Ergebnisse!B26 -> g/100 g
A15: Parameter 6 | B15: =Ergebnisse!A27 -> pH-Wert | C15: =Ergebnisse!B27 -> ohne
A16: Parameter 7 | B16: =Ergebnisse!A28 -> Titrierbare Gesamtsäure bis pH-Wert 7,0 - als Milchsäure | C16: =Ergebnisse!B28 -> g/100 g
A17: Parameter 8 | B17: =Ergebnisse!A29 -> Titrierbare Gesamtsäure bis pH-Wert 8,1 - als Milchsäure | C17: =Ergebnisse!B29 -> g/100 g
A18: Parameter 9 | B18: =Ergebnisse!A30 -> Bittereinheiten | C18: =Ergebnisse!B30 -> ohne

Sheet Ergebnisse
A1: Ergebnisdatenblatt (Resultsheet) | E1: Kunden-Nr. (Client-Nb.)
A2: Bier | E2: Postleitzahl (ZIP-Code)
E3: interne Teilnahme: | G3: 1
A4: Einsendeadresse: | B4: ergebnisse@lvus.de | E4: Teilnahme | F4: =IF(ISBLANK(G1),"",IF(ISNUMBER(VALUE(G1)),"","Bitte nur Ziffern eingeben (numbers only)"))
A5: Annahmeschluss/Deadline: | E5: 44038 | F5: =IF(ISBLANK(G2),"",IF(ISNUMBER(VALUE(G2)),"","Bitte nur Ziffern eingeben (numbers only)"))
A7: Schreiben Sie Ihre Daten in die gelb hinterlegten Felder. Geben Sie Ihre Ergebnisse in den aufgeführten Einheiten an. Write your data into the yellow cells. Give your results in the units of column 2.
A8: Geben Sie Ihre Ergebnisse mit den in Spalte 3 aufgeführten signifikanten Stellen an. Beispiele hierzu sind in "Hinweise1" enthalten. Report your results with in column 3 shown significant numbers (there are some examples in sheet "hints1" .
A9: In einigen Fällen, z.B. bei Gehalten um 1 % oder 10 %, ist die Vorgabe gültiger Stellen schwierig: Die Ergebnisse „1,06% und 0,98% sind vergleichbar, nicht aber „1,1 %“ und „0,98%“. Die Angabe einer zusätzlichen gültigen Stelle beim Beispielwert 1,06 ist hier angebracht.
A10: Sollte ein Inhaltsstoff nicht bestimmbar sein, so teilen Sie uns bitte den Wert Ihrer Bestimmungsgrenze mit vorangestelltem "< “ mit. In cases you will not detect a parameter, report your limit of quantification with "< " in front of the value.
A11: Falls Sie einen Parameter nicht bearbeiten, lassen Sie die zugehörigen Ergebnisdatenfelder bitte leer. If you are not analysing parameters in your laboratory do not write anything into the corresponding fields for the results.
A12: Zur Beschreibung des Analysenverfahrens verwenden Sie bitte die im unteren Teil dieses Datenblatts enthaltenen Auswahlfelder. To describe your method use the Pulldown-menus following after the result area.
A13: =IF(OR(ISBLANK(G1),ISBLANK(G2)),"Die Tabelle ist so nicht versandfertig. Es fehlen noch Eingaben bei Kunden-Nr. und/oder Postleitzahl.","Wichtig: Sind Ihre Eingaben bei Kunden-Nr. und Postleitzahl korrekt?") -> Die Tabelle ist so nicht versandfertig. Es fehlen noch Eingaben bei Kunden-Nr. und/oder Postleitzahl.
A14: =IF(OR(ISBLANK(G1),ISBLANK(G2)),"Nur wenn diese beiden Felder korrekt ausgefüllt sind, kann der Absender dieser Tabelle identifiziert werden.","") -> Nur wenn diese beiden Felder korrekt ausgefüllt sind, kann der Absender dieser Tabelle identifiziert werden.
A16: Tabelle wurde bereits einmal erfolgreich gesendet, es handelt sich um eine Aktualisierung:
A19: Untersuchungsergebnisse
A21: Parameter | B21: Einheit | C21: Signifikante Stellen | D21: Analysen- gang 1 | E21: Analysen- gang 2 | F21: Verfahren / Literatur
A22: Relative Dichte 20°C/20°C | B22: ohne | C22: 6 | F22: =Parameter1!$B$1 -> 14 | H22: =Parameter1!$C$1 -> 13
A23: Alkohol | B23: % vol | C23: 3 | F23: =Parameter2!$B$1 -> 16 | H23: =Parameter2!$C$1 -> 15
A24: Extrakt scheinbar | B24: g/100 g | C24: 3 | F24: =Parameter3!$B$1 -> 12 | H24: =Parameter3!$C$1 -> 11
A25: Extrakt wirklich | B25: g/100 g | C25: 3 | F25: =Parameter4!B1 -> 14 | H25: =Parameter4!$C$1 -> 13
A26: Stammwürze | B26: g/100 g | C26: 4 | F26: =Parameter5!B1 -> 13 | H26: =Parameter5!$C$1 -> 12
A27: pH-Wert | B27: ohne | C27: 3 | F27: =Parameter6!$B$1 -> 10 | H27: =Parameter6!$C$1 -> 9
A28: Titrierbare Gesamtsäure bis pH-Wert 7,0 - als Milchsäure | B28: g/100 g | C28: 3 | F28: =Parameter7!B1 -> 13 | H28: =Parameter7!C1 -> 12
A29: Titrierbare Gesamtsäure bis pH-Wert 8,1 - als Milchsäure | B29: g/100 g | C29: 3 | F29: =Parameter8!B1 -> 13 | H29: =Parameter8!C1 -> 12
A30: Bittereinheiten | B30: ohne | C30: 3 | F30: =Bittereinheiten!B1 -> 13 | H30: =Bittereinheiten!C1 -> 12
A31: Diacetyl | B31: mg/kg | C31: 3 | F31: =Diacetyl!B1 -> 2 | H31: =Diacetyl!C1 -> 1
A32: Beschreibung der verwendeten Analysenverfahren, Teil 1
A34: =A22 -> Relative Dichte 20°C/20°C | I34: =ISBLANK(VLOOKUP(F22,Parameter1!A3:C22,3)) -> TRUE
A35: =IF(F22=H22,"bitte eingeben:",IF(I34,"","Art der Modifikation:"))
A36: =A23 -> Alkohol | I36: =ISBLANK(VLOOKUP(F23,Parameter2!A3:C24,3)) -> TRUE
A37: =IF(F23=H23,"bitte eingeben:",IF(I36,"","Art der Modifikation:"))
A38: =A24 -> Extrakt scheinbar | I38: =ISBLANK(VLOOKUP(F24,Parameter3!A3:C20,3)) -> TRUE
A39: =IF(F24=H24,"bitte eingeben:",IF(I38,"","Art der Modifikation:"))
A40: =A25 -> Extrakt wirklich | I40: =ISBLANK(VLOOKUP(F25,Parameter4!A3:C25,3)) -> TRUE
A41: =IF(F25=H25,"bitte eingeben:",IF(I40,"","Art der Modifikation:"))
A42: =A26 -> Stammwürze | I42: =ISBLANK(VLOOKUP(F26,Parameter5!A3:C26,3)) -> TRUE
A43: =IF(F26=H26,"bitte eingeben:",IF(I42,"","Art der Modifikation:"))
A44: =A27 -> pH-Wert | I44: =ISBLANK(VLOOKUP(F27,Parameter6!A3:C17,3)) -> TRUE
A45: =IF(F27=H27,"bitte eingeben:",IF(I44,"","Art der Modifikation:"))
A46: =A28 -> Titrierbare Gesamtsäure bis pH-Wert 7,0 - als Milchsäure | I46: =ISBLANK(VLOOKUP(F28,Parameter7!A3:C29,3)) -> TRUE
...

Sheet Mitteilungen
A1: Nachfolgend können Sie uns ergänzende Hinweise geben oder wichtige Beobachtungen mitteilen. | H1: =COUNTA(A2:G38) -> 0

Sheet Parameter1
A1: =Ergebnisse!A22 -> Relative Dichte 20°C/20°C | B1: 14 | C1: =MAX($A$3:$A$16)-1 -> 13
B2: Bezeichnung des Analysenverfahrens | C2: Modifikation
A3: 1 | B3: § 64 LFGB Nr. L 36.00-3
A4: 2 | B4: § 64 LFGB Nr. L 36.00-3, modifiziert | C4: x
A5: 3 | B5: § 64 LFGB Nr. L 36.00-3a
A6: 4 | B6: § 64 LFGB Nr. L 36.00-3a, modifiziert | C6: x
A7: 5 | B7: densitometrisch mit Biegeschwinger
A8: 6 | B8: pyknometrisch
A9: 7 | B9: Biermessplatz, bestehend aus Biegeschwinger und Alcolyzer (NIR-Spektrometer)
A10: 8 | B10: Analytica-EBC 9.43.2
A11: 9 | B11: DMA Densitymeter, verschiedene Modelle
A12: 10 | B12: MEBAK Band II 2.10.2.3
A13: 11 | B13: Biegeschwinger
A14: 12 | B14: Anton Paar
A15: 13 | B15: Sonstiges
A16: 14 | B16: Bitte auswählen/Please select

Sheet Parameter2
A1: =Ergebnisse!A23 -> Alkohol | B1: 16 | C1: =MAX($A$3:$A$18)-1 -> 15
A2: Methode | B2: Bezeichnung des Analysenverfahrens | C2: Anzahl
A3: 1 | B3: § 64 LFGB Nr. L 36.00-4
A4: 2 | B4: § 64 LFGB Nr. L 36.00-4, modifiziert | C4: x
A5: 3 | B5: Biegeschwinger
A6: 4 | B6: Aus Dichte und Brechungsindex berechnet
A7: 5 | B7: Enzymatisch nach r-biopharm / Roche Nr. 10176290035
A8: 6 | B8: einfache Destillation; Dichte des Destillats mit Biegeschwinger bestimmt
A9: 7 | B9: einfache Destillation; Dichte des Destillats pyknometrisch bestimmt
A10: 8 | B10: Biermessplatz, bestehend aus Biegeschwinger und Alcolyzer (NIR-Spektrometer)
A11: 9 | B11: Analytica-EBC 9.2.1
A12: 10 | B12: FTIR
A13: 11 | B13: einfache Destillation; Dichte des Destillats mit DMA 5000
A14: 12 | B14: DMA 4500 Densitymeter
A15: 13 | B15: Schweizerisches Lebensmittelbuch
A16: 14 | B16: NIR
... A18: 16 | B18: Bitte auswählen/Please select

Sheet Parameter3
A1: =Ergebnisse!A24 -> Extrakt scheinbar | B1: 12 | C1: =MAX($A$3:$A$14)-1 -> 11
A2: Methode | B2: Bezeichnung des Analysenverfahrens
A3: 1 | B3: § 64 LFGB Nr. L 36.00-4 Tabelle 1
A4: 2 | B4: Berechnet aus Dichte
A5: 3 | B5: Berechnet aus Tauchgewichtsverhältnis
A6: 4 | B6: Biermessplatz, bestehend aus Biegeschwinger und Alcolyzer (NIR-Spektrometer)
A7: 5 | B7: Tabellenwerte nach Schweizerisches Lebensmittelbuch (Tabelle 3)
A8: 6 | B8: Halbautomatische Bestimmung der Dichte und des Brechungsindexes
A9: 7 | B9: Analytica-EBC 9.4
A10: 8 | B10: Tabellenwert Reichard
A11: 9 | B11: DMA 4500 Densitymeter
A12: 10 | B12: Biegeschwinger
A13: 11 | B13: Sonstiges
A14: 12 | B14: Bitte auswählen/Please select

Sheet Parameter4
A1: =Ergebnisse!A25 -> Extrakt wirklich | B1: 14 | C1: =MAX($A$3:$A$16)-1 -> 13
A2: Methode | B2: Bezeichnung des Analysenverfahrens | C2: Anzahl
A3: 1 | B3: § 64 LFGB Nr. L 36.00-4
A4: 2 | B4: § 64 LFGB Nr. L 36.00-4, modifiziert | C4: x
A5: 3 | B5: Berechnet
A6: 4 | B6: Biermessplatz, bestehend aus Biegeschwinger und Alcolyzer (NIR-Spektrometer)
A7: 5 | B7: Destillation, Biegeschwinger
A8: 6 | B8: Tabellenwerte nach Schweizerisches Lebensmittelbuch (Tabelle 3)
A9: 7 | B9: Halbautomatische Bestimmung der Dichte und des Brechungsindexes
A10: 8 | B10: Analytica-EBC 9.4
A11: 9 | B11: Berechnet nach Tabarié
A12: 10 | B12: DMA 4500 Densitymeter
A13: 11 | B13: Schweizerisches Lebensmittelbuch
A14: 12 | B14: Trocknung
A15: 13 | B15: Sonstiges
A16: 14 | B16: Bitte auswählen/Please select

Sheet Parameter5
A1: =Ergebnisse!A26 -> Stammwürze | B1: 13 | C1: =MAX($A$3:$A$15)-1 -> 12
A2: Methode | B2: Bezeichnung des Analysenverfahrens | C2: Anzahl
A3: 1 | B3: § 64 LFGB Nr. L 36.00-4
A4: 2 | B4: § 64 LFGB Nr. L 36.00-4, modifiziert | C4: x
A5: 3 | B5: § 64 LFGB Nr. L 36.00-5
A6: 4 | B6: § 64 LFGB Nr. L 36.00-5, modifiziert | C6: x
A7: 5 | B7: berechnet
A8: 6 | B8: Biermessplatz, bestehend aus Biegeschwinger und Alcolyzer (NIR-Spektrometer)
A9: 7 | B9: Analytica-EBC 9.4
A10: 8 | B10: Halbautomatische Bestimmung der Dichte und des Brechungsindexes
A11: 9 | B11: FTIR
A12: 10 | B12: DMA 4500 Densitymeter
A13: 11 | B13: Schweizerisches Lebensmittelbuch
A14: 12 | B14: Sonstiges
A15: 13 | B15: Bitte auswählen/Please select

Sheet Parameter6
A1: =Ergebnisse!A27 -> pH-Wert | B1: 10 | C1: =MAX($A$3:$A$12)-1 -> 9
A2: Methode | B2: Bezeichnung des Analysenverfahrens | C2: Anzahl
A3: 1 | B3: § 64 LFGB Nr. L 36.00-2
A4: 2 | B4: § 64 LFGB Nr. L 36.00-2, modifiziert | C4: x
A5: 3 | B5: Potentiometrisch
A6: 4 | B6: FTIR
A7: 5 | B7: Schweizerisches Lebensmittelbuch (geschüttelt, nicht filtriert)
A8: 6 | B8: Schweizerisches Lebensmittelbuch (geschüttelt und filtriert)
A9: 7 | B9: Analytica-EBC 9.35
A10: 8 | B10: Bieranalyzer von Fa. Anton Paar
A11: 9 | B11: Sonstiges
A12: 10 | B12: Bitte auswählen/Please select

Sheet Parameter7
A1: =Ergebnisse!A28 -> Titrierbare Gesamtsäure bis pH-Wert 7,0 - als Milchsäure | B1: 13 | C1: =MAX($A$3:$A$15)-1 -> 12
A2: Methode | B2: Bezeichnung des Analysenverfahrens | C2: Anzahl
A3: 1 | B3: § 64 LFGB Nr. L 31.00-3
A4: 2 | B4: § 64 LFGB Nr. L 31.00-3, modifiziert | C4: x
A5: 3 | B5: Titration mit potentiometrischer Endpunktsbestimmung
A6: 4 | B6: VO(EWG) Nr. 2676/90, Anhang Nr. 13.5.2 (potentiometrisch)
A7: 5 | B7: VO(EWG) Nr. 2676/90, Anhang Nr. 13.5.3 (mit Bromthymolblau und Farbvergleichslösung)
A8: 6 | B8: IFU Nr. 3
A9: 7 | B9: § 64 LFGB Nr. L 20.01/02-2
A10: 8 | B10: § 64 LFGB Nr. L 20.01/02-2, modifiziert
A11: 9 | B11: MEBAK 3.5
A12: 10 | B12: AOAC 950.07.B
A13: 11 | B13: LST 1990:2007 (except p.5)
A14: 12 | B14: Sonstiges
A15: 13 | B15: Bitte auswählen/Please select

Sheet Parameter8
A1: =Ergebnisse!A29 -> Titrierbare Gesamtsäure bis pH-Wert 8,1 - als Milchsäure | B1: 13 | C1: =MAX($A$3:$A$15)-1 -> 12
A2: Methode | B2: Bezeichnung des Analysenverfahrens | C2: Anzahl
A3: 1 | B3: § 64 LFGB Nr. L 31.00-3
A4: 2 | B4: § 64 LFGB Nr. L 31.00-3, modifiziert | C4: x
A5: 3 | B5: Titration mit potentiometrischer Endpunktsbestimmung
A6: 4 | B6: VO(EWG) Nr. 2676/90, Anhang Nr. 13.5.2 (potentiometrisch)
A7: 5 | B7: VO(EWG) Nr. 2676/90, Anhang Nr. 13.5.3 (mit Bromthymolblau und Farbvergleichslösung)
A8: 6 | B8: IFU Nr. 3
A9: 7 | B9: § 64 LFGB Nr. L 20.01/02-2
A10: 8 | B10: § 64 LFGB Nr. L 20.01/02-2, modifiziert
A11: 9 | B11: MEBAK 3.5
A12: 10 | B12: AOAC 950.07.B
A13: 11 | B13: LST 1990:2007 (except p.5)
A14: 12 | B14: Sonstiges
A15: 13 | B15: Bitte auswählen/Please select

Sheet Bittereinheiten
A1: =Ergebnisse!A30 -> Bittereinheiten | B1: 13 | C1: =MAX($A$3:$A$15)-1 -> 12
A2: Methode | B2: Bezeichnung des Analysenverfahrens | C2: Anzahl
A3: 1 | B3: Analytica-EBC: Method 9.8. Bitterness of Beer (1997) Fachverlag Hans Carl, Nürnberg
A4: 2 | B4: Analytica-EBC: Method 9.8. Bitterness of Beer (1997) Fachverlag Hans Carl, Nürnberg, modifiziert | C4: x
A5: 3 | B5: MEBAK (Methodensammlung der Mitteleuropäischen Brautechnischen Analysenkommission), Bd. II, 3. Aufl., 2.22.1
A6: 4 | B6: MEBAK 2.18.1
A7: 5 | B7: MEBAK, 2. Auflage, 1984
A8: 6 | B8: Hausmethode; (EBC-Methode, abgedruckt in Brautechnische Analysenmethoden Band II; Selbstverlag der MEBAK 2002, S. 114 ff)
A9: 7 | B9: Betriebs- und Qualitätskontrolle in Brauereien und alkoholfreier Getränkeindustrie, Verlag Paul Parey
A10: 8 | B10: Bitterstoffbestimmung nach Klopper
A11: 9 | B11: photometrisch
A12: 10 | B12: Schweizerisches Lebensmittelbuch Nr. 875.1 "Bestimmung der Bitterstoffe in Bier, UV-spektrophotometrisch"
A13: 11 | B13: MEBAK 2012 Nr. 2.17.1
A14: 12 | B14: Sonstiges
A15: 13 | B15: Bitte auswählen/Please select

Sheet Diacetyl
A1: Diacetyl | B1: 2 | C1: =MAX($A$3:$A$4)-1 -> 1
A2: Methode | B2: Bezeichnung des Analysenverfahrens | C2: Anzahl
A3: 1 | B3: Sonstiges - bitte eingeben:
A4: 2
