Workbook
Name _ftn1: Hints1!#REF!
Name _ftn1: Hinweise1!#REF!
Name _ftn1: Hinweise3!$A$3
Name _ftnref1: Hints1!$A$3
Name _ftnref1: Hinweise1!$A$2
Name _ftnref1: Hinweise3!#REF!
Name Daten: #REF!
Name Daten: #REF!
Name MBlei: #REF!
Name MBlei: #REF!
Name OLE_LINK1: Ergebnisangabe!$A$20
Name OLE_LINK1: Reporting!$A$14
Name OLE_LINK2: Reporting!$J$7
Name Parameter2: #REF!
Name Parameter2: #REF!
Name Parameter2: #REF!
Name Parameter2alt: #REF!
Name Parameter2alt: #REF!
Name test: [1]Parameter2!$B$3:$B$18
Name test: [2]Parameter2!$B$3:$B$18
Name test: [2]Parameter2!$B$3:$B$18
Name test: [1]Parameter2!$B$3:$B$18
Name test: [3]Parameter2!$B$3:$B$18

Sheet Hints1
A1: References to the result transmission and to the indication of result (Deadline see "Ergebnisse")
A2: Before analysing the samples, homogenize the samples again, please. After homogenisation You should analyse both samples with your standard procedures.
A3: Use this file for your result transmissions, please. Fill for this in the file yellow fields deposited out and send back the file afterwards by email to “ergebnisse@lvus.de”. It is important that for the clear allocation of the results to your laboratory in the table "Ergebnisse" (results) your client number and your postal zip code must be entered (both numbers only).
A4: The result data must be given in in the units as described at every parameter. To the avoidance of deviations in the laboratory made roundness, You are asked with each parameter after the first number deviating from 0 to indicate still the listened further numbers (even if due to Your validating data this accuracy is not kept by your analysis procedure). ISO 13 528 4.6 recommends that individual measurement results schould not be rounded by more than sr/2.
A6: Examples for transmissions of results:
A7: It a test material the element "Mg" was quantified. You are asked to report 3 significant numbers. The following computational contents are determined:
A9: Computed Value [mg/kg] | B9: Transmission of result [mg/kg]
A10: 1379 | B10: 1380
A11: 179.34 | B11: 179
A12: 80.12 | B12: 80.1
A13: 7.8 | B13: 7.8

Sheet Reporting

Sheet Hinweise1
A1: Hinweise zur Ergebnisübermittlung und zur Ergebnisangabe
A2: Bitte verwenden Sie diese Datei für Ihre Ergebnisübermittlung. Füllen Sie hierzu alle in der Tabelle "Ergebnisse" gelb hinterlegten Felder aus bzw. wählen Sie Ihre Angaben zu den von Ihnen verwendeten Methoden über die vorhandenen Auswahlfenster aus.
A3: Die ausgefüllte Exceltabelle muss per eMail als Anlage bis spätestens zur Deadline an eine der beiden Adressen ergebnisse@lvus.de oder results@lvus.de gesendet werden. Bitte beachten Sie, dass Ihre eMail nur die Exceltabelle als Anlage enthalten darf. Ausser Ihrem Absender soll die eigentliche eMail keine weiteren Daten oder Texte enthalten, da alle an die Adressen ergebnisse@lvus.de oder results@lvus.de gesendeten eMails automatisch ausgelesen werden.
A4: Nach der in der Tabelle "Ergebnisse" aufgeführten Deadline eingehende Ergebnisse werden bei der Auswertung nicht berücksichtigt.
A5: Es ist wichtig, dass Sie zur eindeutigen Zuordnung der Ergebnisse zu Ihrem Labor sowohl Ihre Kunden-Nr. als auch Ihre Postleitzahl (auf dem Anschreiben enthalten - nur Ziffern eingeben) eingeben. Über eine bei der Auswertung durchgeführte Plausibilitätsprüfung soll erkannt werden, ob Tippfehler vorliegen und dadurch die Daten einem anderen Teilnehmer zugeordnet werden könnten.
A6: Interne Teilnahme: Diesen Wert bitte nur ändern, falls Sie für Ihr Haus mehrere getrennte und damit kostenpflichtige Teilnahmen gebucht haben. Über diesen Wert werden die unter einer Kundennummer geführten Teilnahmen getrennt erfasst und die Ergebnisse anschließend der Auswertung zugeführt. Entscheiden Sie, welcher Ihrer Laborbereiche unter der Teilnahme 1 oder 2 registirert und ausgewertet werden soll.
A7: Die Ergebnisangaben müssen in der/den vorgegebenen Maßeinheiten erfolgen - Ihre Angaben werden ohne Änderungen zur Auswertung verwendet! Zur Vermeidung von Abweichungen durch bereits im Labor vorgenommene Rundungen werden Sie gebeten, bei jedem Parameter eine bestimmte Anzahl signifikanter Ziffern anzugeben (auch wenn auf Grund Ihrer Validierungsdaten diese Genauigkeit von Ihrem Analysenverfahren nicht eingehalten wird). Nach ISO 13528 Abschnitt 4.6 sollen Ergebnisse nicht stärker gerundet werden als dem halben Betrag der Wiederholstandardabweichung entspricht.
A8: Beispiele zur Ergebnisangabe: In einer Probe wurde der Gehalt von Mangan bestimmt. Es werden folgende rechnerischen Gehalte ermittelt:
A9: Beispielhafter Wert [mg/kg] | B9: Ergebnisangabe mit 3 signifikanten Ziffern [mg/kg]
A10: 1379 | B10: 1380
A11: 179.34 | B11: 179
A12: 80.12 | B12: 80.1
A13: 7.8 | B13: 7.8
A15: Verfahren sowie Literaturangaben, die von Teilnehmern bei bereits durchgeführten Laborvergleichsuntersuchungen angewendet wurden, sind in Auswahlfenstern vorbelegt, um Ihnen das Ausfüllen zu erleichtern. Über diese Auswahlfenster wählen Sie bitte diejenigen Einträge aus, die bei den von Ihnen angewandten Verfahren zutreffend sind. Ist kein zutreffender Eintrag vorhanden, so wählen Sie bitte den Eintrag "sonstiges.." aus. Tragen Sie dann in der nächsten Zeile (wird gelb hervorgehoben) die auf Ihr Verfahren zutreffende Beschreibung ein.
A16: Geben Sie in der Tabelle "Kontakt" den Namen, die eMail-Adresse sowie die Telefonnummer der Kontaktperson an, die wir bei Fragen kontaktieren können. Nach Fertigstellung der Auswertung soll an die angegebene eMail-Adresse zusätzlich zur gedruckten Auswertung auch eine Passwort-freie Auswertedatei im PDF-Format gesendet werden.
A17: Sollten Sie uns ergänzende Hinweise/Beobachtungen mitteilen wollen, so verwenden Sie hierfür den vorgesehenen Bereich innerhalb der Tabelle "Mitteilungen".
A18: Da Ihre eMail automatisch weiterverarbeitet wird, dürfen nur in der Exceltabelle Kommentare oder Hinweise zu den Proben und durchgeführten Untersuchungen enthalten sein. Außerdem darf Ihre eMail nur eine einzige Anlage enthalten. Sie erhalten automatisch eine Benachrichtigung über den Eingang Ihrer Ergebnisse.

Sheet Hinweise2
A1: Erläuterungen zur Weiterverarbeitung Ihrer Daten
A2: Diese Tabellen wurden so aufgebaut, dass die Daten automatisiert in unser Auswerteprogramm übernommen werden können. Die Tabellen dürfen daher keinesfalls im Aufbau verändert werden, da dann ein automatisiertes Auslesen der mitgeteilten Daten nicht mehr möglich wäre.
A3: Aus diesem Grund wurden die Tabellen gegen Veränderungen geschützt. Eingaben oder auch die Auswahl von Eigenschaften sind nur an wenigen Stellen nötig. Diese Stellen sind gelb hinterlegt.
A4: Da das Ausführen von Macros eine potentielle Gefährdung von Computersystemen bedeuten kann, gehen wir davon aus, dass ausführbare Macros in zahlreichen Fällen von den entsprechenden System-Administratoren unterdrückt werden. Deshalb wurde auf die Verwendung von Macros bei der Erstellung der Tabellen zur Ergebniserfassung komplett verzichtet, obwohl damit ein komfortableres Arbeiten möglich wäre.
A5: Beim Eingang Ihrer eMail wird diese von unserem System automatisch weiterverarbeitet, wobei einige Plausibilitäten (z.B. Vollständigkeit der Absenderangabe oder Kennzeichnung als Update bei erneuter Dateneinsendung) überprüft werden. Im Anschluss an diese Prüfung erhalten Sie automatisiert eine eMail-Antwort. Darin werden Sie darüber informiert, ob Ihre Daten prinzipiell weiterverarbeitet werden können oder ob benötigte Einträge fehlen und Sie Ihre Ergebnisse nach Ergänzung der fehlenden Angaben erneut einsenden sollen. Eine Prüfung auf Vollständigkeit von Ergebnisangaben (sind überhaupt Ergebnnisdaten vorhanden?) oder deren Angabe in den vorgegebenen Maßeinheiten wird zu diesem Zeitpunkt nicht vorgenommen.
A6: Sollten Sie noch vor dem Ende der Ergebnisannahme bemerken, dass in Ihrer Ergebnistabelle Fehler enthalten sind, so senden Sie einfach eine korrigierte Version an die Adresse ergebnisse@lvus.de. Kennzeichnen Sie in diesem Fall Ihre Tabelle als Aktualisierung, da ansonsten das System die Annahme der Daten zurückweist ("es sind ja bereits Daten von Ihnen vorhanden"). Ihre aktualiserte Ergebnistabelle muss vollständig ausgefüllt sein und insbesondere alle Ergebnisdaten der Vorversion enthalten, da bei einer Kennzeichung als Aktualiserung (Update) die zuvor eingesandte Ergebnistabelle durch die Aktualisierung vollständig ersetzt wird.
A7: Ihre Daten werden von uns wie mitgeteilt zur Auswertung verwendet. Selbst offensichtliche Fehler, wie - Tippfehler, - Übertragungsfehler in die Ergebniserfassungstabelle, - Angaben in einer anderen, von der Vorgabe abweichenden Maßeinheit werden zur Auswertung unverändert, also ohne Änderung übernommen und führen dann zu schlechten Bewertungen. Daher sollten Sie Ihre Eingaben sorgfältig durchführen und dabei insbesondere auch überprüfen, ob Ihre laborüblichen Maßeinheiten mit denen im Tabellenblatt übereinstimmen.
A8: Nach Ende der Frist zur Ergebnisabgabe sind Korrekturen nur noch möglich, falls die Auswertung der Daten noch nicht erfolgt ist. Korrekturen von fehlerhaften Teilnehmerangaben werden nach der Auswertung und insbesondere nach Veröffentlichung des Protokolls nicht mehr durchgeführt.

Sheet Hinweise3
A1: Hinweise zur Auswertung
A2: Die Beurteilung der Laborergebnisse erfolgt durch Z-Scores, die möglichst über die Vergleichsstandardabweichung des jeweiligen Standardverfahrens aus der Amtlichen Sammlung nach § 64 LFGB berechnet werden. Zusätzlich werden Z-Scores über die nach der Horwitz- funktion ermittelte Zielstandardabweichung für den jeweiligen Analyten berechnet.
A3: Mit abnehmenden Gehalten von Analyten in der Probe steigt die über die Horwitzfunktion berechnete Zielstandardabweichung stark an. So beträgt z.B. die relative Standardabweichung nach Horwitz 10 % bei einem Analytgehalt von 23 mg/kg und bereits 22,6 % bei einem Analytgehalt von 100 µg/kg.
A4: Zur Vermeidung zu „breiter“ Beurteilungszonen wird deshalb bei der Auswertung bei allen Parametern der Wert der Zielstandardabweichung auf maximal 22 % vom Wert des Medians beschränkt.
A5: Zunächst werden alle mitgeteilten Laborergebnisse berücksichtigt und die darüber berechneten statistischen Kenndaten für die Parameter aufgeführt.
A6: Zur Ermittlung der endgültigen statistischen Kenndaten werden bei allen in den Proben enthaltenen Wirkstoffe Zweitberechnungen durchgeführt. Bei diesen Zweitberechnungen bleiben generell die Ergebnisdaten von allen Laboratorien unberücksichtigt, deren Ergebnisse um mehr als 5 Zielstandardabweichungen (5 Z-Scores) vom Median des Analyten abweichen.
A7: Darüber hinaus bleiben bei allen Parametern zusätzlich alle Ergebnisse unberücksichtigt, die um mehr als 50 % vom Median abweichen und bei denen gleichzeitig der Betrag des Z-Score größer als 3 ist. Diese Regelung greift bei allen Parametern mit Analytgehalten unter 23 mg/kg.

Sheet Ergebnisangabe
A1: Hinweise zum Erfassen und Einsenden der Untersuchungsergebnisse
A2: Zur Bestimmung der Parameter sollen zwei vollständig getrennte Analysengänge durchgeführt werden. Verwenden Sie für die Analysengänge 1 und 2 Probenmaterial aus verschiedenen Probeneinheiten.
A3: Benutzen Sie für die Ergebnisübermittlung diese vordefinierte Tabelle im Excelformat. Die Tabelle steht auch auf unserer Homepage (www.lvus.de) im Bereich „Download“ bereit.
A4: Geben Sie im Register "Kontakt" den Namen, die eMail-Adresse sowie die Telefonnummer der Kontaktperson an, die wir bei Fragen kontaktieren können. Nach Fertigstellung des Protokolls wird ausschließlich an die dort angegebenen eMail-Adressen vorab ein Passwort-freies Protokoll im PDF-Format gesendet.
A5: Tragen Sie im Register „Ergebnisse“ unbedingt Ihre Kundennummer und Ihre Postleitzahl ein, da darüber die Identifizierung des Einsenders erfolgt. In die beiden Datenfelder „Kundennummer“ und „Postleitzahl“ dürfen nur Ziffern eingegeben werden.
A6: Die Felder zur Eingabe Ihrer Ergebnisdaten sind nicht mit einer festen Nachkommazahl vordefiniert, um keine Hinweise auf eventuelle Gehalte von Parametern zu geben.
A7: Beachten Sie die Hinweise zu den gültigen (signifikanten) Ziffern bei den Parametern. Die Anzahl der Ziffern ist so zu wählen, dass beide Ergebnisse nur im Ausnahmefall aus iden¬tischen Ziffernfolgen bestehen. In einigen Fällen, z.B. bei Gehalten um 10 %, ist die Vorgabe gültiger Stellen schwierig: Die Ergebnisse „10,16% und 9,94% sind vergleichbar, nicht aber „10,2%“ und „9,94%“. Die Angabe einer zusätzlichen gültigen Stelle ist hier angebracht.
A8: Über Auswahlfelder sind gängige Untersuchungsverfahren bereits vordefiniert, um das Ausfüllen bei den Untersuchungsverfahren zu erleichtern. Sollten Sie ein nicht aufgeführtes Verfahren anwenden, wählen Sie „sonstiges“ aus und tragen Ihr Verfahren dann ein. Sofern weitere Informationen zur Auswertung nötig sind, werden auch gängige Verfahrensprinzipien und/oder Bezugsquellen kommerziell vertriebener Testsätze in ähnlicher Weise vordefiniert.
A9: In zahlreichen Fällen wird auch nachgefragt, ob Sie streng nach der Vorschrift gemäß § 64 LFGB arbeiten. Streng bedeutet, dass Sie ohne prüfrelevante Abweichungen arbeiten. Sollte die Abweichung lediglich die untersuchte Matrix sein (z.B. Ketchup anstelle von Brühwurst), dann soll dies nicht als Modifikation gekennzeichnet werden.
A10: Da Ihre eMail automatisch weiterverarbeitet wird, dürfen nur innerhalb der Exceltabelle in vordefinierten Bereichen Kommentare oder Hinweise zu den Proben und durchgeführten Untersuchungen enthalten sein (z.B. im Register „Mitteilungen“).
A11: Senden Sie uns die vollständig ausgefüllte Ergebnisdatei als Anlage im aktuellen Excelformat (Datei-Endung ".xlsx") oder im Format von Excel 2000 (Datei-Endung ".xls") per eMail an die Adresse „ergebnisse@lvus.de“. Ihre eMail darf nur eine einzige Anlage enthalten. eingesendete Tabellen verarbeiten.
A12: Nach dem Eingang in unserer Mailbox "ergebnisse@lvus.de" erhalten Sie automatisch eine Benachrichtigung/Bestätigung über den Eingang Ihrer eMail.
... A15: Senden Sie elektronisch mitgeteilte Ergebnisse nicht noch zusätzlich per Post oder Telefax.

Sheet Kontakt
A1: Kontaktperson | C1: Contact person
A2: Name | C2: Name
A3: eMail | C3: eMail-Address
A4: Telefon (inklusive Vorwahl): | C4: telefone (including country and area code)
A6: Bitte geben Sie den Namen, eMail-Adresse und die Telefonnummer der Person an, die wir bei Rückfragen kontaktieren können. An die aufgeführte eMailadresse wird das Protokoll zusätzlich auch als Passwort-freie PDF-Datei gesendet.
A8: Type in name, e-mail address and telefone number of the person we can contact in case of any questions, please. In addition to a printed version we will send a PDF-document (passwort-free) of the report to this e-mail address.
A10: Falls die Auswertung zusätzlich noch an eine zweite Adresse gesendet werden soll, geben Sie die zweite Adresse getrennt durch ein Semikolon mit nachfolgendem Leerzeichen ein.
A11: In case the PDF-document of the report should be sent to a second e-mail address seperate both e-mail addresses by typing in a semicolon followed by a blank.
A12: Beispiel für die Eingabe von 2 eMail-Adressen: Example how to type in 2 different e-mail addresses: | C12: info@lvus.de; ergebnisse@lvus.de
A15: eMail-Kontrolle: | C15: check of the e-Mail address
A16: Ergebnis der Überprüfung: | B16: =IF(ISBLANK(B15),"",IF(B3=B15,"Kontrolle erfolgreich - check ok","FEHLER - ERROR")) | C16: result of the control
B17: =IF(ISBLANK(B15),"",IF(ISERROR(FIND("@",B15,1)),"keine gültige eMail-Adresse",IF((VALUE(FIND("@",B15,1))>1),"","keine gültige eMail-Adresse!")))
B18: =IF(ISBLANK(B15),"",IF(ISERROR(FIND("@",B15,1)),"no valid eMail-adress",IF((VALUE(FIND("@",B15,1))>1),"","no valid eMail-address!")))
B19: =IF(ISBLANK(B15),"",IF(ISERROR(FIND("; ",B15,1)),"",IF((VALUE(FIND("; ",B15,1))>8),"","Achtung - die zweite eMail-Adresse wurde nicht korrekt eingegeben")))

Sheet Teilnehmerdaten
A1: Kundennummer | B1: =IF(ISNUMBER(VALUE(Ergebnisse!G1)),IF(VALUE(Ergebnisse!G1)>0,VALUE(Ergebnisse!G1),""),"") | D1: Umformung
A2: Postleitzahl | B2: =IF(ISNUMBER(VALUE(Ergebnisse!G2)),IF(VALUE(Ergebnisse!G2)>0,VALUE(Ergebnisse!G2),""),"")
A3: Produkt | B3: 22 | D3: Auswahl
A4: Jahrgang | B4: =YEAR(Ergebnisse!B5) -> 2020 | D4: 2
A5: Update | B5: =D8 -> N | D5: =IF(D4=2,"N","J") -> N | F5: 1 | G5: ja / yes
A6: Teilnahmen | B6: =Ergebnisse!G3 -> 1 | F6: 2 | G6: nein / no
A7: Deadline | B7: =Ergebnisse!B5 -> 44171
A8: Parameterzahl | B8: 14 | D8: =LEFT(D5,1) -> N
A9: Bestimmungen je Parameter | B9: 2
A10: Parameter 1 | B10: =Ergebnisse!A24 -> Glucose (wasserfrei) | C10: =Ergebnisse!B24 -> g/100 g
A11: Parameter 2 | B11: =Ergebnisse!A25 -> Fructose (wasserfrei) | C11: =Ergebnisse!B25 -> g/100 g
A12: Parameter 3 | B12: =Ergebnisse!A26 -> Maltose (wasserfrei) | C12: =Ergebnisse!B26 -> g/100 g
A13: Parameter 4 | B13: =Ergebnisse!A27 -> Diastasezahl | C13: =Ergebnisse!B27 -> ohne
A14: Parameter 5 | B14: =Ergebnisse!A28 -> Prolin | C14: =Ergebnisse!B28 -> mg/kg
A15: Parameter 6 | B15: =Ergebnisse!A29 -> freie Säuren | C15: =Ergebnisse!B29 -> mmol/kg
A16: Parameter 7 | B16: =Ergebnisse!A30 -> HMF | C16: =Ergebnisse!B30 -> mg/kg
A17: Parameter 8 | B17: =Ergebnisse!A31 -> Leitfähigkeit bei 20 °C | C17: =Ergebnisse!B31 -> mS/cm
A18: Parameter 9 | B18: =Ergebnisse!A32 -> pH-Wert | C18: =Ergebnisse!B32 -> ohne
A19: Parameter 10 | B19: =Ergebnisse!A33 -> Wasser | C19: =Ergebnisse!B33 -> g/100 g
A20: Parameter 11 | B20: =Ergebnisse!A34 -> Saccharasezahl | C20: =Ergebnisse!B34 -> U/kg
A21: Parameter 12 | B21: =Ergebnisse!A35 -> Glycerin | C21: =Ergebnisse!B35 -> mg/kg
... A23: Parameter 14 | B23: =Ergebnisse!A37 -> Ethanol | C23: =Ergebnisse!B37 -> mg/kg

Sheet Ergebnisse
A1: Ergebnisdatenblatt | E1: Kunden-Nr.
A2: Honig | E2: Postleitzahl
E3: interne Teilnahme: | G3: 1
A4: Einsendeadresse: | B4: ergebnisse@lvus.de | E4: =IF(ISBLANK(G1),"",IF(ISNUMBER(VALUE(G1)),"","Bitte nur Ziffern eingeben (numbers only)"))
A5: Annahmeschluss: | B5: 44171 | E5: =IF(ISBLANK(G2),"",IF(ISNUMBER(VALUE(G2)),"","Bitte nur Ziffern eingeben (numbers only)"))
A7: Schreiben Sie Ihre Daten in die gelb hinterlegten Felder. Geben Sie Ihre Ergebnisse in den aufgeführten Einheiten an. Write your data into the yellow cells. Give your results in the units of column 2.
A8: Geben Sie Ihre Ergebnisse mit den in Spalte 3 aufgeführten signifikanten Stellen an. Beispiele hierzu sind in "Hinweise1" enthalten. Report your results with in column 3 shown significant numbers (there are some examples in sheet "hints1" .
A9: In einigen Fällen, z.B. bei Gehalten um 1 % oder 10 %, ist die Vorgabe gültiger Stellen schwierig: Die Ergebnisse „1,06% und 0,98% sind vergleichbar, nicht aber „1,1 %“ und „0,98%“. Die Angabe einer zusätzlichen gültigen Stelle beim Beispielwert 1,06 ist hier angebracht.
A10: Sollte ein Inhaltsstoff nicht bestimmbar sein, so teilen Sie uns bitte den Wert Ihrer Bestimmungsgrenze mit vorangestelltem "< “ mit. In cases you will not detect a parameter, report your limit of quantification with "< " in front of the value.
A11: Falls Sie einen Parameter nicht bearbeiten, lassen Sie die zugehörigen Ergebnisdatenfelder bitte leer. If you are not analysing parameters in your laboratory do not write anything into the corresponding fields for the results.
A12: Zur Beschreibung des Analysenverfahrens verwenden Sie bitte die im unteren Teil dieses Datenblatts enthaltenen Auswahlfelder. To describe your method use the Pulldown-menus following after the result area.
A14: =IF(OR(ISBLANK(G1),ISBLANK(G2)),"Die Tabelle ist so nicht versandfertig. Es fehlen noch Eingaben bei Kunden-Nr. und/oder Postleitzahl.","Wichtig: Sind Ihre Eingaben bei Kunden-Nr. und Postleitzahl korrekt?") -> Die Tabelle ist so nicht versandfertig. Es fehlen noch Eingaben bei Kunden-Nr. und/oder Postleitzahl.
A15: =IF(OR(ISBLANK(G1),ISBLANK(G2)),"Nur wenn diese beiden Felder ausgefüllt sind, kann der Absender dieser Tabelle korrekt identifiziert werden.","") -> Nur wenn diese beiden Felder ausgefüllt sind, kann der Absender dieser Tabelle korrekt identifiziert werden.
A17: Tabelle wurde bereits einmal erfolgreich gesendet, es handelt sich um eine Aktualisierung:
A18: =IF(Teilnehmerdaten!D4=1,"Wählen Sie Aktualisierung nur aus, wenn Ihnen vom Ergebnisserver bereits eine Auswertenummer zugesendet wurde!","")
A19: =IF(Teilnehmerdaten!D4=1,"Choose Aktualisierung only in cases you already sent results and the system mailed back an evaluation number!","")
A20: Untersuchungsergebnisse
A22: Parameter | B22: Einheit | C22: Signifikante Stellen | D22: Analysen- gang 1 | E22: Analysen- gang 2 | F22: Verfahren / Literatur | G22: Zusätzliche Angaben
A24: Glucose (wasserfrei) | B24: g/100 g | C24: 4 | F24: =Glucose!$B$1 -> 19 | H24: =Glucose!$C$1 -> 18
A25: Fructose (wasserfrei) | B25: g/100 g | C25: 4 | F25: =Fructose!B1 -> 19 | H25: =Fructose!$C$1 -> 18
A26: Maltose (wasserfrei) | B26: g/100 g | C26: 3 | F26: =Maltose!B1 -> 12 | G26: =Maltose!B21 -> 6 | H26: =Maltose!$C$1 -> 11 | I26: =Maltose!$C$21 -> 5
A27: Diastasezahl | B27: ohne | C27: 3 | F27: =Diastasezahl!$B$1 -> 15 | G27: =IF(ISBLANK(B47),"",B47) | H27: =Diastasezahl!$C$1 -> 14
A28: Prolin | B28: mg/kg | C28: 3 | F28: =Prolin!B1 -> 10 | H28: =Prolin!C1 -> 9
A29: freie Säuren | B29: mmol/kg | C29: 3 | F29: =Saeuren!B1 -> 9 | G29: =Saeuren!B21 -> 3 | H29: =Saeuren!C1 -> 8 | I29: =Saeuren!C21 -> 2
A30: HMF | B30: mg/kg | C30: 3 | F30: =HMF!B1 -> 23 | G30: =HMF!B36 -> 4 | H30: =HMF!C1 -> 22 | I30: =HMF!C36 -> 3
A31: Leitfähigkeit bei 20 °C | B31: mS/cm | C31: 4 | F31: =Leitfaehigkeit!B1 -> 11 | H31: =Leitfaehigkeit!C1 -> 10
A32: pH-Wert | B32: ohne | C32: 3 | F32: =pHWert!B1 -> 22 | H32: =pHWert!C1 -> 21
A33: Wasser | B33: g/100 g | C33: 4 | F33: =Wasser!B1 -> 23 | H33: =Wasser!C1 -> 22
A34: Saccharasezahl | B34: U/kg | C34: 3 | F34: =Saccharasezahl!B1 -> 6 | G34: =IF(ISBLANK(B69),"",B69) | H34: =Saccharasezahl!C1 -> 5
A35: Glycerin | B35: mg/kg | C35: 3 | F35: =Glycerin!B1 -> 9 | H35: =Glycerin!C1 -> 8
A36: Farbe | B36: mm Pfund-Grade | C36: 3 | F36: =Färbung!B1 -> 7 | H36: =Färbung!C1 -> 6
A37: Ethanol | B37: mg/kg | C37: 3 | F37: =Ethanol!B1 -> 12 | H37: =Ethanol!C1 -> 11
A38: Beschreibung der verwendeten Analysenverfahren (1)
A39: =A24 -> Glucose (wasserfrei) | I39: =ISBLANK(VLOOKUP(F24,Glucose!A3:C25,3)) -> TRUE
A40: =IF(F24=H24,"bitte eingeben:",IF(I39,"","Art der Modifikation:"))
A41: Fructose | I41: =ISBLANK(VLOOKUP(F25,Fructose!A3:C30,3)) -> TRUE
A42: =IF(F25=H25,"bitte eingeben:",IF(I41,"","Art der Modifikation:"))
A43: Maltose | I43: =ISBLANK(VLOOKUP(F26,Maltose!A3:C20,3)) -> TRUE
A44: Verfahrensprinzip:
A45: =IF(OR(F26=H26,G26=I26),"bitte eingeben:",IF(I43,"","Art der Modifikation:"))
A46: Diastasezahl | I46: =ISBLANK(VLOOKUP(F27,Diastasezahl!A3:C22,3)) -> TRUE
A47: =IF(F27-H27<1,"Datum der Analyse","")
A48: =IF(F27=H27,"bitte eingeben:",IF(I46,"","Art der Modifikation:"))
A49: Prolin | I49: =ISBLANK(VLOOKUP(F28,Prolin!A3:C24,3)) -> TRUE
A50: =IF(F28=H28,"bitte eingeben:",IF(I49,"","Art der Modifikation:"))
A51: freie Säuren | I51: =ISBLANK(VLOOKUP(F29,Saeuren!A3:C17,3)) -> TRUE
A52: =IF(F29=H29,"bitte eingeben:",IF(I51,"","Art der Modifikation:"))
A53: =IF(F29-H29<1,"Durchführung der Titration:","")
A54: =IF(F29-H29<1,"Dauer der Titration (Sekunden):","")
A55: =IF(AND(F29-H29<1,G29=2),"Mit Vortitration (Ja/Nein)?:","")
A57: Beschreibung der verwendeten Analysenverfahren (2)
A59: HMF | I59: =ISBLANK(VLOOKUP(F30,HMF!A3:C25,3)) -> TRUE
A60: Verfahrensprinzip:
A61: =IF(OR(F30=H30,G30=I30),"bitte eingeben:",IF(I59,"","Art der Modifikation:"))
A62: Leitfähigkeit bei 20 °C | I62: =ISBLANK(VLOOKUP(F31,Leitfaehigkeit!A3:C22,3)) -> TRUE
A63: =IF(F31=H31,"bitte eingeben:",IF(I62,"","Art der Modifikation:"))
A64: pH-Wert | I64: =ISBLANK(VLOOKUP(F32,pHWert!A3:C30,3)) -> TRUE
A65: =IF(F32=H32,"bitte eingeben:",IF(I64,"","Art der Modifikation:"))
A66: Wasser | I66: =ISBLANK(VLOOKUP(F33,Wasser!A3:C28,3)) -> TRUE
A67: =IF(F33=H33,"bitte eingeben:",IF(I66,"","Art der Modifikation:"))
A68: Saccharasezahl | I68: =ISBLANK(VLOOKUP(F34,Saccharasezahl!A3:C15,3)) -> TRUE
A69: =IF(F34-H34<1,"Datum der Analyse","")
A70: =IF(F34=H34,"bitte eingeben:",IF(I68,"","Art der Modifikation:"))
A71: Glycerin | I71: =ISBLANK(VLOOKUP(F35,Glycerin!A3:C18,3)) -> TRUE
A72: =IF(F35=H35,"bitte eingeben:",IF(I71,"","Art der Modifikation:"))
A73: Farbe | I73: =ISBLANK(VLOOKUP(F36,Färbung!A8:C18,3)) -> TRUE
A74: =IF(F36=H36,"bitte eingeben:",IF(I73,"","Art der Modifikation:"))
A75: Ethanol | I75: =ISBLANK(VLOOKUP(F37,Ethanol!A13:C23,3)) -> TRUE
A76: =IF(F37=H37,"bitte eingeben:",IF(I75,"","Art der Modifikation:"))

Sheet Mitteilungen
A1: Nachfolgend können Sie uns ergänzende Hinweise geben oder wichtige Beobachtungen mitteilen. | H1: =COUNTA(A2:G38) -> 0

Sheet Glucose
A1: Glucose | B1: 19 | C1: =MAX($A$3:$A$36)-1 -> 18
A2: Methode | B2: Bezeichnung des Analysenverfahrens
A3: 1 | B3: § 64 LFGB Nr. L 40.00-7 (DIN 10758)
A4: 2 | B4: § 64 LFGB Nr. L 40.00-7 (DIN 10758), modifiziert | C4: x
A5: 3 | B5: Enzymatisch nach Roche / r-Biopharm Nr. 10 716 260 035
A6: 4 | B6: Enzymatisch nach Roche / r-Biopharm Nr. 10 139 106 035
A7: 5 | B7: Enzymatisch nach Roche / r-Biopharm Nr. 10 139 041 035 + PGI 127396
A8: 6 | B8: Enzymatisch nach Scil-Test Nr. 1245
A9: 7 | B9: HPLC (diverse Detektoren)
A10: 8 | B10: HPAEC-PAD
A11: 9 | B11: Ionenchromatographie
A12: 10 | B12: J of AOAC 75 443 (1992); AOAC 15. Ed. 977.20 (1990)
A13: 11 | B13: Enzymatisch nach Scil Test-Nr. 5140 (Glucose) bzw. 5160 (Fructose)
A14: 12 | B14: Enzymatisch, Reagenzien von Thermo Scientific
A15: 13 | B15: GC-FID
A16: 14 | B16: EnzymeFast
... A21: 19 | B21: Bitte auswählen / Please select

Sheet Fructose
A1: Fructose | B1: 19 | C1: =MAX($A$3:$A$21)-1 -> 18
A2: Methode | B2: Bezeichnung des Analysenverfahrens | C2: Anzahl
A3: 1 | B3: § 64 LFGB Nr. L 40.00-7 (DIN 10758)
A4: 2 | B4: § 64 LFGB Nr. L 40.00-7 (DIN 10758), modifiziert | C4: x
A5: 3 | B5: Enzymatisch nach Roche / r-Biopharm Nr. 10 716 260 035
A6: 4 | B6: Enzymatisch nach Roche / r-Biopharm Nr. 10 139 106 035
A7: 5 | B7: Enzymatisch nach Roche / r-Biopharm Nr. 10 139 041 035 + PGI 127396
A8: 6 | B8: Enzymatisch nach Scil-Test Nr. 1245
A9: 7 | B9: HPLC (diverse Detektoren)
A10: 8 | B10: HPAEC-PAD
A11: 9 | B11: Ionenchromatographie
A12: 10 | B12: J of AOAC 75 443 (1992); AOAC 15. Ed. 977.20 (1990)
A13: 11 | B13: Enzymatisch nach Scil Test-Nr. 5140 (Glucose) bzw. 5160 (Fructose)
A14: 12 | B14: Enzymatisch, Reagenzien von Thermo Scientific
A15: 13 | B15: GC-FID
A16: 14 | B16: EnzymeFast
... A21: 19 | B21: Bitte auswählen / Please select

Sheet Maltose
A1: Maltose | B1: 12 | C1: =MAX($A$3:$A$14)-1 -> 11
A2: Methode | B2: Bezeichnung des Analysenverfahrens | C2: Anzahl
A3: 1 | B3: § 64 LFGB Nr. L 40.00-7 (DIN 10758)
A4: 2 | B4: § 64 LFGB Nr. L 40.00-7 (DIN 10758), modifiziert | C4: x
A5: 3 | B5: Enzymatisch nach Roche / r-Biopharm Nr. 11 113 950 035
A6: 4 | B6: HPLC (diverse Detektoren)
A7: 5 | B7: HPAEC-PAD
A8: 6 | B8: Ionenchromatographie
A9: 7 | B9: J of AOAC 75 443 (1992); AOAC 15. Ed. 977.20 (1990)
A10: 8 | B10: GC-FID
A11: 9 | B11: EnzymeFast
A12: 10 | B12: Kit Megazyme-MASUG
A13: 11 | B13: Sonstiges / other
A14: 12 | B14: Bitte auswählen / Please select
A21: Prinzip | B21: 6 | C21: =MAX($A$22:$A$36)-1 -> 5
A22: 1 | B22: Enzymatik
A23: 2 | B23: LC-Verfahren
A24: 3 | B24: GC-Verfahren
A25: 4 | B25: IC-Verfahren
A26: 5 | B26: Sonstiges / other
A27: 6 | B27: Bitte auswählen / Please select

Sheet Diastasezahl
A1: Diastasezahl | B1: 15 | C1: =MAX($A$3:$A$17)-1 -> 14
A2: Methode | B2: Bezeichnung des Analysenverfahrens | C2: Anzahl
A3: 1 | B3: § 64 LFGB Nr. L 40.00-1 | D3: Schade
A4: 2 | B4: § 64 LFGB Nr. L 40.00-1, modifiziert | C4: x | D4: Schade
A5: 3 | B5: Schweizerisches Lebensmittelbuch, auch modifiziert (1995, nach Phadebas) | D5: Phadebas
A6: 4 | B6: Schweizerisches Lebensmittelbuch Kapitel 23A/6.1, auch modifiziert (2004, nach Phadebas) | D6: Phadebas
A7: 5 | B7: Nach Schade (660 nm) | D7: Schade
A8: 6 | B8: Nach Gothe
A9: 7 | B9: Methodes officialles d´analyses des miels (JO du 1977-04-22)
A10: 8 | B10: Nach Schade-Skala, mit Phadebas-Amylasetest | D10: Phadebas
A11: 9 | B11: Fluid-Test Amyl (Biocon Nr. 11439)
A12: 10 | B12: IFCC Methode, nach Schade kalibriert | D12: Schade
A13: 11 | B13: nach Schade-Skala, Amylasetest Megazyme | D13: Schade
A14: 12 | B14: Harmonised Methods of the International Honey Commission (2002), Method 6.2 | D14: Phadebas
A15: 13 | B15: Phadebas Honig Diastase Test
A16: 14 | B16: Sonstiges / other
A17: 15 | B17: Bitte auswählen / Please select

Sheet Prolin
A1: Prolin | B1: 10 | C1: =MAX($A$3:$A$22)-1 -> 9
A2: Methode | B2: Bezeichnung des Analysenverfahrens | C2: Anzahl
A3: 1 | B3: § 64 LFGB Nr. L 40.00-3
A4: 2 | B4: § 64 LFGB Nr. L 40.00-3, modifiziert | C4: x
A5: 3 | B5: § 64 LFGB Nr. L 31.00-7
A6: 4 | B6: § 64 LFGB Nr. L 31.00-7, modifiziert | C6: x
A7: 5 | B7: GC-FID, Flüssiginjektion
A8: 6 | B8: Photometrisch bei 520 nnm
A9: 7 | B9: HPLC-FLD mit FMOC Vorsäulenderivatisierung
A10: 8 | B10: Aminosäuren-Analysator
A11: 9 | B11: Sonstiges / other
A12: 10 | B12: Bitte auswählen / Please select

Sheet Saeuren
A1: freie Säuren | B1: 9 | C1: =MAX($A$3:$A$23)-1 -> 8
A2: Methode | B2: Bezeichnung des Analysenverfahrens | C2: Anzahl
A3: 1 | B3: § 64 LFGB Nr. L 40.00-6 (DIN 10756)
A4: 2 | B4: § 64 LFGB Nr. L 40.00-6 (DIN 10756), modifiziert | C4: x
A5: 3 | B5: 10 g Honig mit 50 ml Wasser, titriert mit 0,1 mol/l NaOH-Lösung bis pH 8,3
A6: 4 | B6: FTIR
A7: 5 | B7: Schweizerisches Lebensmittelbuch 479.1
A8: 6 | B8: 10 g der Honigprobe werden nach Lösen in 75 ml dest. Wasser und Zugabe von 4-5 Tropfen Phenolphthalein-Lsg. mit 0,1 N Natronlauge bis zur sichtbaren Rosafärbung titriert, die 10-20 Sekunden bestehen bleiben muss.
A9: 7 | B9: Harmonised Methods of the International Honey Commission (2009), Method 4.1
A10: 8 | B10: Sonstiges / other
A11: 9 | B11: Bitte auswählen / Please select
A21: Titration | B21: 3 | C21: =MAX($A$22:$A$31)-1 -> 2
A22: 1 | B22: Automatisiert
A23: 2 | B23: Manuell
A24: 3 | B24: Bitte auswählen / Please select
A31: Liste
B32: ja
B33: Ja
B34: nein
B35: nein

Sheet HMF
A1: HMF | B1: 23 | C1: =MAX($A$3:$A$28)-1 -> 22
A2: Methode | B2: Bezeichnung des Analysenverfahrens | C2: Anzahl
A3: 1 | B3: § 64 LFGB Nr. L 40.00-10/1 (Verfahren nach Winkler; DIN 10751 Teil 1)
A4: 2 | B4: § 64 LFGB Nr. L 40.00-10/1 (Verfahren nach Winkler; DIN 10751 Teil 1), modifiziert | C4: x
A5: 3 | B5: § 64 LFGB Nr. L 40.00-10/2 (Verfahren nach White; DIN 10751 Teil 2)
A6: 4 | B6: § 64 LFGB Nr. L 40.00-10/2 (Verfahren nach White; DIN 10751 Teil 2), modifiziert | C6: x
A7: 5 | B7: § 64 LFGB Nr. L 40.00-10/3 (HPLC-Verfahren; DIN 10751 Teil 3)
A8: 6 | B8: § 64 LFGB Nr. L 40.00-10/3 (HPLC-Verfahren; DIN 10751 Teil 3), modifiziert | C8: x
A9: 7 | B9: Schweizerisches Lebensmittelbuch (ohne weitere Angabe)
A10: 8 | B10: Deutsch Lebensm Rundsch 92 328 (1996) – HPLC-DAD
A11: 9 | B11: HPLC-DAD nach Unger „Handbuch derHPLC“ (1989)
A12: 10 | B12: HPLC-UV oder DAD
A13: 11 | B13: Photometrisch bei 550 nm
A14: 12 | B14: Schweizerisches Lebensmittelbuch Kapitel 23A/07, modifiziert
A15: 13 | B15: Méthodes officielles d'analyses des miels (JO du 1977-04-22)
A16: 14 | B16: Carrez-Klärung, HPLC-UV oder DAD
A17: 15 | B17: Schweizerisches Lebensmittelbuch 492.1
A18: 16 | B18: AOAC 980,23
A19: 17 | B19: Harmonised Methods of the International Honey Comission (2002), Method 5.3
A20: 18 | B20: Dünnschichtchromatographie
... A25: 23 | B25: Bitte auswählen / Please select
A36: Prinzip | B36: 4 | C36: =MAX($A$37:$A$45)-1 -> 3
A37: 1 | B37: Photometrisch
A38: 2 | B38: Chromatographisch
A39: 3 | B39: Sonstiges / other
A40: 4 | B40: Bitte auswählen / Please select

Sheet Leitfaehigkeit
A1: Leitfähigkeit | B1: 11 | C1: =MAX($A$3:$A$13)-1 -> 10
A2: Methode | B2: Bezeichnung des Analysenverfahrens | C2: Anzahl
A3: 1 | B3: § 64 LFGB Nr. L 40.00-5 (DIN 10753)
A4: 2 | B4: § 64 LFGB Nr. L 40.00-5 (DIN 10753), modifiziert | C4: x
A5: 3 | B5: Methodes officielles d´analyses des miels (JO du 1977-04-22)
A6: 4 | B6: 10 g Honig verdünnt zu 50 ml, Messung der Leitfähigkeit bei 20 °C
A7: 5 | B7: FTIR
A8: 6 | B8: Harmonised Methods of the International Commission (2002), Method 2
A9: 7 | B9: DIN EN 27888, auch modifiziert
A10: 8 | B10: Schweizerisches Lebensmittelbuch 481.0
A11: 9 | B11: Harmonised Methods of the International Commission (2009), Method 2
A12: 10 | B12: Sonstiges / other
A13: 11 | B13: Bitte auswählen / Please select

Sheet pHWert
A1: pH-Wert | B1: 22 | C1: =MAX($A$3:$A$24)-1 -> 21
A2: Methode | B2: Bezeichnung des Analysenverfahrens | C2: Anzahl
A3: 1 | B3: § 64 LFGB Nr. L 40.00-6 (DIN 10756)
A4: 2 | B4: § 64 LFGB Nr. L 40.00-6 (DIN 10756), modifiziert | C4: x
A5: 3 | B5: § 64 LFGB Nr. L 31.00-2
A6: 4 | B6: § 64 LFGB Nr. L 31.00-2, modifiziert | C6: x
A7: 5 | B7: Schweizerisches Lebensmittelbuch Kapitel 36A/3, 2. Band, 5. Auflage (Mai 1992)
A8: 6 | B8: Schweizerisches Lebensmittelbuch Kapitel 23A/Methode 6
A9: 7 | B9: Schweizerisches Lebensmittelbuch Kapitel 23A/3, 2. Band, 5. Auflage
A10: 8 | B10: FTIR
A11: 9 | B11: Schweizerisches Lebensmittelbuch 479.1
A12: 10 | B12: Methode der internationalen Honigkommission
A13: 11 | B13: pH direkt gemessen (20 °C)
A14: 12 | B14: Harmonised Methods of the International Commission (2002), Method 4
A15: 13 | B15: § 64 LFGB Nr. L 26.11.03-3
A16: 14 | B16: § 64 LFGB Nr. L 26.11.03-3, modifiziert | C16: x
A17: 15 | B17: Harmonised Methods of the International Commission (2009), Method 4.1
A18: 16 | B18: § 64 LFGB Nr. L 06.00-2
A19: 17 | B19: § 64 LFGB Nr. L 06.00-2, modifiziert | C19: x
A20: 18 | B20: NIR
A21: 19 | B21: pH-Wert-Messung: 10 g Honig / 75 ml Wasser
A22: 20 | B22: pH-Wert-Messung: 10 g Honig / 100 ml Wasser
A23: 21 | B23: Sonstiges / other
A24: 22 | B24: Bitte auswählen / Please select

Sheet Wasser
A1: Wasser | B1: 23 | C1: =MAX($A$3:$A$25)-1 -> 22
A2: Methode | B2: Bezeichnung des Analysenverfahrens | C2: Anzahl
A3: 1 | B3: § 64 LFGB Nr. L 40.00-2 (DIN 10752) | E3: Das Verfahren nach § 64 LFGB Nr. L. 40.00-2 (Wasserbestimmung) wurde überarbeitet. Seit Juli 2019 ist es untergliedert in Teil 1 ( analoges Verfahren) und Teil 2 (digitales Verfahren ). Ggf. sollte dies in der Auswahl der Verfahren getrennt werden.
A4: 2 | B4: § 64 LFGB Nr. L 40.00-2 (DIN 10752), modifiziert | C4: x
A5: 3 | B5: § 64 LFGB Nr. L 02.06-1
A6: 4 | B6: § 64 LFGB Nr. L 02.06-1, modifiziert | C6: x
A7: 5 | B7: Methodes officielles d´analyses des miels (JO du 1977-04-22)
A8: 6 | B8: Karl-Fischer-Titration
A9: 7 | B9: Biegeschwinger DMA 58
A10: 8 | B10: Refraktometrisch (Refraktometer von Abbé, temperiert bei 20 °C)
A11: 9 | B11: Trocknung bei 110 °C
A12: 10 | B12: Refraktometrisch (photoelektrisches Refraktometer, temperiert bei 20 °C)
A13: 11 | B13: Schweizerisches Lebensmittelbuch 478.1 mit RXA 170 von der Fa. Paar - Ablesung der Refraktion genau nach 4 Minuten
A14: 12 | B14: Vakuumtrocknung bei 70 °C
A15: 13 | B15: Honigrefractometer ATAGO SMART-1
A16: 14 | B16: Vacuum 72°C 6 Std
A17: 15 | B17: Schweizerisches Lebensmittelbuch 478.1 (Refraktometrie)
A18: 16 | B18: Trocknung bei 103 °C
... A20: 18 | B20: § 64 LFGB Nr. L 40.00-2/1, analoges Verfahren (DIN 10752)
A21: 19 | B21: § 64 LFGB Nr. L 40.00-2 /1, analoges Verfahren (DIN 10752), modifiziert | C21: x
A22: 20 | B22: § 64 LFGB Nr. L 40.00-2/2, digitales Verfahren (DIN 10752)
A23: 21 | B23: § 64 LFGB Nr. L 40.00-2 /2, digitales Verfahren (DIN 10752), modifiziert | C23: x
A24: 22 | B24: Sonstiges / other
A25: 23 | B25: Bitte auswählen / Please select

Sheet Saccharasezahl
A1: Saccharasezahl | B1: 6 | C1: =MAX($A$3:$A$8)-1 -> 5
A2: Methode | B2: Bezeichnung des Analysenverfahrens | C2: Anzahl
A3: 1 | B3: § 64 LFGB Nr. L 40.00-8/1 (DIN 10759, Teil 1 - Verfahren nach Siegenthaler)
A4: 2 | B4: § 64 LFGB Nr. L 40.00-8/1 (DIN 10759, Teil 1 - Verfahren nach Siegenthaler), modifiziert | C4: x
A5: 3 | B5: Harmonised Methods of the International Honey Comission (2002), Method 9
A6: 4 | B6: Schweizerisches Lebensmittelbuch 485.1, 1999
A7: 5 | B7: Sonstiges / other
A8: 6 | B8: Bitte auswählen / Please select

Sheet Glycerin
A1: Glycerin | B1: 9 | C1: =MAX($A$3:$A$11)-1 -> 8
A2: Methode | B2: Bezeichnung des Analysenverfahrens | C2: Anzahl
A3: 1 | B3: § 64 LFGB Nr. L 40.00-13 (DIN 10763:2004)
A4: 2 | B4: § 64 LFGB Nr. L 40.00-13 (DIN 10763:2004), modifiziert | C4: x
A5: 3 | B5: Enzymatisch mit Roche/r-biopharm Nr. 10 148 270 035
A6: 4 | B6: Enzymatisch mit Thermo Nr. 5360
A7: 5 | B7: Enzymatisch mit Megazyme
A8: 6 | B8: HPLC, diverse Detektoren
A9: 7 | B9: GC, diverse Detektoren
A10: 8 | B10: Sonstiges / other
A11: 9 | B11: Bitte auswählen / Please select

Sheet Färbung
A1: Färbung | B1: 7 | C1: =MAX($A$8:$A$9)-1 -> 6
A2: Methode | B2: Bezeichnung des Analysenverfahrens | C2: Anzahl
A3: 1 | B3: Photometrisch nach HANNA (ohne weitere Angabe)
A4: 2 | B4: HANNA HI 83221 Farbmessgerät und Methode
A5: 3 | B5: HANNA HI 96785
A6: 4 | B6: HANNA C221
A7: 5 | B7: optisch /colorimetrisch
A8: 6 | B8: Sonstiges / other
A9: 7 | B9: Bitte auswählen / Please select

Sheet Ethanol
A1: Ethanol | B1: 12 | C1: =MAX($A$14:$A$14)-1 -> 11
A2: Methode | B2: Bezeichnung des Analysenverfahrens | C2: Anzahl
A3: 1 | B3: § 64 LFGB Nr. L 40.00-12 (DIN 10762:2004, enzymatisches Verfahren)
A4: 2 | B4: § 64 LFGB Nr. L 40.00-12 (DIN 10762:2004, enzymatisches Verfahren), modifiziert | C4: x
A5: 3 | B5: Enzymatisch mit Roche/r-biopharm Nr. 10 176 290 035
A6: 4 | B6: Enzytek fluid Ethanol Nr. E5340
A7: 5 | B7: GC-Headspace | C7: löschen
A8: 6 | B8: GC-FID
A9: 7 | B9: Enzymatisch mt Thermo Ref. 984300
A10: 8 | B10: Kit Megazyme K-ETOH
A11: 9 | B11: HPLC (diverse Detektoren) | C11: löschen
A12: 10 | B12: IFU 52
A13: 11 | B13: Sonstiges / other
A14: 12 | B14: Bitte auswählen / Please select
