Workbook
Name _ftn1: Hints1!#REF!
Name _ftn1: Hinweise1!#REF!
Name _ftn1: Hinweise3!$A$3
Name _ftnref1: Hints1!$A$3
Name _ftnref1: Hinweise1!$A$2
Name _ftnref1: Hinweise3!#REF!
Name Daten: #REF!
Name Daten: #REF!
Name MBlei: #REF!
Name MBlei: #REF!
Name OLE_LINK1: Ergebnisangabe!$A$20
Name OLE_LINK1: Reporting!$A$20
Name OLE_LINK2: Reporting!$J$13
Name Parameter2: #REF!
Name Parameter2: #REF!
Name Parameter2: #REF!
Name Parameter2: Alkohol!$B$3:$B$25
Name Parameter2alt: #REF!
Name Parameter2alt: #REF!
Name test: [1]Parameter2!$B$3:$B$18
Name test: [1]Parameter2!$B$3:$B$18
Name test: [2]Parameter2!$B$3:$B$18
Name test: [2]Parameter2!$B$3:$B$18
Name test: [3]Parameter2!$B$3:$B$18
Name test: [4]Parameter2!$B$3:$B$18

Sheet Hints1
A1: References to the result transmission and to the indication of result (Deadline see "Ergebnisse")
A2: Before analysing the samples, homogenize the samples again, please. After homogenisation You should analyse both samples with your standard procedures.
A3: Use this file for your result transmissions, please. Fill for this in the file yellow fields deposited out and send back the file afterwards by email to “ergebnisse@lvus.de”. It is important that for the clear allocation of the results to your laboratory in the table "Ergebnisse" (results) your client number and your postal zip code must be entered (both numbers only).
A4: The result data must be given in in the units as described at every parameter. To the avoidance of deviations in the laboratory made roundness, You are asked with each parameter after the first number deviating from 0 to indicate still the listened further numbers (even if due to Your validating data this accuracy is not kept by your analysis procedure). ISO 13 528 4.6 recommends that individual measurement results schould not be rounded by more than sr/2.
A6: Examples for transmissions of results:
A7: It a test material the element "Mg" was quantified. You are asked to report 3 significant numbers. The following computational contents are determined:
A9: Computed Value [mg/kg] | B9: Transmission of result [mg/kg]
A10: 1379 | B10: 1380
A11: 179.34 | B11: 179
A12: 80.12 | B12: 80.1
A13: 7.8 | B13: 7.8

Sheet Reporting

Sheet Hinweise1
A1: Hinweise zur Ergebnisübermittlung und zur Ergebnisangabe
A2: Bitte verwenden Sie diese Datei für Ihre Ergebnisübermittlung. Füllen Sie hierzu alle in der Tabelle "Ergebnisse" gelb hinterlegten Felder aus bzw. wählen Sie Ihre Angaben zu den von Ihnen verwendeten Methoden über die vorhandenen Auswahlfenster aus.
A3: Die ausgefüllte Exceltabelle muss per eMail als Anlage bis spätestens zur Deadline an eine der beiden Adressen ergebnisse@lvus.de oder results@lvus.de gesendet werden. Bitte beachten Sie, dass Ihre eMail nur die Exceltabelle als Anlage enthalten darf. Ausser Ihrem Absender soll die eigentliche eMail keine weiteren Daten oder Texte enthalten, da alle an die Adressen ergebnisse@lvus.de oder results@lvus.de gesendeten eMails automatisch ausgelesen werden.
A4: Nach der in der Tabelle "Ergebnisse" aufgeführten Deadline eingehende Ergebnisse werden bei der Auswertung nicht berücksichtigt.
A5: Es ist wichtig, dass Sie zur eindeutigen Zuordnung der Ergebnisse zu Ihrem Labor sowohl Ihre Kunden-Nr. als auch Ihre Postleitzahl (auf dem Anschreiben enthalten - nur Ziffern eingeben) eingeben. Über eine bei der Auswertung durchgeführte Plausibilitätsprüfung soll erkannt werden, ob Tippfehler vorliegen und dadurch die Daten einem anderen Teilnehmer zugeordnet werden könnten.
A6: Interne Teilnahme: Diesen Wert bitte nur ändern, falls Sie für Ihr Haus mehrere getrennte und damit kostenpflichtige Teilnahmen gebucht haben. Über diesen Wert werden die unter einer Kundennummer geführten Teilnahmen getrennt erfasst und die Ergebnisse anschließend der Auswertung zugeführt. Entscheiden Sie, welcher Ihrer Laborbereiche unter der Teilnahme 1 oder 2 registirert und ausgewertet werden soll.
A7: Die Ergebnisangaben müssen in der/den vorgegebenen Maßeinheiten erfolgen - Ihre Angaben werden ohne Änderungen zur Auswertung verwendet! Zur Vermeidung von Abweichungen durch bereits im Labor vorgenommene Rundungen werden Sie gebeten, bei jedem Parameter eine bestimmte Anzahl signifikanter Ziffern anzugeben (auch wenn auf Grund Ihrer Validierungsdaten diese Genauigkeit von Ihrem Analysenverfahren nicht eingehalten wird). Nach ISO 13528 Abschnitt 4.6 sollen Ergebnisse nicht stärker gerundet werden als dem halben Betrag der Wiederholstandardabweichung entspricht.
A8: Beispiele zur Ergebnisangabe: In einer Probe wurde der Gehalt von Mangan bestimmt. Es werden folgende rechnerischen Gehalte ermittelt:
A9: Beispielhafter Wert [mg/kg] | B9: Ergebnisangabe mit 3 signifikanten Ziffern [mg/kg]
A10: 1379 | B10: 1380
A11: 179.34 | B11: 179
A12: 80.12 | B12: 80.1
A13: 7.8 | B13: 7.8
A15: Verfahren sowie Literaturangaben, die von Teilnehmern bei bereits durchgeführten Laborvergleichsuntersuchungen angewendet wurden, sind in Auswahlfenstern vorbelegt, um Ihnen das Ausfüllen zu erleichtern. Über diese Auswahlfenster wählen Sie bitte diejenigen Einträge aus, die bei den von Ihnen angewandten Verfahren zutreffend sind. Ist kein zutreffender Eintrag vorhanden, so wählen Sie bitte den Eintrag "sonstiges.." aus. Tragen Sie dann in der nächsten Zeile (wird gelb hervorgehoben) die auf Ihr Verfahren zutreffende Beschreibung ein.
A16: Geben Sie in der Tabelle "Kontakt" den Namen, die eMail-Adresse sowie die Telefonnummer der Kontaktperson an, die wir bei Fragen kontaktieren können. Nach Fertigstellung der Auswertung soll an die angegebene eMail-Adresse zusätzlich zur gedruckten Auswertung auch eine Passwort-freie Auswertedatei im PDF-Format gesendet werden.
A17: Sollten Sie uns ergänzende Hinweise/Beobachtungen mitteilen wollen, so verwenden Sie hierfür den vorgesehenen Bereich innerhalb der Tabelle "Mitteilungen".
A18: Da Ihre eMail automatisch weiterverarbeitet wird, dürfen nur in der Exceltabelle Kommentare oder Hinweise zu den Proben und durchgeführten Untersuchungen enthalten sein. Außerdem darf Ihre eMail nur eine einzige Anlage enthalten. Sie erhalten automatisch eine Benachrichtigung über den Eingang Ihrer Ergebnisse.

Sheet Hinweise2
A1: Erläuterungen zur Weiterverarbeitung Ihrer Daten
A2: Diese Tabellen wurden so aufgebaut, dass die Daten automatisiert in unser Auswerteprogramm übernommen werden können. Die Tabellen dürfen daher keinesfalls im Aufbau verändert werden, da dann ein automatisiertes Auslesen der mitgeteilten Daten nicht mehr möglich wäre.
A3: Aus diesem Grund wurden die Tabellen gegen Veränderungen geschützt. Eingaben oder auch die Auswahl von Eigenschaften sind nur an wenigen Stellen nötig. Diese Stellen sind gelb hinterlegt.
A4: Da das Ausführen von Macros eine potentielle Gefährdung von Computersystemen bedeuten kann, gehen wir davon aus, dass ausführbare Macros in zahlreichen Fällen von den entsprechenden System-Administratoren unterdrückt werden. Deshalb wurde auf die Verwendung von Macros bei der Erstellung der Tabellen zur Ergebniserfassung komplett verzichtet, obwohl damit ein komfortableres Arbeiten möglich wäre.
A5: Beim Eingang Ihrer eMail wird diese von unserem System automatisch weiterverarbeitet, wobei einige Plausibilitäten (z.B. Vollständigkeit der Absenderangabe oder Kennzeichnung als Update bei erneuter Dateneinsendung) überprüft werden. Im Anschluss an diese Prüfung erhalten Sie automatisiert eine eMail-Antwort. Darin werden Sie darüber informiert, ob Ihre Daten prinzipiell weiterverarbeitet werden können oder ob benötigte Einträge fehlen und Sie Ihre Ergebnisse nach Ergänzung der fehlenden Angaben erneut einsenden sollen. Eine Prüfung auf Vollständigkeit von Ergebnisangaben (sind überhaupt Ergebnnisdaten vorhanden?) oder deren Angabe in den vorgegebenen Maßeinheiten wird zu diesem Zeitpunkt nicht vorgenommen.
A6: Sollten Sie noch vor dem Ende der Ergebnisannahme bemerken, dass in Ihrer Ergebnistabelle Fehler enthalten sind, so senden Sie einfach eine korrigierte Version an die Adresse ergebnisse@lvus.de. Kennzeichnen Sie in diesem Fall Ihre Tabelle als Aktualisierung, da ansonsten das System die Annahme der Daten zurückweist ("es sind ja bereits Daten von Ihnen vorhanden"). Ihre aktualiserte Ergebnistabelle muss vollständig ausgefüllt sein und insbesondere alle Ergebnisdaten der Vorversion enthalten, da bei einer Kennzeichung als Aktualiserung (Update) die zuvor eingesandte Ergebnistabelle durch die Aktualisierung vollständig ersetzt wird.
A7: Ihre Daten werden von uns wie mitgeteilt zur Auswertung verwendet. Selbst offensichtliche Fehler, wie - Tippfehler, - Übertragungsfehler in die Ergebniserfassungstabelle, - Angaben in einer anderen, von der Vorgabe abweichenden Maßeinheit werden zur Auswertung unverändert, also ohne Änderung übernommen und führen dann zu schlechten Bewertungen. Daher sollten Sie Ihre Eingaben sorgfältig durchführen und dabei insbesondere auch überprüfen, ob Ihre laborüblichen Maßeinheiten mit denen im Tabellenblatt übereinstimmen.
A8: Nach Ende der Frist zur Ergebnisabgabe sind Korrekturen nur noch möglich, falls die Auswertung der Daten noch nicht erfolgt ist. Korrekturen von fehlerhaften Teilnehmerangaben werden nach der Auswertung und insbesondere nach Veröffentlichung des Protokolls nicht mehr durchgeführt.

Sheet Hinweise3
A1: Hinweise zur Auswertung
A2: Die Beurteilung der Laborergebnisse erfolgt durch Z-Scores, die möglichst über die Vergleichsstandardabweichung des jeweiligen Standardverfahrens aus der Amtlichen Sammlung nach § 64 LFGB berechnet werden. Zusätzlich werden Z-Scores über die nach der Horwitz- funktion ermittelte Zielstandardabweichung für den jeweiligen Analyten berechnet.
A3: Mit abnehmenden Gehalten von Analyten in der Probe steigt die über die Horwitzfunktion berechnete Zielstandardabweichung stark an. So beträgt z.B. die relative Standardabweichung nach Horwitz 10 % bei einem Analytgehalt von 23 mg/kg und bereits 22,6 % bei einem Analytgehalt von 100 µg/kg.
A4: Zur Vermeidung zu „breiter“ Beurteilungszonen wird deshalb bei der Auswertung bei allen Parametern der Wert der Zielstandardabweichung auf maximal 22 % vom Wert des Medians beschränkt.
A5: Zunächst werden alle mitgeteilten Laborergebnisse berücksichtigt und die darüber berechneten statistischen Kenndaten für die Parameter aufgeführt.
A6: Zur Ermittlung der endgültigen statistischen Kenndaten werden bei allen in den Proben enthaltenen Wirkstoffe Zweitberechnungen durchgeführt. Bei diesen Zweitberechnungen bleiben generell die Ergebnisdaten von allen Laboratorien unberücksichtigt, deren Ergebnisse um mehr als 5 Zielstandardabweichungen (5 Z-Scores) vom Median des Analyten abweichen.
A7: Darüber hinaus bleiben bei allen Parametern zusätzlich alle Ergebnisse unberücksichtigt, die um mehr als 50 % vom Median abweichen und bei denen gleichzeitig der Betrag des Z-Score größer als 3 ist. Diese Regelung greift bei allen Parametern mit Analytgehalten unter 23 mg/kg.

Sheet Ergebnisangabe
A1: Hinweise zum Erfassen und Einsenden der Untersuchungsergebnisse
A2: Zur Bestimmung der Parameter sollen zwei vollständig getrennte Analysengänge durch¬geführt werden. Verwenden Sie für die Analysengänge 1 und 2 Probenmaterial aus verschiedenen Probeneinheiten.
A3: Benutzen Sie für die Ergebnisübermittlung diese vordefinierte Tabelle im Excelformat. Die Tabelle steht auch auf unserer Homepage (www.lvus.de) im Bereich „Download“ bereit.
A4: Geben Sie im Register "Kontakt" den Namen, die eMail-Adresse sowie die Telefonnummer der Kontaktperson an, die wir bei Fragen kontaktieren können. Nach Fertigstellung des Protokolls wird ausschließlich an die dort angegebenen eMail-Adressen vorab ein Passwort-freies Protokoll im PDF-Format gesendet.
A5: Tragen Sie im Register „Ergebnisse“ unbedingt Ihre Kundennummer und Ihre Postleitzahl ein, da darüber die Identifizierung des Einsenders erfolgt. In die beiden Datenfelder „Kundennummer“ und „Postleitzahl“ dürfen nur Ziffern eingegeben werden.
A6: Die Felder zur Eingabe Ihrer Ergebnisdaten sind nicht mit einer festen Nachkommazahl vordefiniert, um keine Hinweise auf eventuelle Gehalte von Parametern zu geben.
A7: Beachten Sie die Hinweise zu den gültigen (signifikanten) Ziffern bei den Parametern. Die Anzahl der Ziffern ist so zu wählen, dass beide Ergebnisse nur im Ausnahmefall aus iden¬tischen Ziffernfolgen bestehen. In einigen Fällen, z.B. bei Gehalten um 10 %, ist die Vorgabe gültiger Stellen schwierig: Die Ergebnisse „10,16% und 9,94% sind vergleichbar, nicht aber „10,2%“ und „9,94%“. Die Angabe einer zusätzlichen gültigen Stelle ist hier angebracht.
A8: Über Auswahlfelder sind gängige Untersuchungsverfahren bereits vordefiniert, um das Ausfüllen bei den Untersuchungsverfahren zu erleichtern. Sollten Sie ein nicht aufgeführtes Verfahren anwenden, wählen Sie „sonstiges“ aus und tragen Ihr Verfahren dann ein. Sofern weitere Informationen zur Auswertung nötig sind, werden auch gängige Verfahrensprinzipien und/oder Bezugsquellen kommerziell vertriebener Testsätze in ähnlicher Weise vordefiniert.
A9: In zahlreichen Fällen wird auch nachgefragt, ob Sie streng nach der Vorschrift gemäß § 64 LFGB arbeiten. Streng bedeutet, dass Sie ohne prüfrelevante Abweichungen arbeiten. Sollte die Abweichung lediglich die untersuchte Matrix sein (z.B. Ketchup anstelle von Brühwurst), dann soll dies nicht als Modifikation gekennzeichnet werden.
A10: Da Ihre eMail automatisch weiterverarbeitet wird, dürfen nur innerhalb der Exceltabelle in vordefinierten Bereichen Kommentare oder Hinweise zu den Proben und durchgeführten Untersuchungen enthalten sein (z.B. im Register „Mitteilungen“).
A11: Senden Sie uns die vollständig ausgefüllte Ergebnisdatei als Anlage im aktuellen Excelformat (Datei-Endung ".xlsx") oder im Format von Excel 2000 (Datei-Endung ".xls") per eMail an die Adresse „ergebnisse@lvus.de“. Ihre eMail darf nur eine einzige Anlage enthalten. eingesendete Tabellen verarbeiten.
A12: Nach dem Eingang in unserer Mailbox "ergebnisse@lvus.de" erhalten Sie automatisch eine Benachrichtigung/Bestätigung über den Eingang Ihrer eMail.
... A15: Senden Sie elektronisch mitgeteilte Ergebnisse nicht noch zusätzlich per Post oder Telefax.

Sheet Kontakt
A1: Kontaktperson | C1: Contact person
A2: Name | C2: Name
A3: eMail | C3: eMail-Address
A4: Telefon (inklusive Vorwahl): | C4: telefone (including country and area code)
A6: Bitte geben Sie den Namen, eMail-Adresse und die Telefonnummer der Person an, die wir bei Rückfragen kontaktieren können. An die aufgeführte eMailadresse wird das Protokoll zusätzlich auch als Passwort-freie PDF-Datei gesendet.
A8: Type in name, e-mail address and telefone number of the person we can contact in case of any questions, please. In addition to a printed version we will send a PDF-document (passwort-free) of the report to this e-mail address.
A10: Falls die Auswertung zusätzlich noch an eine zweite Adresse gesendet werden soll, geben Sie die zweite Adresse getrennt durch ein Semikolon mit nachfolgendem Leerzeichen ein.
A11: In case the PDF-document of the report should be sent to a second e-mail address seperate both e-mail addresses by typing in a semicolon followed by a blank.
A12: Beispiel für die Eingabe von 2 eMail-Adressen: Example how to type in 2 different e-mail addresses: | C12: info@lvus.de; ergebnisse@lvus.de
A15: eMail-Kontrolle: | C15: check of the e-Mail address
A16: Ergebnis der Überprüfung: | B16: =IF(ISBLANK(B15),"",IF(B3=B15,"Kontrolle erfolgreich - check ok","FEHLER - ERROR")) | C16: result of the control
B17: =IF(ISBLANK(B15),"",IF(ISERROR(FIND("@",B15,1)),"keine gültige eMail-Adresse",IF((VALUE(FIND("@",B15,1))>1),"","keine gültige eMail-Adresse!")))
B18: =IF(ISBLANK(B15),"",IF(ISERROR(FIND("@",B15,1)),"no valid eMail-adress",IF((VALUE(FIND("@",B15,1))>1),"","no valid eMail-address!")))
B19: =IF(ISBLANK(B15),"",IF(ISERROR(FIND("; ",B15,1)),"",IF((VALUE(FIND("; ",B15,1))>8),"","Achtung - die zweite eMail-Adresse wurde nicht korrekt eingegeben")))

Sheet Teilnehmerdaten
A1: Kundennummer | B1: =IF(ISNUMBER(VALUE(Ergebnisse!G1)),IF(VALUE(Ergebnisse!G1)>0,VALUE(Ergebnisse!G1),""),"") | D1: Umformung
A2: Postleitzahl | B2: =IF(ISNUMBER(VALUE(Ergebnisse!G2)),IF(VALUE(Ergebnisse!G2)>0,VALUE(Ergebnisse!G2),""),"")
A3: Produkt | B3: 16b | D3: Auswahl
A4: Jahrgang | B4: =YEAR(Ergebnisse!B5) -> 2020 | D4: 2
A5: Update | B5: =D8 -> N | D5: =IF(D4=2,"N","J") -> N | F5: 1 | G5: ja / yes
A6: Teilnahme | B6: =Ergebnisse!G3 -> 1 | F6: 2 | G6: nein / no
A7: Deadline | B7: =Ergebnisse!B5 -> 43982
A8: Parameterzahl | B8: 15 | D8: =LEFT(D5,1) -> N
A9: Bestimmungen je Parameter | B9: 2
A10: Parameter 1 | B10: =Ergebnisse!A19 -> Relative Dichte 20 °C/20 °C | C10: =Ergebnisse!B19 -> ohne
A11: Parameter 2 | B11: =Ergebnisse!A20 -> Alkohol | C11: =Ergebnisse!B20 -> % vol
A12: Parameter 3 | B12: =Ergebnisse!A21 -> Extrakt | C12: =Ergebnisse!B21 -> g/l Probe
A13: Parameter 4 | B13: =Ergebnisse!A22 -> Glucose (wasserfrei) | C13: =Ergebnisse!B22 -> g/l Probe
A14: Parameter 5 | B14: =Ergebnisse!A23 -> Fructose (wasserfrei) | C14: =Ergebnisse!B23 -> g/l Probe
A15: Parameter 6 | B15: =Ergebnisse!A24 -> Saccharose (wasserfrei) | C15: =Ergebnisse!B24 -> g/l Probe
A16: Parameter 7 | B16: =Ergebnisse!A25 -> Blausäure (HCN) | C16: =Ergebnisse!B25 -> mg/l Probe
A17: Parameter 8 | B17: =Ergebnisse!A26 -> Nachgewiesener Farbstoff | C17: =Ergebnisse!B26 -> ohne
A18: Parameter 9 | B18: =Ergebnisse!A27 -> Nachgewiesener Farbstoff | C18: =Ergebnisse!B27 -> ohne
A19: Parameter 10 | B19: =Ergebnisse!A28 -> Nachgewiesener Farbstoff | C19: =Ergebnisse!B28 -> ohne
A20: Parameter 11 | B20: =Ergebnisse!A29 -> Nachgewiesener Farbstoff | C20: =Ergebnisse!B29 -> ohne
A21: Parameter 12 | B21: Farbstoff1 | C21: =Ergebnisse!B30 -> mg/l Probe
A22: Parameter 13 | B22: Farbstoff2 | C22: =Ergebnisse!B31 -> mg/l Probe
A23: Parameter 14 | B23: Farbstoff3 | C23: =Ergebnisse!B32 -> mg/l Probe
A24: Parameter 15 | B24: Farbstoff4 | C24: =Ergebnisse!B33 -> mg/l Probe

Sheet Ergebnisse
A1: Ergebnisdatenblatt | E1: Kunden-Nr.
A2: Likör | E2: Postleitzahl
E3: interne Teilnahme: | G3: 1 | H3: V.1
A4: Einsendeadresse: | B4: ergebnisse@lvus.de | E4: =IF(ISBLANK(G1),"",IF(ISNUMBER(VALUE(G1)),"","Bitte nur Ziffern eingeben (numbers only)"))
A5: Annahmeschluss: | B5: 43982 | E5: =IF(ISBLANK(G2),"",IF(ISNUMBER(VALUE(G2)),"","Bitte nur Ziffern eingeben (numbers only)"))
A6: Schreiben Sie Ihre Daten in die gelb hinterlegten Felder. Geben Sie Ihre Ergebnisse in den aufgeführten Einheiten an. Write your data into the yellow cells. Give your results in the units of column 2.
A7: Geben Sie Ihre Ergebnisse mit den in Spalte 3 aufgeführten signifikanten Stellen an. Beispiele hierzu sind in "Hinweise1" enthalten. Report your results with in column 3 shown significant numbers (there are some examples in sheet "hints1" .
A8: In einigen Fällen, z.B. bei Gehalten um 1 % oder 10 %, ist die Vorgabe gültiger Stellen schwierig: Die Ergebnisse „1,06% und 0,98% sind vergleichbar, nicht aber „1,1 %“ und „0,98%“. Die Angabe einer zusätzlichen gültigen Stelle beim Beispielwert 1,06 ist hier angebracht.
A9: Sollte ein Inhaltsstoff nicht bestimmbar sein, so teilen Sie uns bitte den Wert Ihrer Bestimmungsgrenze mit vorangestelltem "< “ mit. In cases you will not detect a parameter, report your limit of quantification with "< " in front of the value.
A10: Falls Sie einen Parameter nicht bearbeiten, lassen Sie die zugehörigen Ergebnisdatenfelder bitte leer. If you are not analysing parameters in your laboratory do not write anything into the corresponding fields for the results.
A11: Zur Beschreibung des Analysenverfahrens verwenden Sie bitte die im unteren Teil dieses Datenblatts enthaltenen Auswahlfelder. To describe your method use the Pulldown-menus following after the result area.
A12: =IF(OR(ISBLANK(G1),ISBLANK(G2)),"Die Tabelle ist so nicht versandfertig. Es fehlen noch Eingaben bei Kunden-Nr. und/oder Postleitzahl.","Wichtig: Sind Ihre Eingaben bei Kunden-Nr. und Postleitzahl korrekt?") -> Die Tabelle ist so nicht versandfertig. Es fehlen noch Eingaben bei Kunden-Nr. und/oder Postleitzahl.
A13: =IF(OR(ISBLANK(G1),ISBLANK(G2)),"Nur wenn diese beiden Felder ausgefüllt sind, kann der Absender dieser Tabelle korrekt identifiziert werden.","") -> Nur wenn diese beiden Felder ausgefüllt sind, kann der Absender dieser Tabelle korrekt identifiziert werden.
A14: Tabelle wurde bereits einmal erfolgreich gesendet, es handelt sich um eine Aktualisierung: This table was sent before, successfully. It is an update:
A17: Untersuchungsergebnisse
A18: Parameter | B18: Einheit | C18: Signifikante Stellen | D18: Analysen- gang 1 | E18: Analysen- gang 2 | F18: Verfahren / Literatur
A19: =Dichte!A1 -> Relative Dichte 20 °C/20 °C | B19: ohne | C19: 6 | F19: =Dichte!$B$1 -> 18 | H19: =Dichte!$C$1 -> 17
A20: =Alkohol!A1 -> Alkohol | B20: % vol | C20: 4 | F20: =Alkohol!$B$1 -> 22 | H20: =Alkohol!$C$1 -> 21
A21: Extrakt | B21: g/l Probe | C21: 4 | F21: =Extrakt!$B$1 -> 11 | H21: =Extrakt!$C$1 -> 10
A22: Glucose (wasserfrei) | B22: g/l Probe | C22: 4 | F22: ='Sac-Glu-Fru'!$D$1 -> 27 | H22: ='Sac-Glu-Fru'!$C$1 -> 26
A23: Fructose (wasserfrei) | B23: g/l Probe | C23: 4 | F23: ='Sac-Glu-Fru'!$E$1 -> 27 | H23: ='Sac-Glu-Fru'!$C$1 -> 26
A24: Saccharose (wasserfrei) | B24: g/l Probe | C24: 4 | F24: ='Sac-Glu-Fru'!$B$1 -> 27 | H24: ='Sac-Glu-Fru'!$C$1 -> 26
A25: Blausäure (HCN) | B25: mg/l Probe | C25: 3 | F25: =Blausäure!$B$1 -> 8 | H25: =Blausäure!C1 -> 7
A26: Nachgewiesener Farbstoff | B26: ohne | C26: X | D26: =Farbstoffe!B1 | F26: =Farbstoffe_qual!$B$1 -> 27 | H26: =Farbstoffe_qual!C1 -> 26
A27: Nachgewiesener Farbstoff | B27: ohne | C27: X | D27: =Farbstoffe!C1 | F27: =Farbstoffe_qual!$B$1 -> 27 | H27: =Farbstoffe_qual!C1 -> 26
A28: Nachgewiesener Farbstoff | B28: ohne | C28: X | D28: =Farbstoffe!D1 | F28: =Farbstoffe_qual!$B$1 -> 27 | H28: =Farbstoffe_qual!C1 -> 26
A29: Nachgewiesener Farbstoff | B29: ohne | C29: X | D29: =Farbstoffe!E1 | F29: =Farbstoffe_qual!$B$1 -> 27 | H29: =Farbstoffe_qual!C1 -> 26
A30: =Farbstoffe!B31 -> 18 | B30: mg/l Probe | C30: 3 | F30: =Farbstoffe_quan!B1 -> 21 | H30: =Farbstoffe_quan!C1 -> 20
A31: =Farbstoffe!C31 -> 18 | B31: mg/l Probe | C31: 3 | F31: =Farbstoffe_quan!B1 -> 21 | H31: =Farbstoffe_quan!C1 -> 20
A32: =Farbstoffe!D31 -> 18 | B32: mg/l Probe | C32: 3 | F32: =Farbstoffe_quan!B1 -> 21 | H32: =Farbstoffe_quan!C1 -> 20
A33: =Farbstoffe!E31 -> 18 | B33: mg/l Probe | C33: 3 | F33: =Farbstoffe_quan!B1 -> 21 | H33: =Farbstoffe_quan!C1 -> 20
A35: Beschreibung der verwendeten Analysenverfahren
A36: =Dichte!A1 -> Relative Dichte 20 °C/20 °C | D36: 19 | I36: =ISBLANK(VLOOKUP(F19,Dichte!A3:C16,3)) -> TRUE
A37: =IF(F19=H19,"bitte eingeben:",IF(I36,"","Art der Modifikation:")) | D37: 19
A38: =Alkohol!A1 -> Alkohol | D38: 19 | I38: =ISBLANK(VLOOKUP(F20,Alkohol!A3:C24,3)) -> TRUE
A39: =IF(F20=H20,"bitte eingeben:",IF(I38,"","Art der Modifikation:")) | D39: 19
A40: Extrakt | I40: =ISBLANK(VLOOKUP(F21,Extrakt!A3:C13,3)) -> TRUE
A41: =IF(F21=H21,"bitte eingeben:",IF(I40,"","Art der Modifikation:"))
A42: Glucose (wasserfrei) | I42: =ISBLANK(VLOOKUP(F22,'Sac-Glu-Fru'!A3:C28,3)) -> TRUE
A43: =IF(F22=H22,"bitte eingeben:",IF(I42,"","Art der Modifikation:"))
...

Sheet Mitteilungen
A1: Nachfolgend können Sie uns ergänzende Hinweise geben oder wichtige Beobachtungen mitteilen. | H1: =COUNTA(A2:G38) -> 0

Sheet Farbstoffe_qual
A1: Farbstoffe | B1: 27 | C1: =MAX($A$3:$A$29)-1 -> 26
A2: Methode | B2: Bezeichnung des Analysenverfahrens | C2: Anzahl
A3: 1 | B3: § 64 LFGB Nr. L 26.11.03-14
A4: 2 | B4: § 64 LFGB Nr. L 26.11.03-14, modifiziert | C4: x
A5: 3 | B5: Isolierung und Anreicherung: Wollfadenmethode; HPLC
A6: 4 | B6: Isolierung und Anreicherung: Wollfadenmethode; DC
A7: 5 | B7: Isolierung und Anreicherung: Wollfadenmethode; Papierchromatographie
A8: 6 | B8: Isolierung und Anreicherung: Polyamidpulver; HPLC
A9: 7 | B9: Isolierung und Anreicherung: Polyamidpulver; DC
A10: 8 | B10: Isolierung und Anreicherung: C18-Kartusche; HPLC
A11: 9 | B11: Isolierung und Anreicherung: C18-Kartusche; DC
A12: 10 | B12: Ammoniakauszug, Reinigung über DEAe-Cellulose-Säule, DC
A13: 11 | B13: Ammoniakauszug, Reinigung über DEAe-Cellulose-Säule, HPLC
A14: 12 | B14: Ggf. Zentrifugation/Filtration/Klärung (ohne Anreicherung); HPLC
A15: 13 | B15: Extraktion mit Acetonitril, HPLC
A16: 14 | B16: Isolierung und Anreicherung: Polyamid; Papierchromatographie
... A28: 26 | B28: Sonstiges
A29: 27

Sheet Farbstoffe_quan
A1: künstliche Farbstoffe, quantitativ | B1: 21 | C1: =MAX($A$3:$A$23)-1 -> 20
A2: Methode | B2: Bezeichnung des Analysenverfahrens | C2: Anzahl
A3: 1 | B3: § 64 LFGB Nr. L 26.11.03-14 (auch modifiziert)
A4: 2 | B4: § 64 LFGB Nr. L 08.00-51 (auch modifiziert)
A5: 3 | B5: Isolierung und Anreicherung: Wollfadenmethode; HPLC
A6: 4 | B6: Isolierung und Anreicherung: Wollfadenmethode; DC
A7: 5 | B7: Isolierung und Anreicherung: Wollfadenmethode; Papierchromatographie
A8: 6 | B8: Isolierung und Anreicherung: Polyamidpulver; HPLC
A9: 7 | B9: Isolierung und Anreicherung: Polyamidpulver; DC
A10: 8 | B10: Isolierung und Anreicherung: C18-Kartusche; HPLC
A11: 9 | B11: Isolierung und Anreicherung: C18-Kartusche; DC
A12: 10 | B12: Ammoniakauszug, Reinigung über DEAe-Cellulose-Säule, DC
A13: 11 | B13: Ammoniakauszug, Reinigung über DEAe-Cellulose-Säule, HPLC
A14: 12 | B14: Ggf. Zentrifugation/Filtration/Klärung (ohne Anreicherung); HPLC
... A22: 20 | B22: Sonstiges
A23: 21

Sheet Farbstoffe
A1: Farbstoffe qual | B1: 19 | C1: 19 | D1: 19 | E1: 19
A2: lfd. Nr. | B2: Bezeichnung des Farbstoffes
A3: 1 | B3: E 102 (Tartrazin)
A4: 2 | B4: E 104 (Chinolingelb)
A5: 3 | B5: E 110 (Gelborange S)
A6: 4 | B6: E 120 (Karmin)
A7: 5 | B7: 4-Amino-Karminsäure (aus E 120)
A8: 6 | B8: E 122 (Azorobin)
A9: 7 | B9: E 123 (Amaranth)
A10: 8 | B10: E 124 (Ponceau 4 R)
A11: 9 | B11: E 127 (Erythrosin)
A12: 10 | B12: E 128 (Rot 2G)
A13: 11 | B13: E 129 (Allurarot AC)
A14: 12 | B14: E 131 (Patentblau V)
... A21: 19 | B21: Farbstoffe nicht untersucht
B27: E 105 (Fast Yellow AB)
B28: E 107 (Gelb 2G)
A31: Farbstoffe quan | B31: 18 | C31: 18 | D31: 18 | E31: 18
A32: lfd. Nr. | B32: Bezeichnung des Farbstoffes
A33: 1 | B33: E 102 (Tartrazin)
A34: 2 | B34: E 104 (Chinolingelb)
A35: 3 | B35: E 110 (Gelborange S)
A36: 4 | B36: E 120 (Karmin)
A37: 5 | B37: 4-Amino-Karminsäure (aus E 120)
A38: 6 | B38: E 122 (Azorobin)
A39: 7 | B39: E 123 (Amaranth)
A40: 8 | B40: E 124 (Ponceau 4 R)
A41: 9 | B41: E 127 (Erythrosin)
A42: 10 | B42: E 128 (Rot 2G)
A43: 11 | B43: E 129 (Allurarot AC)
A44: 12 | B44: E 131 (Patentblau V)
... A50: 18 | B50: Farbstoff nicht quantifiziert

Sheet Dichte
A1: Relative Dichte 20 °C/20 °C | B1: 18 | C1: =MAX($A$3:$A$20)-1 -> 17
B2: Bezeichnung des Analysenverfahrens | C2: Modifikation
A3: 1 | B3: § 64 LFGB Nr. L 37.00-1
A4: 2 | B4: § 64 LFGB Nr. L 37.00-1, modifiziert | C4: x
A5: 3 | B5: Biegeschwinger
A6: 4 | B6: Pyknometer
A7: 5 | B7: § 64 LFGB Nr. L 36.00-3
A8: 6 | B8: § 64 LFGB Nr. L 36.00-3, modifiziert | C8: x
A9: 7 | B9: § 64 LFGB Nr. L 31.00-1
A10: 8 | B10: § 64 LFGB Nr. L 31.00-1, modifiziert | C10: x
A11: 9 | B11: Pyknometrie nach VO (EG) Nr. 2870/2000 Nr. I Anlage II A (vor der Destillation, auch modifiziert)
A12: 10 | B12: Elektronische Dichtemessung nach VO (EG) Nr. 2870/2000 Nr. I Anlage II B (vor der Destillation, auch modifiziert)
A13: 11 | B13: Hydrostatische Waage nach VO (EG) Nr. 2870/2000 Nr. I Anlage II C (auch modifiziert, auch modifiziert)
A14: 12 | B14: PAAR 4500
A15: 13 | B15: Anton Paar DMA 5000
A16: 14 | B16: Pipettieren und Auswiegen
A17: 15 | B17: Verrührmethode des Eichamtes
A18: 16 | B18: OIV-MA-AS2-01A: R2012
A19: 17 | B19: Sonstiges
A20: 18

Sheet Alkohol
A1: Alkohol | B1: 22 | C1: =MAX($A$3:$A$25)-1 -> 21
A2: Methode | B2: Bezeichnung des Analysenverfahrens | C2: Anzahl
A3: 1 | B3: § 64 LFGB Nr. L 37.00-1
A4: 2 | B4: § 64 LFGB Nr. L 37.00-1, modifiziert | C4: x
A5: 3 | B5: VO (EG) Nr. 2870/2000 Nr. 1 Anlage II Methode A (Pyknometrie)
A6: 4 | B6: VO (EG) Nr. 2870/2000 Nr. 1 Anlage II Methode A (Pyknometrie), modifiziert | C6: x
A7: 5 | B7: VO (EG) Nr. 2870/2000 Nr. 1 Anlage II Methode B (Biegeschwinger)
A8: 6 | B8: VO (EG) Nr. 2870/2000 Nr. 1 Anlage II Methode B (Biegeschwinger), modifiziert | C8: x
A9: 7 | B9: VO (EG) Nr. 2870/2000 Nr. 1 Anlage II Methode B (Hydrostatische Waage)
A10: 8 | B10: VO (EG) Nr. 2870/2000 Nr. 1 Anlage II Methode B (Hydrostatische Waage), modifiziert | C10: x
A11: 9 | B11: Biegeschwinger
A12: 10 | B12: Pyknometer (Berechnung aus der Dichte)
A13: 11 | B13: Destillation 100/100, Dichtebestimmung des Destillats (Alkoholtabelle nach Gidaly)
A14: 12 | B14: Headspace-GC
A15: 13 | B15: §64 LFGB Nr. L 31.00-1 (pyknometrisch, Variante 1)
A16: 14 | B16: Pyknometrisch nach Destillation 50/50
A17: 15 | B17: Schweizerisches Lebensmittelbuch Kapitel 32/3
A18: 16 | B18: Amtlich geeichte Alkoholspindel
A19: 17 | B19: NIR
A20: 18 | B20: Destillation, Biegeschwinger (Ergebnisse mit amtlichen Alkoholtafeln ermittelt)
A21: 19 | B21: Destillation, Biegeschwinger
A22: 20 | B22: OIV-MA-BS-01: R2012 (Biegeschwinger)
A23: 21 | B23: Sonstiges
A24: 22

Sheet Extrakt
A1: Extrakt | B1: 11 | C1: =MAX($A$3:$A$13)-1 -> 10
A2: Methode | B2: Bezeichnung des Analysenverfahrens | C2: Anzahl
A3: 1 | B3: § 64 LFGB Nr. L 36.00-4
A4: 2 | B4: § 64 LFGB Nr. L 36.00-4, modifiziert | C4: x
A5: 3 | B5: Berechnet aus der Relativen Dichte 20 °C/20 °C vor und nach Destillation
A6: 4 | B6: Destillation, Biegeschwinger
A7: 5 | B7: Bestimmung aus der Dichte und des Brechungsindexes
A8: 6 | B8: Berechnet nach Tabarié
A9: 7 | B9: OIV MA AS2-03:R2012
A10: 8 | B10: Extrakt, gravimetrisch
A11: 9 | B11: Vo EWG 2676/90 Anhang 4
A12: 10 | B12: Sonstige
A13: 11

Sheet Sac-Glu-Fru
A1: Saccharose | B1: 27 | C1: =MAX($A$3:$A$29)-1 -> 26 | D1: 27 | E1: 27
A2: Methode | B2: Bezeichnung des Analysenverfahrens | D2: Glucose | E2: Fructose
A3: 1 | B3: § 64 LFGB Nr. L 31.00-12 (DIN EN 1140: 1994)
A4: 2 | B4: § 64 LFGB Nr. L 31.00-12 (DIN EN 1140: 1994), modifiziert | C4: x
A5: 3 | B5: § 64 LFGB Nr. L 00.00-72
A6: 4 | B6: § 64 LFGB Nr. L 00.00-72, modifiziert | C6: x
A7: 5 | B7: Enzymatisch nach r-biopharm / Roche Nr. 10 716 260 035 (Saccharose, D-Glucose, D-Fructose)
A8: 6 | B8: Enzymatisch nach r-biopharm / Roche Nr. 10 139 106 035 (D-Glucose, D-Fructose)
A9: 7 | B9: Enzymatisch nach r-biopharm / Roche Nr. 10 139 041 035 + PGF 127396 (Saccharose, D-Glucose, D-Fructose)
A10: 8 | B10: SCIL-Testsatz Nr. 1247 (Saccharose, D-Glucose, D-Fructose)
A11: 9 | B11: HPLC, verschiedene Ausführungsformen
A12: 10 | B12: Ionenchromatographie, verschiedene Ausführungsformen
A13: 11 | B13: IFU Nr. 55
A14: 12 | B14: Enzymatisch nach r-biopharm / Roche, Einzelreagentien
A15: 13 | B15: Enzymatisch nach r-biopharm/Roche Nr.10 139 041 035 +PGI 10 128 139 001 (Saccharose, D-Glucose, D-Fructose)
A16: 14 | B16: SCIL-Test EnzytecTM fluid Glucose/Fructose (Ref. 5160)
A17: 15 | B17: SCIL-Test EnzytecTM fluid Saccharose (Gesamtglucose) (Ref. 5180)
A18: 16 | B18: IFU Nr. 56
... A28: 26 | B28: Sonstige
A29: 27

Sheet ß-Asaron
A1: ß-Asaron | B1: 4 | C1: =MAX($A$3:$A$9)-1 -> 6
A2: Methode | B2: Bezeichnung des Analysenverfahrens | C2: Anzahl
A3: 1 | B3: GC-MS
A4: 2 | B4: GC-MS/MS
A5: 3 | B5: HPLC (diverse Detektoren)
A6: 4 | B6: § 64 LFGB Nr. L 00.00-145
A7: 5 | B7: § 64 LFGB Nr. L 00.00-145, modifiziert
A8: 6 | B8: Sonstiges
A9: 7

Sheet Blausäure
A1: Blausäure | B1: 8 | C1: =MAX($A$3:$A$10)-1 -> 7
A2: Methode | B2: Bezeichnung des Analysenverfahrens | C2: Anzahl
A3: 1 | B3: Photometrisch nach Destillation
A4: 2 | B4: Destillation und anschließender photometrischer Messung nach Färbung mit Barbitursäure unter Korrektur der Wiederfindung
A5: 3 | B5: Aufarbeitung über Extrelut-Säulen, anschließend CYAN-EC-Farbtest halbquantitativ
A6: 4 | B6: HPLC-Verfahren (unterschiedliche Detektoren)
A7: 5 | B7: VDLUFA Bd. III, 16.3.2
A8: 6 | B8: enzymatischer Aufschluss, Destillation, Titration gegen Silbernitrat
A9: 7 | B9: Sonstiges
A10: 8
