Workbook
Name _ftn1: Hints1!#REF!
Name _ftn1: Hinweise1!#REF!
Name _ftn1: Hinweise3!$A$3
Name _ftnref1: Hints1!$A$3
Name _ftnref1: Hinweise1!$A$2
Name _ftnref1: Hinweise3!#REF!
Name Daten: #REF!
Name Daten: #REF!
Name Daten: #REF!
Name MBlei: #REF!
Name MBlei: #REF!
Name MBlei: #REF!
Name OLE_LINK1: Ergebnisangabe!$A$20
Name OLE_LINK1: Reporting!$A$14
Name OLE_LINK2: Reporting!$J$7
Name Parameter2: #REF!
Name Parameter2: #REF!
Name Parameter2: #REF!
Name Parameter2: Lactose!$B$7:$B$24
Name Parameter2alt: #REF!
Name Parameter2alt: #REF!
Name Parameter2alt: #REF!
Name test: [1]Parameter2!$B$3:$B$18
Name test: [2]Parameter2!$B$3:$B$18
Name test: [2]Parameter2!$B$3:$B$18
Name test: #REF!
Name test: [1]Parameter2!$B$3:$B$18
Name test: [1]Parameter2!$B$3:$B$18

Sheet Hints1
A1: References to the result transmission and to the indication of result (Deadline see "Ergebnisse")
A2: Before analysing the samples, homogenize the samples again, please. After homogenisation You should analyse both samples with your standard procedures.
A3: Use this file for your result transmissions, please. Fill for this in the file yellow fields deposited out and send back the file afterwards by email to “ergebnisse@lvus.de”. It is important that for the clear allocation of the results to your laboratory in the table "Ergebnisse" (results) your client number and your postal zip code must be entered (both numbers only).
A4: The result data must be given in in the units as described at every parameter. To the avoidance of deviations in the laboratory made roundness, You are asked with each parameter after the first number deviating from 0 to indicate still the listened further numbers (even if due to Your validating data this accuracy is not kept by your analysis procedure). ISO 13 528 4.6 recommends that individual measurement results schould not be rounded by more than sr/2.
A6: Examples for transmissions of results:
A7: It a test material the element "Mg" was quantified. You are asked to report 3 significant numbers. The following computational contents are determined:
A9: Computed Value [mg/kg] | B9: Transmission of result [mg/kg]
A10: 1379 | B10: 1380
A11: 179.34 | B11: 179
A12: 80.12 | B12: 80.1
A13: 7.8 | B13: 7.8

Sheet Reporting

Sheet Hinweise1
A1: Hinweise zur Ergebnisübermittlung und zur Ergebnisangabe
A2: Bitte verwenden Sie diese Datei für Ihre Ergebnisübermittlung. Füllen Sie hierzu alle in der Tabelle "Ergebnisse" gelb hinterlegten Felder aus bzw. wählen Sie Ihre Angaben zu den von Ihnen verwendeten Methoden über die vorhandenen Auswahlfenster aus.
A3: Die ausgefüllte Exceltabelle muss per eMail als Anlage bis spätestens zur Deadline an eine der beiden Adressen ergebnisse@lvus.de oder results@lvus.de gesendet werden. Bitte beachten Sie, dass Ihre eMail nur die Exceltabelle als Anlage enthalten darf. Ausser Ihrem Absender soll die eigentliche eMail keine weiteren Daten oder Texte enthalten, da alle an die Adressen ergebnisse@lvus.de oder results@lvus.de gesendeten eMails automatisch ausgelesen werden.
A4: Nach der in der Tabelle "Ergebnisse" aufgeführten Deadline eingehende Ergebnisse werden bei der Auswertung nicht berücksichtigt.
A5: Es ist wichtig, dass Sie zur eindeutigen Zuordnung der Ergebnisse zu Ihrem Labor sowohl Ihre Kunden-Nr. als auch Ihre Postleitzahl (auf dem Anschreiben enthalten - nur Ziffern eingeben) eingeben. Über eine bei der Auswertung durchgeführte Plausibilitätsprüfung soll erkannt werden, ob Tippfehler vorliegen und dadurch die Daten einem anderen Teilnehmer zugeordnet werden könnten.
A6: Interne Teilnahme: Diesen Wert bitte nur ändern, falls Sie für Ihr Haus mehrere getrennte und damit kostenpflichtige Teilnahmen gebucht haben. Über diesen Wert werden die unter einer Kundennummer geführten Teilnahmen getrennt erfasst und die Ergebnisse anschließend der Auswertung zugeführt. Entscheiden Sie, welcher Ihrer Laborbereiche unter der Teilnahme 1 oder 2 registirert und ausgewertet werden soll.
A7: Die Ergebnisangaben müssen in der/den vorgegebenen Maßeinheiten erfolgen - Ihre Angaben werden ohne Änderungen zur Auswertung verwendet! Zur Vermeidung von Abweichungen durch bereits im Labor vorgenommene Rundungen werden Sie gebeten, bei jedem Parameter eine bestimmte Anzahl signifikanter Ziffern anzugeben (auch wenn auf Grund Ihrer Validierungsdaten diese Genauigkeit von Ihrem Analysenverfahren nicht eingehalten wird). Nach ISO 13528 Abschnitt 4.6 sollen Ergebnisse nicht stärker gerundet werden als dem halben Betrag der Wiederholstandardabweichung entspricht.
A8: Beispiele zur Ergebnisangabe: In einer Probe wurde der Gehalt von Mangan bestimmt. Es werden folgende rechnerischen Gehalte ermittelt:
A9: Beispielhafter Wert [mg/kg] | B9: Ergebnisangabe mit 3 signifikanten Ziffern [mg/kg]
A10: 1379 | B10: 1380
A11: 179.34 | B11: 179
A12: 80.12 | B12: 80.1
A13: 7.8 | B13: 7.8
A15: Verfahren sowie Literaturangaben, die von Teilnehmern bei bereits durchgeführten Laborvergleichsuntersuchungen angewendet wurden, sind in Auswahlfenstern vorbelegt, um Ihnen das Ausfüllen zu erleichtern. Über diese Auswahlfenster wählen Sie bitte diejenigen Einträge aus, die bei den von Ihnen angewandten Verfahren zutreffend sind. Ist kein zutreffender Eintrag vorhanden, so wählen Sie bitte den Eintrag "sonstiges.." aus. Tragen Sie dann in der nächsten Zeile (wird gelb hervorgehoben) die auf Ihr Verfahren zutreffende Beschreibung ein.
A16: Geben Sie in der Tabelle "Kontakt" den Namen, die eMail-Adresse sowie die Telefonnummer der Kontaktperson an, die wir bei Fragen kontaktieren können. Nach Fertigstellung der Auswertung soll an die angegebene eMail-Adresse zusätzlich zur gedruckten Auswertung auch eine Passwort-freie Auswertedatei im PDF-Format gesendet werden.
A17: Sollten Sie uns ergänzende Hinweise/Beobachtungen mitteilen wollen, so verwenden Sie hierfür den vorgesehenen Bereich innerhalb der Tabelle "Mitteilungen".
A18: Da Ihre eMail automatisch weiterverarbeitet wird, dürfen nur in der Exceltabelle Kommentare oder Hinweise zu den Proben und durchgeführten Untersuchungen enthalten sein. Außerdem darf Ihre eMail nur eine einzige Anlage enthalten. Sie erhalten automatisch eine Benachrichtigung über den Eingang Ihrer Ergebnisse.

Sheet Hinweise2
A1: Erläuterungen zur Weiterverarbeitung Ihrer Daten
A2: Diese Tabellen wurden so aufgebaut, dass die Daten automatisiert in unser Auswerteprogramm übernommen werden können. Die Tabellen dürfen daher keinesfalls im Aufbau verändert werden, da dann ein automatisiertes Auslesen der mitgeteilten Daten nicht mehr möglich wäre.
A3: Aus diesem Grund wurden die Tabellen gegen Veränderungen geschützt. Eingaben oder auch die Auswahl von Eigenschaften sind nur an wenigen Stellen nötig. Diese Stellen sind gelb hinterlegt.
A4: Da das Ausführen von Macros eine potentielle Gefährdung von Computersystemen bedeuten kann, gehen wir davon aus, dass ausführbare Macros in zahlreichen Fällen von den entsprechenden System-Administratoren unterdrückt werden. Deshalb wurde auf die Verwendung von Macros bei der Erstellung der Tabellen zur Ergebniserfassung komplett verzichtet, obwohl damit ein komfortableres Arbeiten möglich wäre.
A5: Beim Eingang Ihrer eMail wird diese von unserem System automatisch weiterverarbeitet, wobei einige Plausibilitäten (z.B. Vollständigkeit der Absenderangabe oder Kennzeichnung als Update bei erneuter Dateneinsendung) überprüft werden. Im Anschluss an diese Prüfung erhalten Sie automatisiert eine eMail-Antwort. Darin werden Sie darüber informiert, ob Ihre Daten prinzipiell weiterverarbeitet werden können oder ob benötigte Einträge fehlen und Sie Ihre Ergebnisse nach Ergänzung der fehlenden Angaben erneut einsenden sollen. Eine Prüfung auf Vollständigkeit von Ergebnisangaben (sind überhaupt Ergebnnisdaten vorhanden?) oder deren Angabe in den vorgegebenen Maßeinheiten wird zu diesem Zeitpunkt nicht vorgenommen.
A6: Sollten Sie noch vor dem Ende der Ergebnisannahme bemerken, dass in Ihrer Ergebnistabelle Fehler enthalten sind, so senden Sie einfach eine korrigierte Version an die Adresse ergebnisse@lvus.de. Kennzeichnen Sie in diesem Fall Ihre Tabelle als Aktualisierung, da ansonsten das System die Annahme der Daten zurückweist ("es sind ja bereits Daten von Ihnen vorhanden"). Ihre aktualiserte Ergebnistabelle muss vollständig ausgefüllt sein und insbesondere alle Ergebnisdaten der Vorversion enthalten, da bei einer Kennzeichung als Aktualiserung (Update) die zuvor eingesandte Ergebnistabelle durch die Aktualisierung vollständig ersetzt wird.
A7: Ihre Daten werden von uns wie mitgeteilt zur Auswertung verwendet. Selbst offensichtliche Fehler, wie - Tippfehler, - Übertragungsfehler in die Ergebniserfassungstabelle, - Angaben in einer anderen, von der Vorgabe abweichenden Maßeinheit werden zur Auswertung unverändert, also ohne Änderung übernommen und führen dann zu schlechten Bewertungen. Daher sollten Sie Ihre Eingaben sorgfältig durchführen und dabei insbesondere auch überprüfen, ob Ihre laborüblichen Maßeinheiten mit denen im Tabellenblatt übereinstimmen.
A8: Nach Ende der Frist zur Ergebnisabgabe sind Korrekturen nur noch möglich, falls die Auswertung der Daten noch nicht erfolgt ist. Korrekturen von fehlerhaften Teilnehmerangaben werden nach der Auswertung und insbesondere nach Veröffentlichung des Protokolls nicht mehr durchgeführt.

Sheet Hinweise3
A1: Hinweise zur Auswertung
A2: Die Beurteilung der Laborergebnisse erfolgt durch Z-Scores, die möglichst über die Vergleichsstandardabweichung des jeweiligen Standardverfahrens aus der Amtlichen Sammlung nach § 64 LFGB berechnet werden. Zusätzlich werden Z-Scores über die nach der Horwitz- funktion ermittelte Zielstandardabweichung für den jeweiligen Analyten berechnet.
A3: Mit abnehmenden Gehalten von Analyten in der Probe steigt die über die Horwitzfunktion berechnete Zielstandardabweichung stark an. So beträgt z.B. die relative Standardabweichung nach Horwitz 10 % bei einem Analytgehalt von 23 mg/kg und bereits 22,6 % bei einem Analytgehalt von 100 µg/kg.
A4: Zur Vermeidung zu „breiter“ Beurteilungszonen wird deshalb bei der Auswertung bei allen Parametern der Wert der Zielstandardabweichung auf maximal 22 % vom Wert des Medians beschränkt.
A5: Zunächst werden alle mitgeteilten Laborergebnisse berücksichtigt und die darüber berechneten statistischen Kenndaten für die Parameter aufgeführt.
A6: Zur Ermittlung der endgültigen statistischen Kenndaten werden bei allen in den Proben enthaltenen Wirkstoffe Zweitberechnungen durchgeführt. Bei diesen Zweitberechnungen bleiben generell die Ergebnisdaten von allen Laboratorien unberücksichtigt, deren Ergebnisse um mehr als 5 Zielstandardabweichungen (5 Z-Scores) vom Median des Analyten abweichen.
A7: Darüber hinaus bleiben bei allen Parametern zusätzlich alle Ergebnisse unberücksichtigt, die um mehr als 50 % vom Median abweichen und bei denen gleichzeitig der Betrag des Z-Score größer als 3 ist. Diese Regelung greift bei allen Parametern mit Analytgehalten unter 23 mg/kg.

Sheet Ergebnisangabe
A1: Hinweise zum Erfassen und Einsenden der Untersuchungsergebnisse
A2: Zur Bestimmung der Parameter sollen zwei vollständig getrennte Analysengänge durch¬geführt werden. Verwenden Sie für die Analysengänge 1 und 2 Probenmaterial aus verschiedenen Probeneinheiten.
A3: Benutzen Sie für die Ergebnisübermittlung diese vordefinierte Tabelle im Excelformat. Die Tabelle steht auch auf unserer Homepage (www.lvus.de) im Bereich „Download“ bereit.
A4: Geben Sie im Register "Kontakt" den Namen, die eMail-Adresse sowie die Telefonnummer der Kontaktperson an, die wir bei Fragen kontaktieren können. Nach Fertigstellung des Protokolls wird ausschließlich an die dort angegebenen eMail-Adressen vorab ein Passwort-freies Protokoll im PDF-Format gesendet.
A5: Tragen Sie im Register „Ergebnisse“ unbedingt Ihre Kundennummer und Ihre Postleitzahl ein, da darüber die Identifizierung des Einsenders erfolgt. In die beiden Datenfelder „Kundennummer“ und „Postleitzahl“ dürfen nur Ziffern eingegeben werden.
A6: Die Felder zur Eingabe Ihrer Ergebnisdaten sind nicht mit einer festen Nachkommazahl vordefiniert, um keine Hinweise auf eventuelle Gehalte von Parametern zu geben.
A7: Beachten Sie die Hinweise zu den gültigen (signifikanten) Ziffern bei den Parametern. Die Anzahl der Ziffern ist so zu wählen, dass beide Ergebnisse nur im Ausnahmefall aus iden¬tischen Ziffernfolgen bestehen. In einigen Fällen, z.B. bei Gehalten um 10 %, ist die Vorgabe gültiger Stellen schwierig: Die Ergebnisse „10,16% und 9,94% sind vergleichbar, nicht aber „10,2%“ und „9,94%“. Die Angabe einer zusätzlichen gültigen Stelle ist hier angebracht.
A8: Über Auswahlfelder sind gängige Untersuchungsverfahren bereits vordefiniert, um das Ausfüllen bei den Untersuchungsverfahren zu erleichtern. Sollten Sie ein nicht aufgeführtes Verfahren anwenden, wählen Sie „sonstiges“ aus und tragen Ihr Verfahren dann ein. Sofern weitere Informationen zur Auswertung nötig sind, werden auch gängige Verfahrensprinzipien und/oder Bezugsquellen kommerziell vertriebener Testsätze in ähnlicher Weise vordefiniert.
A9: In zahlreichen Fällen wird auch nachgefragt, ob Sie streng nach der Vorschrift gemäß § 64 LFGB arbeiten. Streng bedeutet, dass Sie ohne prüfrelevante Abweichungen arbeiten. Sollte die Abweichung lediglich die untersuchte Matrix sein (z.B. Ketchup anstelle von Brühwurst), dann soll dies nicht als Modifikation gekennzeichnet werden.
A10: Da Ihre eMail automatisch weiterverarbeitet wird, dürfen nur innerhalb der Exceltabelle in vordefinierten Bereichen Kommentare oder Hinweise zu den Proben und durchgeführten Untersuchungen enthalten sein (z.B. im Register „Mitteilungen“).
A11: Senden Sie uns die vollständig ausgefüllte Ergebnisdatei als Anlage im aktuellen Excelformat (Datei-Endung ".xlsx") oder im Format von Excel 2000 (Datei-Endung ".xls") per eMail an die Adresse „ergebnisse@lvus.de“. Ihre eMail darf nur eine einzige Anlage enthalten. eingesendete Tabellen verarbeiten.
A12: Nach dem Eingang in unserer Mailbox "ergebnisse@lvus.de" erhalten Sie automatisch eine Benachrichtigung/Bestätigung über den Eingang Ihrer eMail.
... A15: Senden Sie elektronisch mitgeteilte Ergebnisse nicht noch zusätzlich per Post oder Telefax.

Sheet Kontakt
A1: Kontaktperson | C1: Contact person
A2: Name | C2: Name
A3: eMail | C3: eMail-Address
A4: Telefon (inklusive Vorwahl): | C4: telefone (including country and area code)
A6: Bitte geben Sie den Namen, eMail-Adresse und die Telefonnummer der Person an, die wir bei Rückfragen kontaktieren können. An die aufgeführte eMailadresse wird das Protokoll zusätzlich auch als Passwort-freie PDF-Datei gesendet.
A8: Type in name, e-mail address and telefone number of the person we can contact in case of any questions, please. In addition to a printed version we will send a PDF-document (passwort-free) of the report to this e-mail address.
A10: Falls die Auswertung zusätzlich noch an eine zweite Adresse gesendet werden soll, geben Sie die zweite Adresse getrennt durch ein Semikolon mit nachfolgendem Leerzeichen ein.
A11: In case the PDF-document of the report should be sent to a second e-mail address seperate both e-mail addresses by typing in a semicolon followed by a blank.
A12: Beispiel für die Eingabe von 2 eMail-Adressen: Example how to type in 2 different e-mail addresses: | C12: info@lvus.de; ergebnisse@lvus.de
A15: eMail-Kontrolle: | C15: check of the e-Mail address
A16: Ergebnis der Überprüfung: | B16: =IF(ISBLANK(B15),"",IF(B3=B15,"Kontrolle erfolgreich - check ok","FEHLER - ERROR")) | C16: result of the control
B17: =IF(ISBLANK(B15),"",IF(ISERROR(FIND("@",B15,1)),"keine gültige eMail-Adresse",IF((VALUE(FIND("@",B15,1))>1),"","keine gültige eMail-Adresse!")))
B18: =IF(ISBLANK(B15),"",IF(ISERROR(FIND("@",B15,1)),"no valid eMail-adress",IF((VALUE(FIND("@",B15,1))>1),"","no valid eMail-address!")))
B19: =IF(ISBLANK(B15),"",IF(ISERROR(FIND("; ",B15,1)),"",IF((VALUE(FIND("; ",B15,1))>8),"","Achtung - die zweite eMail-Adresse wurde nicht korrekt eingegeben")))

Sheet Teilnehmerdaten
A1: Kundennummer | B1: =IF(ISNUMBER(VALUE(Ergebnisse!G1)),IF(VALUE(Ergebnisse!G1)>0,VALUE(Ergebnisse!G1),""),"") | D1: Umformung
A2: Postleitzahl | B2: =IF(ISNUMBER(VALUE(Ergebnisse!G2)),IF(VALUE(Ergebnisse!G2)>0,VALUE(Ergebnisse!G2),""),"")
A3: Produkt | B3: 13 | D3: Auswahl
A4: Jahrgang | B4: =YEAR(Ergebnisse!E5) -> 2020 | D4: 2
A5: Update | B5: =D8 -> N | D5: =IF(D4=2,"N","J") -> N | F5: 1 | G5: ja / yes
A6: Teilnahmen | B6: =Ergebnisse!G3 -> 1 | F6: 2 | G6: nein / no
A7: Deadline | B7: =Ergebnisse!E5 -> 44150
A8: Parameterzahl | B8: 15 | D8: =LEFT(D5,1) -> N
A9: Bestimmungen je Parameter | B9: 2
A10: Parameter 1 | B10: =Ergebnisse!A21 -> Wasser (bei Gehalten < 1,0 g genügt die Agabe von 2 signifikanten Stellen) | C10: =Ergebnisse!B21 -> g/100 g
A11: Parameter 2 | B11: =Ergebnisse!A22 -> Saccharose, wasserfrei | C11: =Ergebnisse!B22 -> g/100 g
A12: Parameter 3 | B12: =Ergebnisse!A23 -> Lactose, wasserfrei | C12: =Ergebnisse!B23 -> g/100 g
A13: Parameter 4 | B13: =Ergebnisse!A24 -> Maltit | C13: =Ergebnisse!B24 -> g/100 g
A14: Parameter 5 | B14: =Ergebnisse!A25 -> Fett | C14: =Ergebnisse!B25 -> g/100 g
A15: Parameter 6 | B15: =Ergebnisse!A26 -> Halbmikrobuttersäurezahl (HBSZ) | C15: =Ergebnisse!B26 -> ohne
A16: Parameter 7 | B16: =Ergebnisse!A27 -> Milchfett, berechnet über HBSZ | C16: =Ergebnisse!B27 -> g/100 g
A17: Parameter 8 | B17: =Ergebnisse!A28 -> Freie Buttersäure (auf Fett beziehen) | C17: =Ergebnisse!B28 -> g/100 g Fett
A18: Parameter 9 | B18: =Ergebnisse!A29 -> Milchfett, berechnet über Buttersäure | C18: =Ergebnisse!B29 -> g/100 g
A19: Parameter 10 | B19: =Ergebnisse!A30 -> Buttersäuremethylester (auf Fett beziehen) | C19: =Ergebnisse!B30 -> g/100 g Fett
A20: Parameter 11 | B20: =Ergebnisse!A31 -> Milchfett, berechnet über Buttersäuremethylester | C20: =Ergebnisse!B31 -> g/100 g
A21: Parameter 12 | B21: =Ergebnisse!A32 -> Gesamtalkaloide (photometrisch, als Theobromin) | C21: =Ergebnisse!B32 -> mg/100 g
... A24: Parameter 15 | B24: =Ergebnisse!A35 -> Rohprotein (N * 6,25) | C24: =Ergebnisse!B35 -> g/100 g

Sheet Ergebnisse
A1: Ergebnisdatenblatt (Resultsheet) | E1: Kunden-Nr. (Client-Nb.)
A2: Kakaoerzeugnisse | E2: Postleitzahl (ZIP-Code)
E3: interne Teilnahme: | G3: 1
A4: Einsendeadresse: | B4: ergebnisse@lvus.de | E4: Teilnahme | F4: =IF(ISBLANK(G1),"",IF(ISNUMBER(VALUE(G1)),"","Bitte nur Ziffern eingeben (numbers only)"))
A5: Annahmeschluss/Deadline: | E5: 44150 | F5: =IF(ISBLANK(G2),"",IF(ISNUMBER(VALUE(G2)),"","Bitte nur Ziffern eingeben (numbers only)"))
A7: Schreiben Sie Ihre Daten in die gelb hinterlegten Felder. Geben Sie Ihre Ergebnisse in den aufgeführten Einheiten an. Write your data into the yellow cells. Give your results in the units of column 2.
A8: Geben Sie Ihre Ergebnisse mit den in Spalte 3 aufgeführten signifikanten Stellen an. Beispiele hierzu sind in "Hinweise1" enthalten. Report your results with in column 3 shown significant numbers (there are some examples in sheet "hints1" .
A9: In einigen Fällen, z.B. bei Gehalten um 1 % oder 10 %, ist die Vorgabe gültiger Stellen schwierig: Die Ergebnisse „1,06% und 0,98% sind vergleichbar, nicht aber „1,1 %“ und „0,98%“. Die Angabe einer zusätzlichen gültigen Stelle beim Beispielwert 1,06% ist hier angebracht.
A10: Falls Sie einen Parameter nicht bearbeiten, lassen Sie die zugehörigen Ergebnisdatenfelder bitte leer. If you are not analysing parameters in your laboratory do not write anything into the corresponding fields for the results.
A11: Zur Beschreibung des Analysenverfahrens verwenden Sie bitte die im unteren Teil dieses Datenblatts enthaltenen Auswahlfelder. To describe your method use the Pulldown-menus following after the result area
A12: Die Bestimmung des Butterfettgehaltes der Probe erfolgt analytisch über die Parameter Halbmikrobuttersäurezahl (HBSZ), freie Buttersäure (mittels GC) oder Buttersäuremethylester (GC). Die Grundparameter sollen zusätzlich erfasst und ausgewertet werden.
A13: Teilen Sie bei den Parametern freie Buttersäure und Buttersäuremethylester nur Daten mit, die Sie mit Ihrem Verfahren direkt bestimmen (keine Umrechnungen zwischen Buttersäuremethylester und Buttersäure). Die berechneten Butterfettgehalte können abhängig vom bestimmten Parameter sein. Tragen Sie daher den von Ihnen berechneten Butterfettgehalt an der "richtigen" Stelle ein.
A14: Achtung, die Ergebnisse der beiden Parameter freie Buttersäure und Buttersäuremethylester sollen abweichend von den übrigen auf den Fettgehalt der Probe bezogen werden.
A15: Sollte ein Inhaltsstoff nicht bestimmbar sein, so teilen Sie uns bitte den Wert Ihrer Bestimmungsgrenze mit vorangestelltem "< “ mit. In cases you will not detect a parameter, report your limit of quantification with "< " in front of the value.
A16: =IF(OR(ISBLANK(G1),ISBLANK(G2)),"Die Tabelle ist so nicht versandfertig. Es fehlen noch Eingaben bei Kunden-Nr. und/oder Postleitzahl. Nur wenn diese beiden Felder ausgefüllt sind, kann der Absender dieser Tabelle korrekt identifiziert werden.","Wichtig: Sind Ihre Eingaben bei Kunden-Nr. und Postleitzahl korrekt?") -> Die Tabelle ist so nicht versandfertig. Es fehlen noch Eingaben bei Kunden-Nr. und/oder Postleitzahl. Nur wenn diese beiden Felder ausgefüllt sind, kann der Absender dieser Tabelle korrekt identifiziert werden.
A17: Tabelle wurde bereits einmal erfolgreich gesendet, es handelt sich um eine Aktualisierung:
A18: =IF(Teilnehmerdaten!D4=1,"Wählen Sie Aktualisierung nur aus, wenn Ihnen vom Ergebnisserver bereits eine Auswertenummer zugesendet wurde!","")
A19: Untersuchungsergebnisse
A20: Parameter | B20: Einheit | C20: Signifikante Stellen | D20: Analysen- gang 1 | E20: Analysen- gang 2 | F20: Aufarbeitung / Verfahren | G20: Weitere Angaben | H20: =COUNTA(#REF!) -> 1
A21: Wasser (bei Gehalten < 1,0 g genügt die Agabe von 2 signifikanten Stellen) | B21: g/100 g | C21: 3 (2) | F21: =Wasser!$B$1 -> 21 | H21: =Wasser!$C$1 -> 20
A22: Saccharose, wasserfrei | B22: g/100 g | C22: 3 | F22: =Saccharose!B1 -> 19 | H22: =Saccharose!$C$1 -> 18 | I22: =Saccharose!#REF! -> #REF!
A23: Lactose, wasserfrei | B23: g/100 g | C23: 3 | F23: =Lactose!$B$1 -> 22 | H23: =Lactose!$C$1 -> 21
A24: Maltit | B24: g/100 g | C24: 4 | F24: =Maltit!$B$1 -> 7 | H24: =Maltit!$C$1 -> 6
A25: Fett | B25: g/100 g | C25: 4 | F25: =Fett!$B$1 -> 29 | H25: =Fett!$C$1 -> 28
A26: Halbmikrobuttersäurezahl (HBSZ) | B26: ohne | C26: 3 | F26: =HBSZ!$B$1 -> 4 | H26: =HBSZ!$C$1 -> 3
A27: Milchfett, berechnet über HBSZ | B27: g/100 g | C27: 3 | G27: =IF(ISBLANK(G53),"",G53)
A28: Freie Buttersäure (auf Fett beziehen) | B28: g/100 g Fett | C28: 3 | F28: =Buttersäure!$B$1 -> 6 | H28: =Buttersäure!$C$1 -> 5
A29: Milchfett, berechnet über Buttersäure | B29: g/100 g | C29: 3 | G29: =IF(ISBLANK(G58),"",G58)
A30: Buttersäuremethylester (auf Fett beziehen) | B30: g/100 g Fett | C30: 3 | F30: =Buttersäuremethylester!B1 -> 24 | H30: =Buttersäuremethylester!C1 -> 23
A31: Milchfett, berechnet über Buttersäuremethylester | B31: g/100 g | C31: 3 | G31: =IF(ISBLANK(G61),"",G61)
A32: Gesamtalkaloide (photometrisch, als Theobromin) | B32: mg/100 g | C32: 3 | F32: =Gesamtalkaloide!B1 -> 9 | H32: =Gesamtalkaloide!$C$1 -> 8
A33: Theobromin | B33: mg/100 g | C33: 3 | F33: =Theobromin!B1 -> 19 | H33: =Theobromin!$C$1 -> 18
A34: Coffein | B34: mg/100 g | C34: 3 | F34: =Coffein!$B$1 -> 19 | H34: =Coffein!$C$1 -> 18
A35: Rohprotein (N * 6,25) | B35: g/100 g | C35: 3 | F35: =Rohprotein!$B$1 -> 14 | H35: =Rohprotein!$C$1 -> 13
A36: Beschreibung der verwendeten Analysenverfahren (1)
A38: Wählen Sie über das Auswahl-Menü Ihr Aufarbeitungsverfahren aus. Sollte dieses nicht in der Auswahl enthalten sein, wählen Sie bitte "sonstiges" aus und geben Sie Ihr Verfahren ein.
A39: Geben Sie beim Parameter Butterfett unbedingt an, von welchem Anteil (Buttersäure, Buttersäuremethlyester) oder Wert (HBSZ) Sie in reinem Butterfett ausgehen.
A41: Wasser | I41: =ISBLANK(VLOOKUP(F21,Wasser!A3:C29,3)) -> TRUE
A42: =IF(F21=H21,"bitte eingeben:",IF(I41,"","Art der Modifikation:"))
A43: =A22 -> Saccharose, wasserfrei | I43: =ISBLANK(VLOOKUP(F22,Saccharose!A3:C21,3)) -> TRUE
...

Sheet Mitteilungen
A1: Nachfolgend können Sie uns ergänzende Hinweise geben oder wichtige Beobachtungen mitteilen. | H1: =COUNTA(A2:G38) -> 0

Sheet Maltit
A1: Malit | B1: 7 | C1: =MAX($A$3:$A$9)-1 -> 6
A2: Methode | B2: Bezeichnung des Analysenverfahrens | C2: Anzahl
A3: 1 | B3: § 64 LFGB Nr. L 00.00-59
A4: 2 | B4: § 64 LFGB Nr. L 00.00-59, modifiziert | C4: x
A5: 3 | B5: § 64 LFGB Nr. L 00.00-72
A6: 4 | B6: § 64 LFGB Nr. L 00.00-72, modifiziert | C6: x
A7: 5 | B7: Schweizerisches Lebensmittelbuch 24A 5, auch modifiziert
A8: 6 | B8: Sonstiges
A9: 7

Sheet Wasser
A1: =Ergebnisse!A21 -> Wasser (bei Gehalten < 1,0 g genügt die Agabe von 2 signifikanten Stellen) | B1: 21 | C1: =MAX($A$3:$A$23)-1 -> 20
B2: Bezeichnung des Analysenverfahrens | C2: Modifikation
A3: 1 | B3: § 64 LFGB Nr. L 03.00-9
A4: 2 | B4: § 64 LFGB Nr. L 03.00-9, modifiziert | C4: x
A5: 3 | B5: § 64 LFGB Nr. L 44.00-3
A6: 4 | B6: § 64 LFGB Nr. L 44.00-3, modifiziert | C6: x
A7: 5 | B7: Trocknung bei 103 °C ± 2 °C mit Seesand
A8: 6 | B8: Trocknung bei 103 °C ± 2 °C, auch automatisiert
A9: 7 | B9: § 64 LFGB Nr. L 06.00-3
A10: 8 | B10: § 64 LFGB Nr. L 06.00-3, modifiziert | C10: x
A11: 9 | B11: § 64 LFGB Nr. L 04.00-8
A12: 10 | B12: § 64 LFGB Nr. L 04.00-8, modifiziert | C12: x
A13: 11 | B13: § 64 LFGB Nr. L 46.02-1
A14: 12 | B14: § 64 LFGB Nr. L 46.02-1, modifiziert | C14: x
A15: 13 | B15: IOCCC AM-1, 1952
A16: 14 | B16: Karl Fischer, Schweizerisches Lebensmittelbuch Kapitel 36A/2.2
A17: 15 | B17: Trocknungsverlust bei 102 +/- 2 °C mit Seesand: Schweizerisches Lebensmittelbuch (5. Auflage), Kapitel 36 A/2.1
A18: 16 | B18: TGA 701
A19: 17 | B19: Mikrowelle mit Temperaturkontrolle und automatischem Endpunkt
A20: 18 | B20: Karl-Fischer-Titration
A21: 19 | B21: Halogentrocknungsgerät
A22: 20 | B22: Sonstiges
A23: 21

Sheet Saccharose
A1: =Ergebnisse!A22 -> Saccharose, wasserfrei | B1: 19 | C1: =MAX($A$3:$A$21)-1 -> 18
A2: Methode | B2: Bezeichnung des Analysenverfahrens | C2: Anzahl
A3: 1 | B3: Enzymatisch nach r-biopharm / Roche Best.Nr. 10 716 260 035 (Saccharose, Glucose, Fructose)
A4: 2 | B4: Enzymatisch nach r-biopharm / Roche Best.Nr. 10 139 041 035 (Saccharose, Glucose)
A5: 3 | B5: Enzymatisch nach r-biopharm / Roche Best.Nr. 11 113 950 035 (Maltose, Saccharose, Glucose)
A6: 4 | B6: Enzymatisch nach SCIL Nr. 1246
A7: 5 | B7: Enzymatisch mit Enzymen der Firma Thermo Fischer
A8: 6 | B8: EnzymeFast
A9: 7 | B9: HPLC-Verfahren (diverse Detektoren)
A10: 8 | B10: Polarimetrisch nach Thieler: ZLUF 80 440-449 (1940)
A11: 9 | B11: Polarimetrisch, OICCC Methode 7b-D (1960)
A12: 10 | B12: Reduktometrisch - Differenz vor und nach Inversion
A13: 11 | B13: HPLC auf Kationenaustauscher mit Bleibelegung (analog 64 LFGB Nr. L 00.00-72: Bestimmung der Zuckeralkohole)
A14: 12 | B14: HPAEC-PAD: Hochleistungs Anionen Austausch Chromatographie mit gepulster amperometrischer Detektion
... A17: 15 | B17: § 64 LFGB Nr. L 40.00-7
A18: 16 | B18: § 64 LFGB Nr. L 40.00-7, modifiziert | C18: x
A19: 17 | B19: Schweizerisches Lebensmittelbuch Methode 501
A20: 18 | B20: sonstiges
A21: 19

Sheet Lactose
A1: =Ergebnisse!A23 -> Lactose, wasserfrei | B1: 22 | C1: =MAX($A$3:$A$24)-1 -> 21
A2: Methode | B2: Bezeichnung des Analysenverfahrens | C2: Anzahl
A3: 1 | B3: § 64 LFGB Nr. L 44.00-6
A4: 2 | B4: § 64 LFGB Nr. L 44.00-6, modifiziert | C4: x
A5: 3 | B5: Enzymatisch nach r-biopharm / roche 10 176 303 035 (Lac/Galac)
A6: 4 | B6: Enzymatisch nach r-biopharm 10 986 119 035
A7: 5 | B7: Enzymatisch nach SCIL 200 086
A8: 6 | B8: HPLC (diverse Detektoren)
A9: 7 | B9: Polarimetrisch nach Thieler: ZLUF 80 440-449 (1940)
A10: 8 | B10: Ionenchromatographie nach Carrez-Klärung
A11: 9 | B11: HPLC auf Kationenaustauscher mit Bleibelegung (analog 64 LFGB Nr. L 00.00-72: Bestimmung der Zuckeralkohole)
A12: 10 | B12: HPAEC-PAD: Hochleistungs Anionen Austausch Chromatographie mit gepulster amperometrischer Detektion
A13: 11 | B13: Ionenchromatographie (diverse Detektoren)
A14: 12 | B14: GC-FID als TMS-Derivate
A15: 13 | B15: EnzymeFast
A16: 14 | B16: VDLUFA VI, C 20.2.3
... A18: 16 | B18: § 64 LFGB Nr. L 40.00-7
A19: 17 | B19: § 64 LFGB Nr. L 40.00-7, modifiziert | C19: x
A20: 18 | B20: § 64 LFGB Nr. L 01.00-17
A21: 19 | B21: § 64 LFGB Nr. L 01.00-17, modifiziert | C21: x
A22: 20 | B22: Schweizerisches Lebensmittelbuch Methode 501
A23: 21 | B23: sonstiges
A24: 22

Sheet Fett
A1: =Ergebnisse!A25 -> Fett | B1: 29 | C1: =MAX($A$3:$A$31)-1 -> 28
A2: Methode | B2: Bezeichnung des Analysenverfahrens
A3: 1 | B3: § 64 LFGB Nr. L 44.00-4
A4: 2 | B4: § 64 LFGB Nr. L 44.00-4, modifiziert | C4: x
A5: 3 | B5: Weibull-Stoldt
A6: 4 | B6: Büchi-Cavieziel bzw. Gerstel-Cavieziel
A7: 5 | B7: § 64 LFGB Nr. L 01.00-20
A8: 6 | B8: § 64 LFGB Nr. L 01.00-20, modifiziert | C8: x
A9: 7 | B9: § 64 LFGB Nr. L 06.00-6
A10: 8 | B10: § 64 LFGB Nr. L 06.00-6, modifiziert | C10: x
A11: 9 | B11: § 64 LFGB Nr. L 16.00-5
A12: 10 | B12: § 64 LFGB Nr. L 16.00-5, modifiziert | C12: x
A13: 11 | B13: § 64 LFGB Nr. L 18.00-5 (17.00-4)
A14: 12 | B14: § 64 LFGB Nr. L 18.00-5 (17.00-4), modifiziert | C14: x
A15: 13 | B15: Röse-Gottlieb
A16: 14 | B16: AOAC 963.15
A17: 15 | B17: VDLUFA III 5.11
A18: 16 | B18: Mikrowellen-/Säureaufschluss unter gleichzeitiger Extraktion mit Toluol
A19: 17 | B19: § 64 LFGB Nr. L 20.01/02-5; als Aufschlusssäure: 60 ml HCl 37% + 90ml desilliertes Wasser
A20: 18 | B20: Schweizerisches Lebensmittelbuch Kapitel 22/5.1 (1999): Säureaufschluss und anschliessende Extraktion mit Petrolether
A21: 19 | B21: NMR
A22: 20 | B22: VDLUFA VI, C 15.2.3
A23: 21 | B23: ASE (accelerated solvent extraction)
A24: 22 | B24: Refraktometrisch: Bromnaphthalin und Seesand verreiben, filtrieren, Brechungsindex bei 20 °C, Berechnung in % mittels J.Kleinert Tabelle
A25: 23 | B25: Mikrowellen-Heißextraktion mit Cyclohexan nach Säureaufschluss
A26: 24 | B26: Refraktometrie (Bromnaphthalin und Seesand verreiben, filtrieren, Brechungsindex bei 20°C, Berechnung in % mittels J.Kleinert Tabelle)
... A30: 28 | B30: sonstiges
A31: 29

Sheet HBSZ
A1: =Ergebnisse!A26 -> Halbmikrobuttersäurezahl (HBSZ) | B1: 4 | C1: =MAX($A$3:$A$6)-1 -> 3
A2: Methode | B2: Bezeichnung des Analysenverfahrens
A3: 1 | B3: § 64 LFGB Nr. L 17.00-8 (18.00-1)
A4: 2 | B4: § 64 LFGB Nr. L 17.00-8 (18.00-1), modifiziert | C4: x
A5: 3 | B5: sonstiges
A6: 4

Sheet Buttersäure
A1: =Ergebnisse!A28 -> Freie Buttersäure (auf Fett beziehen) | B1: 6 | C1: =MAX($A$3:$A$8)-1 -> 5
A2: Methode | B2: Bezeichnung des Analysenverfahrens
A3: 1 | B3: § 64 LFGB Nr. L 17.00-13 (18.00-15)
A4: 2 | B4: § 64 LFGB Nr. L 17.00-13 (18.00-15), modifiziert | C4: x
A5: 3 | B5: Büchi-Caviezel
A6: 4 | B6: DFG-Methode C-VI 11e (98)
A7: 5 | B7: sonstiges
A8: 6

Sheet Buttersäuremethylester
A1: =Ergebnisse!A30 -> Buttersäuremethylester (auf Fett beziehen) | B1: 24 | C1: =MAX($A$3:$A$26)-1 -> 23
A2: Methode | B2: Bezeichnung des Analysenverfahrens
A3: 1 | B3: § 64 LFGB Nr. L 17.00-12 (18.00-9)
A4: 2 | B4: § 64 LFGB Nr. L 17.00-12 (18.00-9), modifiziert | C4: x
A5: 3 | B5: § 64 LFGB Nr. L 13.00-27/2
A6: 4 | B6: § 64 LFGB Nr. L 13.00-27/2, modifiziert | C6: x
A7: 5 | B7: Schulte et al: Fat Sci Technol 91 181 (1989)
A8: 6 | B8: Umesterung der Fette mittels Natriummethylat
A9: 7 | B9: Verfahren nach Precht, Verseifung mit methanolischer KOH, GC
A10: 8 | B10: GC der Methylester (methanolische KOH), ggf. mit ISTD
A11: 9 | B11: Umesterung mit Na-methylat nach Hadorn, Zürcher; Deutsch Lebens Rundsch 66 77 (1979); GC/FID auf DB-23; Istd C5-FAME
A12: 10 | B12: GC der Methylester (TMSH in Butyl-Methyl-Ether)
A13: 11 | B13: Probe lösen in n-Heptan, Veresterung der Fette mit methanolischer KOH. GC/FID nach Trennung auf DB-23 30 m x 0,25 mm x 0,25 µm
A14: 12 | B14: DGF-Einheitsmethode K-I 11
A15: 13 | B15: R. Matissek, Lebensmittelanalytik, 3.Auflage, Springer-Verlag, Heidelberg, Kap. 2.3.3.5
A16: 14 | B16: Umesterung mit TMSH in tert-Butyl-Methyl-Ether
A17: 15 | B17: Schweizerisches Lebensmittel Buch Kapitel 5; Fat Sci Technol 91. Jg. Nr. 5 (1989)
A18: 16 | B18: GC-FID nach Umesterung mit methanolischer Bortrifluorid-Lösung
... A25: 23 | B25: sonstiges
A26: 24

Sheet Gesamtalkaloide
A1: =Ergebnisse!A32 -> Gesamtalkaloide (photometrisch, als Theobromin) | B1: 9 | C1: =MAX($A$3:$A$11)-1 -> 8
A2: Methode | B2: Bezeichnung des Analysenverfahrens | C2: Anzahl
A3: 1 | B3: UV-Spekrophotometrisch nach Schweizerisches Lebensmittelbuch Kapitel 36 C/17
A4: 2 | B4: Klärung mit Bleiessig, UV-Spektralphotometrisch bei 272 nm und 306 nm, Korrektur mit Theobromin-Standardlösung
A5: 3 | B5: UV-Photometrisch, IOCCC Methode 28 (1988)
A6: 4 | B6: nach Hadorn
A7: 5 | B7: UV-Photometrisch nach Hadorn-Zürcher: Mitt Leb Hyg 56 491-514 (1969)
A8: 6 | B8: Photometrische Bestimmung bei 306 und 272 nm
A9: 7 | B9: SLMB, 5. Aufl., 2 Bd. III, Nr. 36, photometrisch
A10: 8 | B10: Sonstiges
A11: 9

Sheet Theobromin
A1: =Ergebnisse!A33 -> Theobromin | B1: 19 | C1: =MAX($A$3:$A$21)-1 -> 18
A2: Methode | B2: Bezeichnung des Analysenverfahrens | C2: Anzahl
A3: 1 | B3: § 64 LFGB Nr. L 45.00-1 (18.00-16)
A4: 2 | B4: § 64 LFGB Nr. L 45.00-1 (18.00-16), modifiziert | C4: x
A5: 3 | B5: HPLC (UV oder DAD-Detektion)
A6: 4 | B6: § 64 LFGB Nr. L 46.00-3
A7: 5 | B7: § 64 LFGB Nr. L 46.00-3, modifiziert | C7: x
A8: 6 | B8: HPLC-UV, aufgearbeitet in Anlehnung Schweizerisches Lebensmittelbuch Kapitel 36C/17
A9: 7 | B9: Aufarbeitung nach § 64 LFGB Nr. L 00.00-9
A10: 8 | B10: § 64 LFGB Nr. L 47.00-6
A11: 9 | B11: § 64 LFGB Nr. L 47.00-6, modifiziert | C11: x
A12: 10 | B12: Lebensmittelchemie und gerichtliche Chemie 34 109-114 (1980)
A13: 11 | B13: Aufarbeitung nach § 64 LFGB L 00.00-9, HPLC-DAD
A14: 12 | B14: HPLC-DAD nach Schweizerisches Lebensmittelbuch Kapitel 22/10.1
A15: 13 | B15: Matissek, R.: Lebensmittelanalytik, 2. Aufl., Springer-Verlag Berlin/Heidelberg 1992, S. 197 ff - Kapitel 5.3.1
A16: 14 | B16: Extraktion mit MeOH/Wasser, RP-HPLC-DAD
A17: 15 | B17: Modifiziert nach SLMB, 36 C, lfd. Nr. 5: Heißwasser-Extraktion; Carrez-Klärung und Filtration; HPLC-DAD
A18: 16 | B18: SLMB 1041.1 (HPLC mit DAD-Detektion)
A19: 17 | B19: Aufbereitung n. Kap. 22/10.1 SLMB, Messung nach § 64 L00.00-28
A20: 18 | B20: Sonstiges
A21: 19

Sheet Coffein
A1: =Ergebnisse!A34 -> Coffein | B1: 19 | C1: =MAX($A$3:$A$21)-1 -> 18
A2: Methode | B2: Bezeichnung des Analysenverfahrens | C2: Anzahl
A3: 1 | B3: § 64 LFGB Nr. L 45.00-1 (18.00-16)
A4: 2 | B4: § 64 LFGB Nr. L 45.00-1 (18.00-16), modifiziert | C4: x
A5: 3 | B5: HPLC (UV oder DAD-Detektion)
A6: 4 | B6: § 64 LFGB Nr. L 46.00-3 | C6: x
A7: 5 | B7: § 64 LFGB Nr. L 46.00-3, modifiziert
A8: 6 | B8: HPLC-UV, aufgearbeitet in Anlehnung Schweizerisches Lebensmittelbuch Kapitel 36C/17 | C8: x
A9: 7 | B9: Aufarbeitung nach § 64 LFGB Nr. L 00.00-9
A10: 8 | B10: § 64 LFGB Nr. L 47.00-6
A11: 9 | B11: § 64 LFGB Nr. L 47.00-6, modifiziert
A12: 10 | B12: Lebensmittelchemie und gerichtliche Chemie 34 109-114 (1980)
A13: 11 | B13: Aufarbeitung nach § 64 LFGB L 00.00-9, HPLC-DAD
A14: 12 | B14: HPLC-DAD nach Schweizerisches Lebensmittelbuch Kapitel 22/10.1
A15: 13 | B15: Matissek, R.: Lebensmittelanalytik, 2. Aufl., Springer-Verlag Berlin/Heidelberg 1992, S. 197 ff - Kapitel 5.3.1
A16: 14 | B16: Extraktion mit MeOH/Wasser, RP-HPLC-DAD
A17: 15 | B17: Modifiziert nach SLMB, 36 C, lfd. Nr. 5: Heißwasser-Extraktion; Carrez-Klärung und Filtration; HPLC-DAD
A18: 16 | B18: SLMB 1041.1 (HPLC mit DAD-Detektion)
A19: 17 | B19: Aufbereitung n. Kap. 22/10.1 SLMB, Messung nach § 64 L00.00-28
A20: 18 | B20: Sonstiges
A21: 19

Sheet Rohprotein
A1: Rohprotein | B1: 14 | C1: =MAX($A$3:$A$16)-1 -> 13
A2: Methode | B2: Bezeichnung des Analysenverfahrens | C2: Anzahl
A3: 1 | B3: § 64 LFGB Nr. L 06.00-7 (08.00-7): 2007-04
A4: 2 | B4: § 64 LFGB Nr. L 06.00-7 (08.00-7): 2007-04, modifiziert | C4: x
A5: 3 | B5: § 64 LFGB Nr. L 06.00-20 (01.00-60): 2003-12
A6: 4 | B6: § 64 LFGB Nr. L 06.00-20 (01.00-60): 2003-12, modifiziert | C6: x
A7: 5 | B7: § 64 LFGB Nr. L 02.09-5 (DIN 10454): 1986-05
A8: 6 | B8: § 64 LFGB Nr. L 02.09-5 (DIN 10454): 1986-05, modifiziert | C8: x
A9: 7 | B9: §64 LFGB Nr. L 17.00-15
A10: 8 | B10: §64 LFGB Nr. L 17.00-15, modifiziert
A11: 9 | B11: Nach Dumas
A12: 10 | B12: Nach Kjeldahl
A13: 11 | B13: Katalysator: Kjeltabs CX; Vapodest 50c (Fa. Gerhardt)
A14: 12 | B14: Lebensmittelchemie 34, S. 109 - 114 (1980)
A15: 13 | B15: Sonstiges
A16: 14
