Workbook
Name _ftn1: Hints1!#REF!
Name _ftn1: Hinweise1!#REF!
Name _ftn1: Hinweise3!$A$3
Name _ftnref1: Hints1!$A$3
Name _ftnref1: Hinweise1!$A$2
Name _ftnref1: Hinweise3!#REF!
Name Daten: #REF!
Name Daten: #REF!
Name MBlei: #REF!
Name MBlei: #REF!
Name OLE_LINK1: Ergebnisangabe!$A$20
Name OLE_LINK1: Reporting!$A$14
Name OLE_LINK2: Reporting!$J$7
Name Parameter2: #REF!
Name Parameter2: #REF!
Name Parameter2: #REF!
Name Parameter2: Fett!$B$12:$B$24
Name Parameter2alt: #REF!
Name Parameter2alt: #REF!
Name test: [1]Parameter2!$B$3:$B$18
Name test: [2]Parameter2!$B$3:$B$18
Name test: [2]Parameter2!$B$3:$B$18
Name test: [3]Parameter2!$B$3:$B$18
Name test: [4]Parameter2!$B$3:$B$18
Name test: [4]Parameter2!$B$3:$B$18

Sheet Hints1
A1: References to the result transmission and to the indication of result (Deadline see "Ergebnisse")
A2: Before analysing the samples, homogenize the samples again, please. After homogenisation You should analyse both samples with your standard procedures.
A3: Use this file for your result transmissions, please. Fill for this in the file yellow fields deposited out and send back the file afterwards by email to “ergebnisse@lvus.de”. It is important that for the clear allocation of the results to your laboratory in the table "Ergebnisse" (results) your client number and your postal zip code must be entered (both numbers only).
A4: The result data must be given in in the units as described at every parameter. To the avoidance of deviations in the laboratory made roundness, You are asked with each parameter after the first number deviating from 0 to indicate still the listened further numbers (even if due to Your validating data this accuracy is not kept by your analysis procedure). ISO 13 528 4.6 recommends that individual measurement results schould not be rounded by more than sr/2.
A6: Examples for transmissions of results:
A7: It a test material the element "Mg" was quantified. You are asked to report 3 significant numbers. The following computational contents are determined:
A9: Computed Value [mg/kg] | B9: Transmission of result [mg/kg]
A10: 1379 | B10: 1380
A11: 179.34 | B11: 179
A12: 80.12 | B12: 80.1
A13: 7.8 | B13: 7.8

Sheet Reporting

Sheet Hinweise1
A1: Hinweise zur Ergebnisübermittlung und zur Ergebnisangabe
A2: Bitte verwenden Sie diese Datei für Ihre Ergebnisübermittlung. Füllen Sie hierzu alle in der Tabelle "Ergebnisse" gelb hinterlegten Felder aus bzw. wählen Sie Ihre Angaben zu den von Ihnen verwendeten Methoden über die vorhandenen Auswahlfenster aus.
A3: Die ausgefüllte Exceltabelle muss per eMail als Anlage bis spätestens zur Deadline an eine der beiden Adressen ergebnisse@lvus.de oder results@lvus.de gesendet werden. Bitte beachten Sie, dass Ihre eMail nur die Exceltabelle als Anlage enthalten darf. Ausser Ihrem Absender soll die eigentliche eMail keine weiteren Daten oder Texte enthalten, da alle an die Adressen ergebnisse@lvus.de oder results@lvus.de gesendeten eMails automatisch ausgelesen werden.
A4: Nach der in der Tabelle "Ergebnisse" aufgeführten Deadline eingehende Ergebnisse werden bei der Auswertung nicht berücksichtigt.
A5: Es ist wichtig, dass Sie zur eindeutigen Zuordnung der Ergebnisse zu Ihrem Labor sowohl Ihre Kunden-Nr. als auch Ihre Postleitzahl (auf dem Anschreiben enthalten - nur Ziffern eingeben) eingeben. Über eine bei der Auswertung durchgeführte Plausibilitätsprüfung soll erkannt werden, ob Tippfehler vorliegen und dadurch die Daten einem anderen Teilnehmer zugeordnet werden könnten.
A6: Interne Teilnahme: Diesen Wert bitte nur ändern, falls Sie für Ihr Haus mehrere getrennte und damit kostenpflichtige Teilnahmen gebucht haben. Über diesen Wert werden die unter einer Kundennummer geführten Teilnahmen getrennt erfasst und die Ergebnisse anschließend der Auswertung zugeführt. Entscheiden Sie, welcher Ihrer Laborbereiche unter der Teilnahme 1 oder 2 registirert und ausgewertet werden soll.
A7: Die Ergebnisangaben müssen in der/den vorgegebenen Maßeinheiten erfolgen - Ihre Angaben werden ohne Änderungen zur Auswertung verwendet! Zur Vermeidung von Abweichungen durch bereits im Labor vorgenommene Rundungen werden Sie gebeten, bei jedem Parameter eine bestimmte Anzahl signifikanter Ziffern anzugeben (auch wenn auf Grund Ihrer Validierungsdaten diese Genauigkeit von Ihrem Analysenverfahren nicht eingehalten wird). Nach ISO 13528 Abschnitt 4.6 sollen Ergebnisse nicht stärker gerundet werden als dem halben Betrag der Wiederholstandardabweichung entspricht.
A8: Beispiele zur Ergebnisangabe: In einer Probe wurde der Gehalt von Mangan bestimmt. Es werden folgende rechnerischen Gehalte ermittelt:
A9: Beispielhafter Wert [mg/kg] | B9: Ergebnisangabe mit 3 signifikanten Ziffern [mg/kg]
A10: 1379 | B10: 1380
A11: 179.34 | B11: 179
A12: 80.12 | B12: 80.1
A13: 7.8 | B13: 7.8
A15: Verfahren sowie Literaturangaben, die von Teilnehmern bei bereits durchgeführten Laborvergleichsuntersuchungen angewendet wurden, sind in Auswahlfenstern vorbelegt, um Ihnen das Ausfüllen zu erleichtern. Über diese Auswahlfenster wählen Sie bitte diejenigen Einträge aus, die bei den von Ihnen angewandten Verfahren zutreffend sind. Ist kein zutreffender Eintrag vorhanden, so wählen Sie bitte den Eintrag "sonstiges.." aus. Tragen Sie dann in der nächsten Zeile (wird gelb hervorgehoben) die auf Ihr Verfahren zutreffende Beschreibung ein.
A16: Geben Sie in der Tabelle "Kontakt" den Namen, die eMail-Adresse sowie die Telefonnummer der Kontaktperson an, die wir bei Fragen kontaktieren können. Nach Fertigstellung der Auswertung soll an die angegebene eMail-Adresse zusätzlich zur gedruckten Auswertung auch eine Passwort-freie Auswertedatei im PDF-Format gesendet werden.
A17: Sollten Sie uns ergänzende Hinweise/Beobachtungen mitteilen wollen, so verwenden Sie hierfür den vorgesehenen Bereich innerhalb der Tabelle "Mitteilungen".
A18: Da Ihre eMail automatisch weiterverarbeitet wird, dürfen nur in der Exceltabelle Kommentare oder Hinweise zu den Proben und durchgeführten Untersuchungen enthalten sein. Außerdem darf Ihre eMail nur eine einzige Anlage enthalten. Sie erhalten automatisch eine Benachrichtigung über den Eingang Ihrer Ergebnisse.

Sheet Hinweise2
A1: Erläuterungen zur Weiterverarbeitung Ihrer Daten
A2: Diese Tabellen wurden so aufgebaut, dass die Daten automatisiert in unser Auswerteprogramm übernommen werden können. Die Tabellen dürfen daher keinesfalls im Aufbau verändert werden, da dann ein automatisiertes Auslesen der mitgeteilten Daten nicht mehr möglich wäre.
A3: Aus diesem Grund wurden die Tabellen gegen Veränderungen geschützt. Eingaben oder auch die Auswahl von Eigenschaften sind nur an wenigen Stellen nötig. Diese Stellen sind gelb hinterlegt.
A4: Da das Ausführen von Macros eine potentielle Gefährdung von Computersystemen bedeuten kann, gehen wir davon aus, dass ausführbare Macros in zahlreichen Fällen von den entsprechenden System-Administratoren unterdrückt werden. Deshalb wurde auf die Verwendung von Macros bei der Erstellung der Tabellen zur Ergebniserfassung komplett verzichtet, obwohl damit ein komfortableres Arbeiten möglich wäre.
A5: Beim Eingang Ihrer eMail wird diese von unserem System automatisch weiterverarbeitet, wobei einige Plausibilitäten (z.B. Vollständigkeit der Absenderangabe oder Kennzeichnung als Update bei erneuter Dateneinsendung) überprüft werden. Im Anschluss an diese Prüfung erhalten Sie automatisiert eine eMail-Antwort. Darin werden Sie darüber informiert, ob Ihre Daten prinzipiell weiterverarbeitet werden können oder ob benötigte Einträge fehlen und Sie Ihre Ergebnisse nach Ergänzung der fehlenden Angaben erneut einsenden sollen. Eine Prüfung auf Vollständigkeit von Ergebnisangaben (sind überhaupt Ergebnnisdaten vorhanden?) oder deren Angabe in den vorgegebenen Maßeinheiten wird zu diesem Zeitpunkt nicht vorgenommen.
A6: Sollten Sie noch vor dem Ende der Ergebnisannahme bemerken, dass in Ihrer Ergebnistabelle Fehler enthalten sind, so senden Sie einfach eine korrigierte Version an die Adresse ergebnisse@lvus.de. Kennzeichnen Sie in diesem Fall Ihre Tabelle als Aktualisierung, da ansonsten das System die Annahme der Daten zurückweist ("es sind ja bereits Daten von Ihnen vorhanden"). Ihre aktualiserte Ergebnistabelle muss vollständig ausgefüllt sein und insbesondere alle Ergebnisdaten der Vorversion enthalten, da bei einer Kennzeichung als Aktualiserung (Update) die zuvor eingesandte Ergebnistabelle durch die Aktualisierung vollständig ersetzt wird.
A7: Ihre Daten werden von uns wie mitgeteilt zur Auswertung verwendet. Selbst offensichtliche Fehler, wie - Tippfehler, - Übertragungsfehler in die Ergebniserfassungstabelle, - Angaben in einer anderen, von der Vorgabe abweichenden Maßeinheit werden zur Auswertung unverändert, also ohne Änderung übernommen und führen dann zu schlechten Bewertungen. Daher sollten Sie Ihre Eingaben sorgfältig durchführen und dabei insbesondere auch überprüfen, ob Ihre laborüblichen Maßeinheiten mit denen im Tabellenblatt übereinstimmen.
A8: Nach Ende der Frist zur Ergebnisabgabe sind Korrekturen nur noch möglich, falls die Auswertung der Daten noch nicht erfolgt ist. Korrekturen von fehlerhaften Teilnehmerangaben werden nach der Auswertung und insbesondere nach Veröffentlichung des Protokolls nicht mehr durchgeführt.

Sheet Hinweise3
A1: Hinweise zur Auswertung
A2: Die Beurteilung der Laborergebnisse erfolgt durch Z-Scores, die möglichst über die Vergleichsstandardabweichung des jeweiligen Standardverfahrens aus der Amtlichen Sammlung nach § 64 LFGB berechnet werden. Zusätzlich werden Z-Scores über die nach der Horwitz- funktion ermittelte Zielstandardabweichung für den jeweiligen Analyten berechnet.
A3: Mit abnehmenden Gehalten von Analyten in der Probe steigt die über die Horwitzfunktion berechnete Zielstandardabweichung stark an. So beträgt z.B. die relative Standardabweichung nach Horwitz 10 % bei einem Analytgehalt von 23 mg/kg und bereits 22,6 % bei einem Analytgehalt von 100 µg/kg.
A4: Zur Vermeidung zu „breiter“ Beurteilungszonen wird deshalb bei der Auswertung bei allen Parametern der Wert der Zielstandardabweichung auf maximal 22 % vom Wert des Medians beschränkt.
A5: Zunächst werden alle mitgeteilten Laborergebnisse berücksichtigt und die darüber berechneten statistischen Kenndaten für die Parameter aufgeführt.
A6: Zur Ermittlung der endgültigen statistischen Kenndaten werden bei allen in den Proben enthaltenen Wirkstoffe Zweitberechnungen durchgeführt. Bei diesen Zweitberechnungen bleiben generell die Ergebnisdaten von allen Laboratorien unberücksichtigt, deren Ergebnisse um mehr als 5 Zielstandardabweichungen (5 Z-Scores) vom Median des Analyten abweichen.
A7: Darüber hinaus bleiben bei allen Parametern zusätzlich alle Ergebnisse unberücksichtigt, die um mehr als 50 % vom Median abweichen und bei denen gleichzeitig der Betrag des Z-Score größer als 3 ist. Diese Regelung greift bei allen Parametern mit Analytgehalten unter 23 mg/kg.

Sheet Ergebnisangabe
A1: Hinweise zum Erfassen und Einsenden der Untersuchungsergebnisse
A2: Zur Bestimmung der Parameter sollen zwei vollständig getrennte Analysengänge durch¬geführt werden. Verwenden Sie für die Analysengänge 1 und 2 Probenmaterial aus verschiedenen Probeneinheiten.
A3: Benutzen Sie für die Ergebnisübermittlung diese vordefinierte Tabelle im Excelformat. Die Tabelle steht auch auf unserer Homepage (www.lvus.de) im Bereich „Download“ bereit.
A4: Geben Sie im Register "Kontakt" den Namen, die eMail-Adresse sowie die Telefonnummer der Kontaktperson an, die wir bei Fragen kontaktieren können. Nach Fertigstellung des Protokolls wird ausschließlich an die dort angegebenen eMail-Adressen vorab ein Passwort-freies Protokoll im PDF-Format gesendet.
A5: Tragen Sie im Register „Ergebnisse“ unbedingt Ihre Kundennummer und Ihre Postleitzahl ein, da darüber die Identifizierung des Einsenders erfolgt. In die beiden Datenfelder „Kundennummer“ und „Postleitzahl“ dürfen nur Ziffern eingegeben werden.
A6: Die Felder zur Eingabe Ihrer Ergebnisdaten sind nicht mit einer festen Nachkommazahl vordefiniert, um keine Hinweise auf eventuelle Gehalte von Parametern zu geben.
A7: Beachten Sie die Hinweise zu den gültigen (signifikanten) Ziffern bei den Parametern. Die Anzahl der Ziffern ist so zu wählen, dass beide Ergebnisse nur im Ausnahmefall aus iden¬tischen Ziffernfolgen bestehen. In einigen Fällen, z.B. bei Gehalten um 10 %, ist die Vorgabe gültiger Stellen schwierig: Die Ergebnisse „10,16% und 9,94% sind vergleichbar, nicht aber „10,2%“ und „9,94%“. Die Angabe einer zusätzlichen gültigen Stelle ist hier angebracht.
A8: Über Auswahlfelder sind gängige Untersuchungsverfahren bereits vordefiniert, um das Ausfüllen bei den Untersuchungsverfahren zu erleichtern. Sollten Sie ein nicht aufgeführtes Verfahren anwenden, wählen Sie „sonstiges“ aus und tragen Ihr Verfahren dann ein. Sofern weitere Informationen zur Auswertung nötig sind, werden auch gängige Verfahrensprinzipien und/oder Bezugsquellen kommerziell vertriebener Testsätze in ähnlicher Weise vordefiniert.
A9: In zahlreichen Fällen wird auch nachgefragt, ob Sie streng nach der Vorschrift gemäß § 64 LFGB arbeiten. Streng bedeutet, dass Sie ohne prüfrelevante Abweichungen arbeiten. Sollte die Abweichung lediglich die untersuchte Matrix sein (z.B. Ketchup anstelle von Brühwurst), dann soll dies nicht als Modifikation gekennzeichnet werden.
A10: Da Ihre eMail automatisch weiterverarbeitet wird, dürfen nur innerhalb der Exceltabelle in vordefinierten Bereichen Kommentare oder Hinweise zu den Proben und durchgeführten Untersuchungen enthalten sein (z.B. im Register „Mitteilungen“).
A11: Senden Sie uns die vollständig ausgefüllte Ergebnisdatei als Anlage im aktuellen Excelformat (Datei-Endung ".xlsx") oder im Format von Excel 2000 (Datei-Endung ".xls") per eMail an die Adresse „ergebnisse@lvus.de“. Ihre eMail darf nur eine einzige Anlage enthalten. eingesendete Tabellen verarbeiten.
A12: Nach dem Eingang in unserer Mailbox "ergebnisse@lvus.de" erhalten Sie automatisch eine Benachrichtigung/Bestätigung über den Eingang Ihrer eMail.
... A15: Senden Sie elektronisch mitgeteilte Ergebnisse nicht noch zusätzlich per Post oder Telefax.

Sheet Kontakt
A1: Kontaktperson | C1: Contact person
A2: Name | C2: Name
A3: eMail | C3: eMail-Address
A4: Telefon (inklusive Vorwahl): | C4: telefone (including country and area code)
A6: Bitte geben Sie den Namen, eMail-Adresse und die Telefonnummer der Person an, die wir bei Rückfragen kontaktieren können. An die aufgeführte eMailadresse wird das Protokoll zusätzlich auch als Passwort-freie PDF-Datei gesendet.
A8: Type in name, e-mail address and telefone number of the person we can contact in case of any questions, please. In addition to a printed version we will send a PDF-document (passwort-free) of the report to this e-mail address.
A10: Falls die Auswertung zusätzlich noch an eine zweite Adresse gesendet werden soll, geben Sie die zweite Adresse getrennt durch ein Semikolon mit nachfolgendem Leerzeichen ein.
A11: In case the PDF-document of the report should be sent to a second e-mail address seperate both e-mail addresses by typing in a semicolon followed by a blank.
A12: Beispiel für die Eingabe von 2 eMail-Adressen: Example how to type in 2 different e-mail addresses: | C12: info@lvus.de; ergebnisse@lvus.de
A15: eMail-Kontrolle: | C15: check of the e-Mail address
A16: Ergebnis der Überprüfung: | B16: =IF(ISBLANK(B15),"",IF(B3=B15,"Kontrolle erfolgreich - check ok","FEHLER - ERROR")) | C16: result of the control
B17: =IF(ISBLANK(B15),"",IF(ISERROR(FIND("@",B15,1)),"keine gültige eMail-Adresse",IF((VALUE(FIND("@",B15,1))>1),"","keine gültige eMail-Adresse!")))
B18: =IF(ISBLANK(B15),"",IF(ISERROR(FIND("@",B15,1)),"no valid eMail-adress",IF((VALUE(FIND("@",B15,1))>1),"","no valid eMail-address!")))
B19: =IF(ISBLANK(B15),"",IF(ISERROR(FIND("; ",B15,1)),"",IF((VALUE(FIND("; ",B15,1))>8),"","Achtung - die zweite eMail-Adresse wurde nicht korrekt eingegeben")))

Sheet Teilnehmerdaten
A1: Kundennummer | B1: =IF(ISNUMBER(VALUE(Ergebnisse!G1)),IF(VALUE(Ergebnisse!G1)>0,VALUE(Ergebnisse!G1),""),"") | D1: Umformung
A2: Postleitzahl | B2: =IF(ISNUMBER(VALUE(Ergebnisse!G2)),IF(VALUE(Ergebnisse!G2)>0,VALUE(Ergebnisse!G2),""),"")
A3: Produkt | B3: 12 | D3: Auswahl
A4: Jahrgang | B4: =YEAR(Ergebnisse!E5) -> 2020 | D4: 2
A5: Update | B5: =D8 -> N | D5: =IF(D4=2,"N","J") -> N | F5: 1 | G5: ja / yes
A6: Teilnahmen | B6: =Ergebnisse!G3 -> 1 | F6: 2 | G6: nein / no
A7: Deadline | B7: =Ergebnisse!E5 -> 44164
A8: Parameterzahl | B8: 9 | D8: =LEFT(D5,1) -> N
A9: Bestimmungen je Parameter | B9: 2
A10: Parameter 1 | B10: =Ergebnisse!A22 -> Wasser | C10: =Ergebnisse!B22 -> g/100 g Probe
A11: Parameter 2 | B11: =Ergebnisse!A23 -> Fett | C11: =Ergebnisse!B23 -> g/100 g Probe
A12: Parameter 3 | B12: =Ergebnisse!A24 -> Rohprotein (N * 6,25) | C12: =Ergebnisse!B24 -> g/100 g Probe
A13: Parameter 4 | B13: =Ergebnisse!A25 -> Lactose, wasserfrei | C13: =Ergebnisse!B25 -> g/100 g Probe
A14: Parameter 5 | B14: =Ergebnisse!A26 -> Asche | C14: =Ergebnisse!B26 -> g/100 g Probe
A15: Parameter 6 | B15: =Ergebnisse!A27 -> Kochsalz (über Chlorid) | C15: =Ergebnisse!B27 -> g/100 g Probe
A16: Parameter 7 | B16: =Ergebnisse!A28 -> Gesamtphosphor, berechnet als P2O5 | C16: =Ergebnisse!B28 -> g/100 g Probe
A17: Parameter 8 | B17: =Ergebnisse!A29 -> Nitrat (als NO3-) | C17: =Ergebnisse!B29 -> mg/kg Probe
A18: Parameter 9 | B18: =Ergebnisse!A31 -> Natrium | C18: =Ergebnisse!B31 -> g/100 g Probe

Sheet Ergebnisse
A1: Ergebnisdatenblatt (Resultsheet) | D1: Kunden-Nr. (Client-No.):
A2: Käse / Cheese | D2: Postleitzahl (ZIP-Code):
D3: interne Teilnahme: | G3: 1
A4: Einsendeadresse: | B4: ergebnisse@lvus.de | E4: Teilnahme | F4: =IF(ISBLANK(G1),"",IF(ISNUMBER(VALUE(G1)),"","Bitte nur Ziffern eingeben (numbers only)"))
A5: Annahmeschluss/Deadline: | E5: 44164 | F5: =IF(ISBLANK(G2),"",IF(ISNUMBER(VALUE(G2)),"","Bitte nur Ziffern eingeben (numbers only)"))
A7: Schreiben Sie Ihre Daten in die gelb hinterlegten Felder. Geben Sie Ihre Ergebnisse in den aufgeführten Einheiten an. Write your data into the yellow cells. Give your results in the units of column 2.
A8: Geben Sie Ihre Ergebnisse mit den in Spalte 3 aufgeführten signifikanten Stellen an. Beispiele hierzu sind in "Hinweise1" enthalten (bei Gehalten unter 0,010 g/100 g genügt die Angabe von 2 signifikanten Stellen). Report your results with in column 3 shown significant numbers (there are some examples in sheet "hints1") (for concentrations below 0.010 g/100 g reporting of results with 2 significant numbers is suitable).
A9: In einigen Fällen, z.B. bei Gehalten um 1 % oder 10 %, ist die Vorgabe gültiger Stellen schwierig: Die Ergebnisse „1,06% und 0,98% sind vergleichbar, nicht aber „1,1 %“ und „0,98%“. Die Angabe einer zusätzlichen gültigen Stelle beim Beispielwert 1,06 ist hier angebracht.
A10: Sollte ein Inhaltsstoff nicht bestimmbar sein, so teilen Sie uns bitte den Wert Ihrer Bestimmungsgrenze mit vorangestelltem "< “ mit. In cases you will not detect a parameter, report your limit of quantification with "< " in front of the value.
A11: Falls Sie einen Parameter nicht bearbeiten, lassen Sie die zugehörigen Ergebnisdatenfelder bitte leer. If you are not analysing parameters in your laboratory do not write anything into the corresponding fields for the results.
A14: Zur Beschreibung des Analysenverfahrens verwenden Sie bitte die im unteren Teil dieses Datenblatts enthaltenen Auswahlfelder. To describe your method use the Pulldown-menus following after the result area.
A15: =IF(OR(ISBLANK(G1),ISBLANK(G2)),"Die Tabelle ist so nicht versandfertig. Es fehlen noch Eingaben bei Kunden-Nr. und/oder Postleitzahl.","Wichtig: Sind Ihre Eingaben bei Kunden-Nr. und Postleitzahl korrekt?") -> Die Tabelle ist so nicht versandfertig. Es fehlen noch Eingaben bei Kunden-Nr. und/oder Postleitzahl.
A16: =IF(OR(ISBLANK(G1),ISBLANK(G2)),"Nur wenn diese beiden Felder ausgefüllt sind, kann der Absender dieser Tabelle korrekt identifiziert werden.","") -> Nur wenn diese beiden Felder ausgefüllt sind, kann der Absender dieser Tabelle korrekt identifiziert werden.
A17: Tabelle wurde bereits einmal erfolgreich gesendet, es handelt sich um eine Aktualisierung:
F20: =MAX(Natrium!$A$54:$A$72) -> 19 | G20: =MAX(Natrium!$A$14:$A$22) -> 9 | H20: =MAX(Natrium!$A$26:$A$31) -> 6 | I20: =MAX(Natrium!$A$26:$A$31) -> 6 | J20: =MAX(Natrium!$A$35:$A$38) -> 4 | K20: =MAX(Natrium!$A$42:$A$50) -> 9 | L20: =MAX(Natrium!$A$3:$A$10) -> 8
A21: Parameter | B21: Einheit | C21: Signifikante Stellen | D21: Analysen- gang 1 | E21: Analysen- gang 2 | F21: Verfahren / Literatur | G21: Aufschluss- prinzip | H21: verwendete Säuren | J21: Oxida-tionsmittel | K21: Mess- prinzip | L21: Proben- einwaage
A22: Wasser | B22: g/100 g Probe | C22: 4 | F22: =Wasser!$B$1 -> 16 | H22: =Wasser!$C$1 -> 15
A23: Fett | B23: g/100 g Probe | C23: 4 | F23: =Fett!$B$1 -> 22 | H23: =Fett!$C$1 -> 21
A24: Rohprotein (N * 6,25) | B24: g/100 g Probe | C24: 4 | F24: =Rohprotein!$B$1 -> 16 | H24: =Rohprotein!$C$1 -> 15
A25: Lactose, wasserfrei | B25: g/100 g Probe | C25: 3 | F25: =Lactose!B1 -> 22 | H25: =Lactose!$C$1 -> 21
A26: Asche | B26: g/100 g Probe | C26: 3 | F26: =Asche!B1 -> 16 | H26: =Asche!$C$1 -> 15
A27: Kochsalz (über Chlorid) | B27: g/100 g Probe | C27: 3 | F27: =Kochsalz!$B$1 -> 24 | H27: =Kochsalz!$C$1 -> 23
A28: Gesamtphosphor, berechnet als P2O5 | B28: g/100 g Probe | C28: 3 | F28: =Gesamtphosphor!$B$1 -> 26 | H28: =Gesamtphosphor!C1 -> 25
A29: Nitrat (als NO3-) | B29: mg/kg Probe | C29: 3 | F29: =Nitrat!B1 -> 26 | H29: =Nitrat!C1 -> 25
A30: Natamycin | B30: mg/kg Probe | C30: 3 | F30: =Natamycin!$B$1 -> 7 | H30: =Natamycin!C1 -> 7
A31: Natrium | B31: g/100 g Probe | C31: 3 | F31: =Natrium!B53 -> 19 | G31: =Natrium!B13 -> 9 | H31: =Natrium!B25 -> 6 | I31: =Natrium!C25 -> 6 | J31: =Natrium!B34 -> 4 | K31: =Natrium!B41 -> 9 | L31: =Natrium!B2 -> 8
A32: Beschreibung der verwendeten Analysenverfahren
A34: =A22 -> Wasser | B34: =ISBLANK(VLOOKUP(F22,Wasser!A3:C23,3)) -> TRUE
A35: =IF(F22=H22,"bitte eingeben:",IF(B34,"","Art der Modifikation:"))
A36: =A23 -> Fett | B36: =ISBLANK(VLOOKUP(F23,Fett!A3:C30,3)) -> TRUE
A37: =IF(F23=H23,"bitte eingeben:",IF(B36,"","Art der Modifikation:"))
A38: =A24 -> Rohprotein (N * 6,25) | B38: =ISBLANK(VLOOKUP(F24,Rohprotein!A3:C24,3)) -> TRUE
A39: =IF(F24=H24,"bitte eingeben:",IF(B38,"","Art der Modifikation:"))
A40: =A25 -> Lactose, wasserfrei | B40: =ISBLANK(VLOOKUP(F25,Lactose!A3:C23,3)) -> TRUE
A41: =IF(F25=H25,"bitte eingeben:",IF(B40,"","Art der Modifikation:"))
A42: =A26 -> Asche | B42: =ISBLANK(VLOOKUP(F26,Asche!A3:C21,3)) -> TRUE
A43: =IF(F26=H26,"bitte eingeben:",IF(B42,"","Art der Modifikation:"))
A44: Kochsalz (über Chlorid) | B44: =ISBLANK(VLOOKUP(F27,Kochsalz!A3:C31,3)) -> TRUE
A45: =IF(F27=H27,"bitte eingeben:",IF(B44,"","Art der Modifikation:"))
A46: Gesamtphosphor | B46: =ISBLANK(VLOOKUP(F28,Gesamtphosphor!A3:C42,3)) -> TRUE
...

Sheet Mitteilungen
A1: Nachfolgend können Sie uns ergänzende Hinweise geben oder wichtige Beobachtungen mitteilen. | H1: =COUNTA(A2:G38) -> 0

Sheet Wasser
A1: =Ergebnisse!A22 -> Wasser | B1: 16 | C1: =MAX($A$3:$A$18)-1 -> 15
B2: Bezeichnung des Analysenverfahrens | C2: Modifikation
A3: 1 | B3: § 64 LFGB Nr. L 03.00-9
A4: 2 | B4: § 64 LFGB Nr. L 03.00-9, modifiziert | C4: x
A5: 3 | B5: Trocknung bei 103 °C ± 2 °C mit Seesand
A6: 4 | B6: Trocknung bei 103 °C ± 2 °C ohne Seesand
A7: 5 | B7: VDLUA Band VI C 35.3
A8: 6 | B8: Mikrowellentrocknung
A9: 7 | B9: VDLUFA Band VI C 35 6
A10: 8 | B10: FT-NIR Spektrometrie
A11: 9 | B11: EN ISO 5534
A12: 10 | B12: ÖNORM DIN 10314
A13: 11 | B13: § 64 LFGB Nr. L 06.00-3
A14: 12 | B14: § 64 LFGB Nr. L 06.00-3, modifiziert | C14: x
A15: 13 | B15: Schweizerisches Lebensmittelbuch SLMB, Kap. 5, 2.1; Juli 2000
A16: 14 | B16: KERN DBS
A17: 15 | B17: Sonstiges
A18: 16

Sheet Fett
A1: =Ergebnisse!A23 -> Fett | B1: 22 | C1: =MAX($A$3:$A$24)-1 -> 21
A2: Methode | B2: Bezeichnung des Analysenverfahrens | C2: Anzahl
A3: 1 | B3: § 64 LFGB Nr. L 03.00-10 (01.00-20, 03.42-2)
A4: 2 | B4: § 64 LFGB Nr. L 03.00-10 (01.00-20, 03.42-2), modifiziert | C4: x
A5: 3 | B5: § 64 LFGB Nr. L 03.00-8
A6: 4 | B6: § 64 LFGB Nr. L 03.00-8, modifiziert | C6: x
A7: 5 | B7: § 64 LFGB Nr. L 06.00-6
A8: 6 | B8: § 64 LFGB Nr. L 06.00-6, modifiziert | C8: x
A9: 7 | B9: Aufschluss mit Zinn-HCl, Extraktion mit Cyclohexan
A10: 8 | B10: VDLUFA VI C 15.2.2 (Schmid-Badzynski-Ratzlaff)
A11: 9 | B11: Salzsaure Hydrolyse, Extraktion mit Petrolether (Weibull-Berntrop)
A12: 10 | B12: SBR-Methode
A13: 11 | B13: Weibull-Stoldt
A14: 12 | B14: Gaschromatographie
A15: 13 | B15: nach Gullik
A16: 14 | B16: Gerhard Extraktion mit Petrolether
A17: 15 | B17: NMR Smart Trac
A18: 16 | B18: DIN 10342 (auch modifiziert)
A19: 17 | B19: FT-NIR Spektrometrie
A20: 18 | B20: DIN 10479-2 Butyrometrische Bestimmung des Fettgehaltes von Milch und Milchprodukten
... A23: 21 | B23: Sonstiges
A24: 22

Sheet Rohprotein
A1: =Ergebnisse!A24 -> Rohprotein (N * 6,25) | B1: 16 | C1: =MAX($A$3:$A$18)-1 -> 15
A2: Methode | B2: Bezeichnung des Analysenverfahrens
A3: 1 | B3: § 64 LFGB Nr. L 01.00-10
A4: 2 | B4: § 64 LFGB Nr. L 01.00-10, modifiziert | C4: x
A5: 3 | B5: § 64 LFGB Nr. L 01.00-60
A6: 4 | B6: § 64 LFGB Nr. L 01.00-60, modifiziert | C6: x
A7: 5 | B7: § 64 LFGB Nr. L 06.00-7
A8: 6 | B8: § 64 LFGB Nr. L 06.00-7, modifiziert | C8: x
A9: 7 | B9: § 64 LFGB Nr. L 03.00-27
A10: 8 | B10: § 64 LFGB Nr. L 03.00-27, modifiziert | C10: x
A11: 9 | B11: Kjeldahl
A12: 10 | B12: Halbmikro-Kjeldahl-Verfahren
A13: 11 | B13: Dumas
A14: 12 | B14: VDLUFA VI C 30.2
A15: 13 | B15: FT-NIR Spektrometrie
A16: 14 | B16: EN ISO 8968-1
A17: 15 | B17: Sonstiges
A18: 16

Sheet Lactose
A1: Lactose | B1: 22 | C1: =MAX($A$3:$A$24)-1 -> 21
A2: Methode | B2: Bezeichnung des Analysenverfahrens | C2: Anzahl
A3: 1 | B3: Enzymatisch nach Roche / r-biopharm Nr. 10 176 303 035
A4: 2 | B4: Enzymatisch nach Roche / r-biopharm Nr. 10 986 119 035
A5: 3 | B5: Enzymatisch nach SCIL Nr. 1213 (Lactose, Galactose)
A6: 4 | B6: HPLC (diverse Detektoren)
A7: 5 | B7: IC (diverse Detektoren)
A8: 6 | B8: § 64 LFGB Nr. L 01.00-17
A9: 7 | B9: § 64 LFGB Nr. L 01.00-17, modifiziert | C9: x
A10: 8 | B10: § 64 LFGB Nr. L07.00-23
A11: 9 | B11: § 64 LFGB Nr. L07.00-23, modifiziert | C11: x
A12: 10 | B12: § 64 LFGB Nr. L 17.00-7
A13: 11 | B13: § 64 LFGB Nr. L 17.00-7, modifiziert | C13: x
A14: 12 | B14: § 64 LFGB Nr. L 40.00-7
A15: 13 | B15: § 64 LFGB Nr. L 40.00-7, modifiziert | C15: x
A16: 14 | B16: Luff-Schoorl
A17: 15 | B17: VDLUFA VI C 20.2.3
A18: 16 | B18: GC als TMS-Derivat
A19: 17 | B19: Enzymatisch nach r-biopharm Enzytec E1213
A20: 18 | B20: enzymatisch nach Thermo Fisher
A21: 19 | B21: Enzymatisch nach Megazyme, K-LACGAR, 2014-03
A22: 20 | B22: VDLUFA III C 7.1.4
A23: 21 | B23: Sonstiges
A24: 22

Sheet Asche
A1: =Ergebnisse!A26 -> Asche | B1: 16 | C1: =MAX($A$3:$A$18)-1 -> 15
A2: Methode | B2: Bezeichnung des Analysenverfahrens | C2: Anzahl
A3: 1 | B3: § 64 LFGB Nr. L 03.00-30 (01.00-77 - DIN 10477)
A4: 2 | B4: § 64 LFGB Nr. L 03.00-30 (01.00-77 - DIN 10477), modifiziert | C4: x
A5: 3 | B5: § 64 LFGB Nr. L 05.00-13
A6: 4 | B6: § 64 LFGB Nr. L 05.00-13, modifiziert | C6: x
A7: 5 | B7: § 64 LFGB Nr. L 06.00-4
A8: 6 | B8: § 64 LFGB Nr. L 06.00-4, modifiziert | C8: x
A9: 7 | B9: Veraschung bei 510 °C ± 10 °C (auch mit Vortrocknung)
A10: 8 | B10: Veraschung bei 530 °C ± 10 °C (auch mit Vortrocknung)
A11: 9 | B11: Veraschung bei 550 °C ± 10 °C (auch mit Vortrocknung)
A12: 10 | B12: Veraschung bei 570 °C ± 10 °C (auch mit Vortrocknung)
A13: 11 | B13: Veraschung bei 590 °C ± 10 °C (auch mit Vortrocknung)
A14: 12 | B14: Veraschung bei 610 °C ± 10 °C (auch mit Vortrocknung)
A15: 13 | B15: Veraschung bei Temperaturen über 620 °C (auch mit Vortrocknung)
A16: 14 | B16: VDLUFA VI C 10.2
A17: 15 | B17: Sonstiges
A18: 16

Sheet Kochsalz
A1: =Ergebnisse!A27 -> Kochsalz (über Chlorid) | B1: 24 | C1: =MAX($A$3:$A$26)-1 -> 23
A2: Methode | B2: Bezeichnung des Analysenverfahrens | C2: Anzahl
A3: 1 | B3: § 64 LFGB Nr. L 03.00-11
A4: 2 | B4: § 64 LFGB Nr. L 03.00-11, modifiziert | C4: x
A5: 3 | B5: § 64 LFGB Nr. L 05.02-2
A6: 4 | B6: § 64 LFGB Nr. L 05.02-2, modifiziert | C6: x
A7: 5 | B7: § 64 LFGB Nr. L 06.00-5
A8: 6 | B8: § 64 LFGB Nr. L 06.00-5, modifiziert | C8: x
A9: 7 | B9: § 64 LFGB Nr. L 07.00-5/1
A10: 8 | B10: § 64 LFGB Nr. L 07.00-5/1, modifiziert | C10: x
A11: 9 | B11: § 64 LFGB L 07.00-5/2 (DIN ISO 15923-1:2013)
A12: 10 | B12: § 64 LFGB L 07.00-5/2 (DIN ISO 15923-1:2013), modifiziert | C12: x
A13: 11 | B13: § 64 LFGB Nr. L 13.05-4
A14: 12 | B14: § 64 LFGB Nr. L 13.05-4, modifiziert | C14: x
A15: 13 | B15: Potentiometrisch mit AgNO3 aus der Asche (auch automatisch)
A16: 14 | B16: Nach Mohr
A17: 15 | B17: VDLUFA Band VI C 10.6.2
A18: 16 | B18: VDLUFA Methodenbuch VI, C 10.6.3
A19: 17 | B19: Ionenchromatographie
A20: 18 | B20: Potentiometrische Titration mit Silberelektrode und AgNO3 (auch automatisch)
A21: 19 | B21: IDF 88A: 1988
A22: 20 | B22: Heißwasserextraktion, Titration mit AgNO3 gegen Diphenylcarbazon/Bromphenolblau
A23: 21 | B23: DIN EN ISO 5943
A24: 22 | B24: NIR
A25: 23 | B25: Sonstiges
A26: 24

Sheet Gesamtphosphor
A1: =Ergebnisse!A28 -> Gesamtphosphor, berechnet als P2O5 | B1: 26 | C1: =MAX($A$3:$A$28)-1 -> 25
A2: Methode | B2: Bezeichnung des Analysenverfahrens | C2: Anzahl
A3: 1 | B3: § 64 LFGB Nr. L 03.00-17
A4: 2 | B4: § 64 LFGB Nr. L 03.00-17, modifiziert | C4: x
A5: 3 | B5: § 64 LFGB Nr. L 06.00-9
A6: 4 | B6: § 64 LFGB Nr. L 06.00-9, modifiziert | C6: x
A7: 5 | B7: § 64 LFGB Nr. L 00.00-135
A8: 6 | B8: § 64 LFGB Nr. L 00.00-135, modifiziert | C8: x
A9: 7 | B9: § 64 LFGB Nr. L 00.00-144
A10: 8 | B10: § 64 LFGB Nr. L 00.00-144, modifiziert | C10: x
A11: 9 | B11: § 64 LFGB Nr. L 01.00-41
A12: 10 | B12: § 64 LFGB Nr. L 01.00-41, modifiziert | C12: x
A13: 11 | B13: § 64 LFGB Nr. L 31.00-6
A14: 12 | B14: § 64 LFGB Nr. L 31.00-6, modifiziert | C14: x
A15: 13 | B15: Aufschluss mit Perchlorsäure/Salpetersäure, photometrisch mit Molybdat/Vanadat
A16: 14 | B16: VDLUFA VU 2.2.2.6
A17: 15 | B17: Bestimmung mittels ICP-OES aus der Asche
A18: 16 | B18: Druckaufschluss, Messung ICP (OES oder MS)
A19: 17 | B19: Gravimetrisch nach Mikrowellenaufschluss
A20: 18 | B20: Messung mit ICP aus der Asche
A21: 19 | B21: Schweizerisches Lebensmittelbuch Kapitel 8.1 (photometrisch)
A22: 20 | B22: VDLUFA Band III, 10.8.2
A23: 21 | B23: § 64 Nr. L 01.00-92 2016-03 (auch modifiziert)
A24: 22 | B24: Bestimmung mittels CFA nach Säureaufschluss
A25: 23 | B25: DIN11885 nach Mikrowellenaufschluss
A26: 24 | B26: Skalar
A27: 25 | B27: Sonstiges
A28: 26

Sheet Nitrat
A1: =Ergebnisse!A29 -> Nitrat (als NO3-) | B1: 26 | C1: =MAX($A$3:$A$28)-1 -> 25
A2: Methode | B2: Bezeichnung des Analysenverfahrens | C2: Anzahl
A3: 1 | B3: § 64 LFGB Nr. L 01.00-36 (Xylenol-Verfahren)
A4: 2 | B4: § 64 LFGB Nr. L 01.00-36 (Xylenol-Verfahren), modifiziert | C4: x
A5: 3 | B5: § 64 LFGB Nr. L 01.00-79/1
A6: 4 | B6: § 64 LFGB Nr. L 01.00-79/1, modifiziert | C6: x
A7: 5 | B7: § 64 LFGB Nr. L 01.00-79/2
A8: 6 | B8: § 64 LFGB Nr. L 01.00-79/2, modifiziert | C8: x
A9: 7 | B9: § 64 LFGB Nr. L 01.00-79/3
A10: 8 | B10: § 64 LFGB Nr. L 01.00-79/3, modifiziert | C10: x
A11: 9 | B11: § 64 LFGB L 07.00-12 (DIN EN ISO 13395): 1990-12
A12: 10 | B12: § 64 LFGB L 07.00-12 (DIN EN ISO 13395): 1990-12, modifiziert | C12: x
A13: 11 | B13: § 64 LFGB Nr. L 07.00-60
A14: 12 | B14: § 64 LFGB Nr. L 07.00-60, modifiziert | C14: x
A15: 13 | B15: § 64 LFGB Nr. L 08.00-14
A16: 14 | B16: § 64 LFGB Nr. L 08.00-14, modifiziert | C16: x
A17: 15 | B17: § 64 LFGB Nr. L 26.26-2 (enzymatisches Verfahren)
A18: 16 | B18: § 64 LFGB Nr. L 26.26-2 (enzymatisches Verfahren), modifiziert | C18: x
A19: 17 | B19: Enzymatisch nach r-biopharm / Roche Nr. 10 905 658 035
A20: 18 | B20: HPLC-Verfahren
A21: 19 | B21: Reduktion mit Cadmium, Photometrisch nach in-line Dialyse bei 530 nm
A22: 20 | B22: Reduktion mit Cadmium, Analyse mittels AutoAnalyzer
A23: 21 | B23: DIN EN ISO 14673-2 (CFA)
A24: 22 | B24: Ionenchromatografie
A25: 23 | B25: Skalar
A26: 24 | B26: DIN EN ISO 14673-3 (2004), FIA mit Cd-Reduktion und In-Line-Dialyse
A27: 25 | B27: Sonstiges
A28: 26

Sheet Natamycin
A1: =Ergebnisse!A30 -> Natamycin | B1: 7 | C1: =MAX($A$3:$A$10)-1 -> 7
A2: Methode | B2: Bezeichnung des Analysenverfahrens | C2: Anzahl
A3: 1 | B3: § 64 LFGB Nr. L 03.00-41/1
A4: 2 | B4: § 64 LFGB Nr. L 03.00-41/1, modifiziert | C4: x
A5: 3 | B5: § 64 LFGB Nr. L 03.00-41/2
A6: 4 | B6: § 64 LFGB Nr. L 03.00-41/2, modifiziert | C6: x
A7: 5 | B7: HPLC-Verfahren (diverse Detektoren)
A8: 6 | B8: ISO 9233-2
A9: 7 | B9: Sonstiges
A10: 8

Sheet Natrium
A1: Elemente | B1: Na
A2: Probeneinwaage | B2: 8
A3: 1 | B3: < 0,5 g
A4: 2 | B4: 0,5 g - 1,0 g
A5: 3 | B5: 1,0 g - 1,5 g
A6: 4 | B6: 1,5 g - 2,5 g
A7: 5 | B7: 2,5 g - 5,0 g
A8: 6 | B8: 5,0 g - 10,0 g
A9: 7 | B9: > 10,0 g
A10: 8
A13: Aufschluss | B13: 9
A14: 1 | B14: Mikrowellendruckaufschluss
A15: 2 | B15: Druckaufschluss
A16: 3 | B16: Trockenveraschung bei < 500 °C
A17: 4 | B17: Trockenveraschung bei 500 bis 540 °C
A18: 5 | B18: Trockenveraschung bei 540 °C bis 560 °C
A19: 6 | B19: wässrige Extraktion
A20: 7 | B20: Digiprep
A21: 8 | B21: Sonstiger Aufschluss
A22: 9
A25: Säuren | B25: 6 | C25: 6
A26: 1 | B26: HCl
A27: 2 | B27: HNO3
A28: 3 | B28: H2SO4
A29: 4 | B29: Königswasser
A30: 5 | B30: Sonstige Säure
A31: 6
A34: Oxidationsmittel | B34: 4
A35: 1 | B35: H2O2
A36: 2 | B36: entfällt
A37: 3 | B37: Sonstiges Oxidationsmittel
A38: 4
A41: Messverfahren | B41: 9
A42: 1 | B42: Flammen-AAS
A43: 2 | B43: Flammenemmission
A44: 3 | B44: ICP-MS
A45: 4 | B45: ICP-OES
A46: 5 | B46: Ionenchromatographie
A47: 6 | B47: ICP-AES
A48: 7 | B48: Ionensensitive Elektrode
...
