Workbook
Name _ftn1: Hints1!#REF!
Name _ftn1: Hinweise1!#REF!
Name _ftn1: Hinweise3!$A$3
Name _ftnref1: Hints1!$A$3
Name _ftnref1: Hinweise1!$A$2
Name _ftnref1: Hinweise3!#REF!
Name Daten: #REF!
Name Daten: #REF!
Name Daten: #REF!
Name Elemente: [1]Parameter2!$B$3:$B$18
Name MBlei: #REF!
Name MBlei: #REF!
Name MBlei: #REF!
Name OLE_LINK1: Ergebnisangabe!$A$20
Name OLE_LINK1: Reporting!$A$14
Name OLE_LINK2: Reporting!$J$7
Name Parameter2: #REF!
Name Parameter2: #REF!
Name Parameter2: #REF!
Name Parameter2: #REF!
Name Parameter2: Rohprotein!$B$6:$B$19
Name Parameter2alt: #REF!
Name Parameter2alt: #REF!
Name Parameter2alt: #REF!
Name test: [2]Parameter2!$B$3:$B$18
Name test: [3]Parameter2!$B$3:$B$18
Name test: [4]Parameter2!$B$3:$B$18
Name test: [5]Parameter2!$B$3:$B$18
Name test: [3]Parameter2!$B$3:$B$18
Name test: [5]Parameter2!$B$3:$B$18
Name test: [3]Parameter2!$B$3:$B$18
Name test: [2]Parameter2!$B$3:$B$18

Sheet Hints1
A1: References to the result transmission and to the indication of result (Deadline see "Ergebnisse")
A2: Before analysing the samples, homogenize the samples again, please. After homogenisation You should analyse both samples with your standard procedures.
A3: Use this file for your result transmissions, please. Fill for this in the file yellow fields deposited out and send back the file afterwards by email to “ergebnisse@lvus.de”. It is important that for the clear allocation of the results to your laboratory in the table "Ergebnisse" (results) your client number and your postal zip code must be entered (both numbers only).
A4: The result data must be given in in the units as described at every parameter. To the avoidance of deviations in the laboratory made roundness, You are asked with each parameter after the first number deviating from 0 to indicate still the listened further numbers (even if due to Your validating data this accuracy is not kept by your analysis procedure). ISO 13 528 4.6 recommends that individual measurement results schould not be rounded by more than sr/2.
A6: Examples for transmissions of results:
A7: It a test material the element "Mg" was quantified. You are asked to report 3 significant numbers. The following computational contents are determined:
A9: Computed Value [mg/kg] | B9: Transmission of result [mg/kg]
A10: 1379 | B10: 1380
A11: 179.34 | B11: 179
A12: 80.12 | B12: 80.1
A13: 7.8 | B13: 7.8

Sheet Reporting

Sheet Hinweise1
A1: Hinweise zur Ergebnisübermittlung und zur Ergebnisangabe
A2: Bitte verwenden Sie diese Datei für Ihre Ergebnisübermittlung. Füllen Sie hierzu alle in der Tabelle "Ergebnisse" gelb hinterlegten Felder aus bzw. wählen Sie Ihre Angaben zu den von Ihnen verwendeten Methoden über die vorhandenen Auswahlfenster aus.
A3: Die ausgefüllte Exceltabelle muss per eMail als Anlage bis spätestens zur Deadline an eine der beiden Adressen ergebnisse@lvus.de oder results@lvus.de gesendet werden. Bitte beachten Sie, dass Ihre eMail nur die Exceltabelle als Anlage enthalten darf. Ausser Ihrem Absender soll die eigentliche eMail keine weiteren Daten oder Texte enthalten, da alle an die Adressen ergebnisse@lvus.de oder results@lvus.de gesendeten eMails automatisch ausgelesen werden.
A4: Nach der in der Tabelle "Ergebnisse" aufgeführten Deadline eingehende Ergebnisse werden bei der Auswertung nicht berücksichtigt.
A5: Es ist wichtig, dass Sie zur eindeutigen Zuordnung der Ergebnisse zu Ihrem Labor sowohl Ihre Kunden-Nr. als auch Ihre Postleitzahl (auf dem Anschreiben enthalten - nur Ziffern eingeben) eingeben. Über eine bei der Auswertung durchgeführte Plausibilitätsprüfung soll erkannt werden, ob Tippfehler vorliegen und dadurch die Daten einem anderen Teilnehmer zugeordnet werden könnten.
A6: Interne Teilnahme: Diesen Wert bitte nur ändern, falls Sie für Ihr Haus mehrere getrennte und damit kostenpflichtige Teilnahmen gebucht haben. Über diesen Wert werden die unter einer Kundennummer geführten Teilnahmen getrennt erfasst und die Ergebnisse anschließend der Auswertung zugeführt. Entscheiden Sie, welcher Ihrer Laborbereiche unter der Teilnahme 1 oder 2 registirert und ausgewertet werden soll.
A7: Die Ergebnisangaben müssen in der/den vorgegebenen Maßeinheiten erfolgen - Ihre Angaben werden ohne Änderungen zur Auswertung verwendet! Zur Vermeidung von Abweichungen durch bereits im Labor vorgenommene Rundungen werden Sie gebeten, bei jedem Parameter eine bestimmte Anzahl signifikanter Ziffern anzugeben (auch wenn auf Grund Ihrer Validierungsdaten diese Genauigkeit von Ihrem Analysenverfahren nicht eingehalten wird). Nach ISO 13528 Abschnitt 4.6 sollen Ergebnisse nicht stärker gerundet werden als dem halben Betrag der Wiederholstandardabweichung entspricht.
A8: Beispiele zur Ergebnisangabe: In einer Probe wurde der Gehalt von Mangan bestimmt. Es werden folgende rechnerischen Gehalte ermittelt:
A9: Beispielhafter Wert [mg/kg] | B9: Ergebnisangabe mit 3 signifikanten Ziffern [mg/kg]
A10: 1379 | B10: 1380
A11: 179.34 | B11: 179
A12: 80.12 | B12: 80.1
A13: 7.8 | B13: 7.8
A15: Verfahren sowie Literaturangaben, die von Teilnehmern bei bereits durchgeführten Laborvergleichsuntersuchungen angewendet wurden, sind in Auswahlfenstern vorbelegt, um Ihnen das Ausfüllen zu erleichtern. Über diese Auswahlfenster wählen Sie bitte diejenigen Einträge aus, die bei den von Ihnen angewandten Verfahren zutreffend sind. Ist kein zutreffender Eintrag vorhanden, so wählen Sie bitte den Eintrag "sonstiges.." aus. Tragen Sie dann in der nächsten Zeile (wird gelb hervorgehoben) die auf Ihr Verfahren zutreffende Beschreibung ein.
A16: Geben Sie in der Tabelle "Kontakt" den Namen, die eMail-Adresse sowie die Telefonnummer der Kontaktperson an, die wir bei Fragen kontaktieren können. Nach Fertigstellung der Auswertung soll an die angegebene eMail-Adresse zusätzlich zur gedruckten Auswertung auch eine Passwort-freie Auswertedatei im PDF-Format gesendet werden.
A17: Sollten Sie uns ergänzende Hinweise/Beobachtungen mitteilen wollen, so verwenden Sie hierfür den vorgesehenen Bereich innerhalb der Tabelle "Mitteilungen".
A18: Da Ihre eMail automatisch weiterverarbeitet wird, dürfen nur in der Exceltabelle Kommentare oder Hinweise zu den Proben und durchgeführten Untersuchungen enthalten sein. Außerdem darf Ihre eMail nur eine einzige Anlage enthalten. Sie erhalten automatisch eine Benachrichtigung über den Eingang Ihrer Ergebnisse.

Sheet Hinweise2
A1: Erläuterungen zur Weiterverarbeitung Ihrer Daten
A2: Diese Tabellen wurden so aufgebaut, dass die Daten automatisiert in unser Auswerteprogramm übernommen werden können. Die Tabellen dürfen daher keinesfalls im Aufbau verändert werden, da dann ein automatisiertes Auslesen der mitgeteilten Daten nicht mehr möglich wäre.
A3: Aus diesem Grund wurden die Tabellen gegen Veränderungen geschützt. Eingaben oder auch die Auswahl von Eigenschaften sind nur an wenigen Stellen nötig. Diese Stellen sind gelb hinterlegt.
A4: Da das Ausführen von Macros eine potentielle Gefährdung von Computersystemen bedeuten kann, gehen wir davon aus, dass ausführbare Macros in zahlreichen Fällen von den entsprechenden System-Administratoren unterdrückt werden. Deshalb wurde auf die Verwendung von Macros bei der Erstellung der Tabellen zur Ergebniserfassung komplett verzichtet, obwohl damit ein komfortableres Arbeiten möglich wäre.
A5: Beim Eingang Ihrer eMail wird diese von unserem System automatisch weiterverarbeitet, wobei einige Plausibilitäten (z.B. Vollständigkeit der Absenderangabe oder Kennzeichnung als Update bei erneuter Dateneinsendung) überprüft werden. Im Anschluss an diese Prüfung erhalten Sie automatisiert eine eMail-Antwort. Darin werden Sie darüber informiert, ob Ihre Daten prinzipiell weiterverarbeitet werden können oder ob benötigte Einträge fehlen und Sie Ihre Ergebnisse nach Ergänzung der fehlenden Angaben erneut einsenden sollen. Eine Prüfung auf Vollständigkeit von Ergebnisangaben (sind überhaupt Ergebnnisdaten vorhanden?) oder deren Angabe in den vorgegebenen Maßeinheiten wird zu diesem Zeitpunkt nicht vorgenommen.
A6: Sollten Sie noch vor dem Ende der Ergebnisannahme bemerken, dass in Ihrer Ergebnistabelle Fehler enthalten sind, so senden Sie einfach eine korrigierte Version an die Adresse ergebnisse@lvus.de. Kennzeichnen Sie in diesem Fall Ihre Tabelle als Aktualisierung, da ansonsten das System die Annahme der Daten zurückweist ("es sind ja bereits Daten von Ihnen vorhanden"). Ihre aktualiserte Ergebnistabelle muss vollständig ausgefüllt sein und insbesondere alle Ergebnisdaten der Vorversion enthalten, da bei einer Kennzeichung als Aktualiserung (Update) die zuvor eingesandte Ergebnistabelle durch die Aktualisierung vollständig ersetzt wird.
A7: Ihre Daten werden von uns wie mitgeteilt zur Auswertung verwendet. Selbst offensichtliche Fehler, wie - Tippfehler, - Übertragungsfehler in die Ergebniserfassungstabelle, - Angaben in einer anderen, von der Vorgabe abweichenden Maßeinheit werden zur Auswertung unverändert, also ohne Änderung übernommen und führen dann zu schlechten Bewertungen. Daher sollten Sie Ihre Eingaben sorgfältig durchführen und dabei insbesondere auch überprüfen, ob Ihre laborüblichen Maßeinheiten mit denen im Tabellenblatt übereinstimmen.
A8: Nach Ende der Frist zur Ergebnisabgabe sind Korrekturen nur noch möglich, falls die Auswertung der Daten noch nicht erfolgt ist. Korrekturen von fehlerhaften Teilnehmerangaben werden nach der Auswertung und insbesondere nach Veröffentlichung des Protokolls nicht mehr durchgeführt.

Sheet Hinweise3
A1: Hinweise zur Auswertung
A2: Die Beurteilung der Laborergebnisse erfolgt durch Z-Scores, die möglichst über die Vergleichsstandardabweichung des jeweiligen Standardverfahrens aus der Amtlichen Sammlung nach § 64 LFGB berechnet werden. Zusätzlich werden Z-Scores über die nach der Horwitz- funktion ermittelte Zielstandardabweichung für den jeweiligen Analyten berechnet.
A3: Mit abnehmenden Gehalten von Analyten in der Probe steigt die über die Horwitzfunktion berechnete Zielstandardabweichung stark an. So beträgt z.B. die relative Standardabweichung nach Horwitz 10 % bei einem Analytgehalt von 23 mg/kg und bereits 22,6 % bei einem Analytgehalt von 100 µg/kg.
A4: Zur Vermeidung zu „breiter“ Beurteilungszonen wird deshalb bei der Auswertung bei allen Parametern der Wert der Zielstandardabweichung auf maximal 22 % vom Wert des Medians beschränkt.
A5: Zunächst werden alle mitgeteilten Laborergebnisse berücksichtigt und die darüber berechneten statistischen Kenndaten für die Parameter aufgeführt.
A6: Zur Ermittlung der endgültigen statistischen Kenndaten werden bei allen in den Proben enthaltenen Wirkstoffe Zweitberechnungen durchgeführt. Bei diesen Zweitberechnungen bleiben generell die Ergebnisdaten von allen Laboratorien unberücksichtigt, deren Ergebnisse um mehr als 5 Zielstandardabweichungen (5 Z-Scores) vom Median des Analyten abweichen.
A7: Darüber hinaus bleiben bei allen Parametern zusätzlich alle Ergebnisse unberücksichtigt, die um mehr als 50 % vom Median abweichen und bei denen gleichzeitig der Betrag des Z-Score größer als 3 ist. Diese Regelung greift bei allen Parametern mit Analytgehalten unter 23 mg/kg.

Sheet Ergebnisangabe
A1: Hinweise zum Erfassen und Einsenden der Untersuchungsergebnisse
A2: Zur Bestimmung der Parameter sollen zwei vollständig getrennte Analysengänge durchgeführt werden. Verwenden Sie für die Analysengänge 1 und 2 Probenmaterial aus verschiedenen Probeneinheiten.
A3: Benutzen Sie für die Ergebnisübermittlung diese vordefinierte Tabelle im Excelformat. Die Tabelle steht auch auf unserer Homepage (www.lvus.de) im Bereich „Download“ bereit.
A4: Geben Sie im Register "Kontakt" den Namen, die eMail-Adresse sowie die Telefonnummer der Kontaktperson an, die wir bei Fragen kontaktieren können. Nach Fertigstellung des Protokolls wird ausschließlich an die dort angegebenen eMail-Adressen vorab ein Passwort-freies Protokoll im PDF-Format gesendet.
A5: Tragen Sie im Register „Ergebnisse“ unbedingt Ihre Kundennummer und Ihre Postleitzahl ein, da darüber die Identifizierung des Einsenders erfolgt. In die beiden Datenfelder „Kundennummer“ und „Postleitzahl“ dürfen nur Ziffern eingegeben werden.
A6: Die Felder zur Eingabe Ihrer Ergebnisdaten sind nicht mit einer festen Nachkommazahl vordefiniert, um keine Hinweise auf eventuelle Gehalte von Parametern zu geben.
A7: Beachten Sie die Hinweise zu den gültigen (signifikanten) Ziffern bei den Parametern. Die Anzahl der Ziffern ist so zu wählen, dass beide Ergebnisse nur im Ausnahmefall aus iden¬tischen Ziffernfolgen bestehen. In einigen Fällen, z.B. bei Gehalten um 10 %, ist die Vorgabe gültiger Stellen schwierig: Die Ergebnisse „10,16% und 9,94% sind vergleichbar, nicht aber „10,2%“ und „9,94%“. Die Angabe einer zusätzlichen gültigen Stelle ist hier angebracht.
A8: Über Auswahlfelder sind gängige Untersuchungsverfahren bereits vordefiniert, um das Ausfüllen bei den Untersuchungsverfahren zu erleichtern. Sollten Sie ein nicht aufgeführtes Verfahren anwenden, wählen Sie „sonstiges“ aus und tragen Ihr Verfahren dann ein. Sofern weitere Informationen zur Auswertung nötig sind, werden auch gängige Verfahrensprinzipien und/oder Bezugsquellen kommerziell vertriebener Testsätze in ähnlicher Weise vordefiniert.
A9: In zahlreichen Fällen wird auch nachgefragt, ob Sie streng nach der Vorschrift gemäß § 64 LFGB arbeiten. Streng bedeutet, dass Sie ohne prüfrelevante Abweichungen arbeiten. Sollte die Abweichung lediglich die untersuchte Matrix sein (z.B. Ketchup anstelle von Brühwurst), dann soll dies nicht als Modifikation gekennzeichnet werden.
A10: Da Ihre eMail automatisch weiterverarbeitet wird, dürfen nur innerhalb der Exceltabelle in vordefinierten Bereichen Kommentare oder Hinweise zu den Proben und durchgeführten Untersuchungen enthalten sein (z.B. im Register „Mitteilungen“).
A11: Senden Sie uns die vollständig ausgefüllte Ergebnisdatei als Anlage im aktuellen Excelformat (Datei-Endung ".xlsx") oder im Format von Excel 2000 (Datei-Endung ".xls") per eMail an die Adresse „ergebnisse@lvus.de“. Ihre eMail darf nur eine einzige Anlage enthalten. eingesendete Tabellen verarbeiten.
A12: Nach dem Eingang in unserer Mailbox "ergebnisse@lvus.de" erhalten Sie automatisch eine Benachrichtigung/Bestätigung über den Eingang Ihrer eMail.
... A15: Senden Sie elektronisch mitgeteilte Ergebnisse nicht noch zusätzlich per Post oder Telefax.

Sheet Kontakt
A1: Kontaktperson | C1: Contact person
A2: Name | C2: Name
A3: eMail | C3: eMail-Address
A4: Telefon (inklusive Vorwahl): | C4: telefone (including country and area code)
A6: Bitte geben Sie den Namen, eMail-Adresse und die Telefonnummer der Person an, die wir bei Rückfragen kontaktieren können. An die aufgeführte eMailadresse wird das Protokoll zusätzlich auch als Passwort-freie PDF-Datei gesendet.
A8: Type in name, e-mail address and telefone number of the person we can contact in case of any questions, please. In addition to a printed version we will send a PDF-document (passwort-free) of the report to this e-mail address.
A10: Falls die Auswertung zusätzlich noch an eine zweite Adresse gesendet werden soll, geben Sie die zweite Adresse getrennt durch ein Semikolon mit nachfolgendem Leerzeichen ein.
A11: In case the PDF-document of the report should be sent to a second e-mail address seperate both e-mail addresses by typing in a semicolon followed by a blank.
A12: Beispiel für die Eingabe von 2 eMail-Adressen: Example how to type in 2 different e-mail addresses: | C12: info@lvus.de; ergebnisse@lvus.de
A15: eMail-Kontrolle: | C15: check of the e-Mail address
A16: Ergebnis der Überprüfung: | B16: =IF(ISBLANK(B15),"",IF(B3=B15,"Kontrolle erfolgreich - check ok","FEHLER - ERROR")) | C16: result of the control
B17: =IF(ISBLANK(B15),"",IF(ISERROR(FIND("@",B15,1)),"keine gültige eMail-Adresse",IF((VALUE(FIND("@",B15,1))>1),"","keine gültige eMail-Adresse!")))
B18: =IF(ISBLANK(B15),"",IF(ISERROR(FIND("@",B15,1)),"no valid eMail-adress",IF((VALUE(FIND("@",B15,1))>1),"","no valid eMail-address!")))
B19: =IF(ISBLANK(B15),"",IF(ISERROR(FIND("; ",B15,1)),"",IF((VALUE(FIND("; ",B15,1))>8),"","Achtung - die zweite eMail-Adresse wurde nicht korrekt eingegeben")))

Sheet Teilnehmerdaten
A1: Kundennummer | B1: =IF(ISNUMBER(VALUE(Ergebnisse!G1)),IF(VALUE(Ergebnisse!G1)>0,VALUE(Ergebnisse!G1),""),"") | D1: Umformung
A2: Postleitzahl | B2: =IF(ISNUMBER(VALUE(Ergebnisse!G2)),IF(VALUE(Ergebnisse!G2)>0,VALUE(Ergebnisse!G2),""),"")
A3: Produkt | B3: 11 | D3: Auswahl
A4: Jahrgang | B4: =YEAR(Ergebnisse!E5) -> 2020 | D4: 2
A5: Update | B5: =D8 -> N | D5: =IF(D4=2,"N","J") -> N | F5: 1 | G5: ja / yes
A6: Teilnahmen | B6: =Ergebnisse!G3 -> 1 | F6: 2 | G6: nein / no
A7: Deadline | B7: =Ergebnisse!E5 -> 44150
A8: Parameterzahl | B8: 19 | D8: =LEFT(D5,1) -> N
A9: Bestimmungen je Parameter | B9: 2
A10: Parameter 1 | B10: =Ergebnisse!A20 -> aw-Wert | C10: =Ergebnisse!B20 -> ohne
A11: Parameter 2 | B11: =Ergebnisse!A21 -> Trockenmasse | C11: =Ergebnisse!B21 -> g/100 g
A12: Parameter 3 | B12: =Ergebnisse!A22 -> Asche | C12: =Ergebnisse!B22 -> g/100 g
A13: Parameter 4 | B13: =Ergebnisse!A23 -> Rohprotein (N * 6,25) | C13: =Ergebnisse!B23 -> g/100 g
A14: Parameter 5 | B14: =Ergebnisse!A24 -> Fett | C14: =Ergebnisse!B24 -> g/100 g
A15: Parameter 6 | B15: =Ergebnisse!A25 -> Fett, gesättigte Fettsäuren | C15: =Ergebnisse!B25 -> g/100 g
A16: Parameter 7 | B16: =Ergebnisse!A26 -> Halbmikrobuttersäurezahl (HBSZ) | C16: =Ergebnisse!B26 -> ohne
A17: Parameter 8 | B17: =Ergebnisse!A27 -> Butterfett, berechnet über HBSZ | C17: =Ergebnisse!B27 -> g/100 g
A18: Parameter 9 | B18: =Ergebnisse!A28 -> Freie Buttersäure (auf Fett beziehen) | C18: =Ergebnisse!B28 -> g/100 g Fett
A19: Parameter 10 | B19: =Ergebnisse!A29 -> Butterfett, berechnet über Buttersäure | C19: =Ergebnisse!B29 -> g/100 g
A20: Parameter 11 | B20: =Ergebnisse!A30 -> Buttersäuremethylester (auf Fett beziehen) | C20: =Ergebnisse!B30 -> g/100 g Fett
A21: Parameter 12 | B21: =Ergebnisse!A31 -> Butterfett, berechnet über Buttersäuremethylester | C21: =Ergebnisse!B31 -> g/100 g
... A28: Parameter 19 | B28: =Ergebnisse!A38 -> Natrium | C28: =Ergebnisse!B38 -> mg/100 g
A32: Hinweis zum Natrium
A33: Die Daten zum Parameter Natrium werden in die Spalten F bis L geschrieben (analog rechts) | F33: Verfahren / Literatur | G33: Aufschluss- prinzip | H33: verwendete Säuren | J33: Oxida-tionsmittel | K33: Mess- prinzip | L33: Proben- einwaage

Sheet Ergebnisse
A1: Ergebnisdatenblatt (Resultsheet) | E1: Kunden-Nr. (Client-Nb.)
A2: Backwaren | E2: Postleitzahl (ZIP-Code)
E3: interne Teilnahme: | G3: 1
A4: Einsendeadresse: | B4: ergebnisse@lvus.de | E4: Teilnahme | F4: =IF(ISBLANK(G1),"",IF(ISNUMBER(VALUE(G1)),"","Bitte nur Ziffern eingeben (numbers only)")) | G4: V.1
A5: Annahmeschluss/Deadline: | E5: 44150 | F5: =IF(ISBLANK(G2),"",IF(ISNUMBER(VALUE(G2)),"","Bitte nur Ziffern eingeben (numbers only)"))
A7: Schreiben Sie Ihre Daten in die gelb hinterlegten Felder. Geben Sie Ihre Ergebnisse in den aufgeführten Einheiten an. Write your data into the yellow cells. Give your results in the units of column 2.
A8: Geben Sie Ihre Ergebnisse mit den in Spalte 3 aufgeführten signifikanten Stellen an. Beispiele hierzu sind in "Hinweise1" enthalten (bei Gehalten unter 0,010 g/100 g genügt die Angabe von 2 signifikanten Stellen). Report your results with in column 3 shown significant numbers (there are some examples in sheet "hints1") (for concentrations below 0.010 g/100 g reporting of results with 2 significant numbers is suitable).
A9: In einigen Fällen, z.B. bei Gehalten um 1 % oder 10 %, ist die Vorgabe gültiger Stellen schwierig: Die Ergebnisse „1,06% und 0,98% sind vergleichbar, nicht aber „1,1 %“ und „0,98%“. Die Angabe einer zusätzlichen gültigen Stelle beim Beispielwert 1,06 ist hier angebracht.
A10: Falls Sie einen Parameter nicht bearbeiten, lassen Sie die zugehörigen Ergebnisdatenfelder bitte leer. If you are not analysing parameters in your laboratory do not write anything into the corresponding fields for the results.
A11: Zur Beschreibung des Analysenverfahrens verwenden Sie bitte die im unteren Teil dieses Datenblatts enthaltenen Auswahlfelder. To describe your method use the Pulldown-menus following after the result area.
A12: Die Bestimmung des Butterfettgehaltes der Probe erfolgt analytisch über die Parameter Halbmikrobuttersäurezahl (HBSZ), freie Buttersäure (mittels GC) oder Buttersäuremethylester (GC). Die Grundparameter sollen zusätzlich erfasst und ausgewertet werden.
A13: Teilen Sie bei den Parametern freie Buttersäure und Buttersäuremethylester nur Daten mit, die Sie mit Ihrem Verfahren direkt bestimmen (keine Umrechnungen zwischen Buttersäuremethylester und Buttersäure!).
A14: Achtung, die Ergebnisse der beiden Parameter freie Buttersäure und Buttersäuremethylester sollen abweichend von den übrigen auf den Fettgehalt der Probe bezogen werden.
A15: Die berechneten Butterfettgehalte können abhängig vom bestimmten Analyten sein. Tragen Sie daher den von Ihnen berechneten Butterfettgehalt an der "richtigen" Stelle ein.
A16: =IF(OR(ISBLANK(G1),ISBLANK(G2)),"Die Tabelle ist so nicht versandfertig. Es fehlen noch Eingaben bei Kunden-Nr. und/oder Postleitzahl. Nur wenn diese beiden Felder ausgefüllt sind, kann der Absender dieser Tabelle korrekt identifiziert werden.","Wichtig: Sind Ihre Eingaben bei Kunden-Nr. und Postleitzahl korrekt?") -> Die Tabelle ist so nicht versandfertig. Es fehlen noch Eingaben bei Kunden-Nr. und/oder Postleitzahl. Nur wenn diese beiden Felder ausgefüllt sind, kann der Absender dieser Tabelle korrekt identifiziert werden.
A17: Tabelle wurde bereits einmal erfolgreich gesendet, es handelt sich um eine Aktualisierung:
A18: Untersuchungsergebnisse
A19: Parameter | B19: Einheit | C19: Signifikante Stellen | D19: Analysen- gang 1 | E19: Analysen- gang 2 | F19: Aufarbeitung / Verfahren | G19: Weitere Angaben | H19: Vewendete Säuren | J19: Oxida-tionsmittel | K19: Mess- prinzip | L19: Proben- einwaage
A20: aw-Wert | B20: ohne | C20: 2 (3) | F20: =aw!B1 -> 21 | H20: =aw!C1 -> 20
A21: Trockenmasse | B21: g/100 g | C21: 3 | F21: =Wasser!$B$1 -> 28 | H21: =Wasser!$C$1 -> 27
A22: Asche | B22: g/100 g | C22: 3 | F22: =Asche!B1 -> 22 | G22: =Asche!B32 -> 12 | H22: =Asche!$C$1 -> 21 | I22: =Asche!C32 -> 11
A23: Rohprotein (N * 6,25) | B23: g/100 g | C23: 3 | F23: =Rohprotein!$B$1 -> 17 | H23: =Rohprotein!$C$1 -> 16
A24: Fett | B24: g/100 g | C24: 4 | F24: =Fett!$B$1 -> 24 | H24: =Fett!$C$1 -> 23
A25: Fett, gesättigte Fettsäuren | B25: g/100 g | C25: 3 | F25: =Fett_gesaettigt!B1 -> 8 | H25: =Fett_gesaettigt!C1 -> 7
A26: Halbmikrobuttersäurezahl (HBSZ) | B26: ohne | C26: 3 | F26: =HBZ!$B$1 -> 4 | H26: =HBZ!$C$1 -> 3
A27: Butterfett, berechnet über HBSZ | B27: g/100 g | C27: 3 | G27: =IF(ISBLANK(G55),"",G55)
A28: Freie Buttersäure (auf Fett beziehen) | B28: g/100 g Fett | C28: 3 | F28: =Buttersre!$B$1 -> 16 | H28: =Buttersre!$C$1 -> 15
A29: Butterfett, berechnet über Buttersäure | B29: g/100 g | C29: 3 | G29: =IF(ISBLANK(G58),"",G58)
A30: Buttersäuremethylester (auf Fett beziehen) | B30: g/100 g Fett | C30: 3 | F30: =BSME!B1 -> 27 | H30: =BSME!C1 -> 26
A31: Butterfett, berechnet über Buttersäuremethylester | B31: g/100 g | C31: 3 | G31: =IF(ISBLANK(G63),"",G63)
A32: Stärke | B32: g/100 g | C32: 3 | F32: =Stärke!B1 -> 26 | G32: =Stärke!B32 -> 13 | H32: =Stärke!$C$1 -> 25 | I32: =Stärke!$C$32 -> 12
A33: Saccharose, wasserfrei | B33: g/100 g | C33: 4 | F33: =Saccharose!B1 -> 22 | H33: =Saccharose!$C$1 -> 21
A34: Cholesterin (chromatographisch) | B34: mg/100 g | C34: 3 | F34: =Cholesterin!$B$1 -> 33 | H34: =Cholesterin!$C$1 -> 32
A35: Gesamtsterine (enzymatisch) | B35: mg/100 g | C35: 3 | F35: =Gesamtsterine!B1 -> 8 | H35: =Gesamtsterine!C1 -> 7
A36: Ballaststoffe | B36: g/100 g | C36: 3 | F36: =Ballaststoffe!B1 -> 10 | H36: =Ballaststoffe!C1 -> 9
A37: Kochsalz (über Chlorid) | B37: g/100 g | C37: 3 | F37: =Kochsalz!B1 -> 33 | H37: =Kochsalz!C1 -> 32
A38: Natrium | B38: mg/100 g | C38: 3 | F38: =Elemente!B61 -> 39 | G38: =Elemente!B13 -> 14 | H38: =Elemente!B30 -> 6 | I38: =Elemente!C30 -> 6 | J38: =Elemente!B39 -> 4 | K38: =Elemente!B46 -> 12 | L38: =Elemente!B2 -> 8
A39: Beschreibung der verwendeten Analysenverfahren (1)
A40: =A20 -> aw-Wert | I40: =ISBLANK(VLOOKUP(F20,aw!A3:C23,3)) -> TRUE
A41: =IF(F20=H20,"bitte eingeben:",IF(I40,"","Art der Modifikation:"))
A42: =A21 -> Trockenmasse | I42: =ISBLANK(VLOOKUP(F21,Wasser!A3:C36,3)) -> TRUE
A43: =IF(F21=H21,"bitte eingeben:",IF(I42,"","Art der Modifikation:"))
A44: =A22 -> Asche | I44: =ISBLANK(VLOOKUP(F22,Asche!A3:C24,3)) -> TRUE
A45: Veraschungstemperaturbereich
A46: =IF(F22=H22,"bitte eingeben:",IF(I44,"","Art der Modifikation:"))
A47: =A23 -> Rohprotein (N * 6,25) | I47: =ISBLANK(VLOOKUP(F23,Rohprotein!A3:C25,3)) -> TRUE
A48: =IF(F23=H23,"bitte eingeben:",IF(I47,"","Art der Modifikation:"))
A49: =A24 -> Fett | I49: =ISBLANK(VLOOKUP(F24,Fett!A3:C32,3)) -> TRUE
A50: =IF(F24=H24,"bitte eingeben:",IF(I49,"","Art der Modifikation:"))
A51: =A25 -> Fett, gesättigte Fettsäuren | I51: =ISBLANK(VLOOKUP(F25,Fett_gesaettigt!A3:C10,3)) -> TRUE
A52: =IF(F25=H25,"bitte eingeben:",IF(I51,"","Art der Modifikation:"))
A53: =A26 -> Halbmikrobuttersäurezahl (HBSZ) | I53: =ISBLANK(VLOOKUP(F26,HBZ!A3:C19,3)) -> TRUE
A54: =IF(F26=H26,"bitte eingeben:",IF(I53,"","Art der Modifikation:"))
A55: =IF(($F$26-$H$26-1)<0,"Halbmikrobuttersäurezahl (HBSZ) von reinem Milchfett (Ihre Grundlage bei der Berechnung des Milchfettgehaltes):","")
A56: Freie Buttersäure | I56: =ISBLANK(VLOOKUP(F28,Buttersre!A3:C18,3)) -> TRUE
A57: =IF(F28=H28,"bitte eingeben:",IF(I56,"","Art der Modifikation:"))
A58: =IF(($F$28-$H$28-1)<0,"Gehalt von freier Buttersäure [g/100 g] in Milchfett (Ihre Grundlage bei der Berechnung des Milchfettgehaltes):","")
A59: Beschreibung der verwendeten Analysenverfahren (2)
A61: Buttersäuremethylester | I61: =ISBLANK(VLOOKUP(F30,BSME!A3:C29,3)) -> TRUE
A62: =IF(F30=H30,"bitte eingeben:",IF(I61,"","Art der Modifikation:"))
A63: =IF(($F$30-$H$30-1)<0,"Gehalt von Buttersäuremethylester [g/100 g] in Milchfett (Ihre Grundlage bei der Berechnung des Milchfettgehaltes):","")
A64: =A32 -> Stärke | I64: =ISBLANK(VLOOKUP(F32,Stärke!A3:C31,3)) -> TRUE
A65: Untersuchungsprinzip | I65: =ISBLANK(VLOOKUP(F32,Stärke!A34:C46,3)) -> TRUE
A66: =IF(OR(F32=H32,G32=I32),"bitte eingeben:",IF(I64,"","Art der Modifikation:"))
A67: =A33 -> Saccharose, wasserfrei | I67: =ISBLANK(VLOOKUP(F33,Saccharose!A3:C27,3)) -> TRUE
A68: =IF(F33=H33,"bitte eingeben:",IF(I67,"","Art der Modifikation:"))
A69: Cholesterin (chromatographisch) | I69: =ISBLANK(VLOOKUP(F34,Cholesterin!A3:C39,3)) -> TRUE
A70: =IF(F34=H34,"bitte eingeben:",IF(I69,"","Art der Modifikation:"))
A71: Gesamtsterine (enzymatisch) | I71: =ISBLANK(VLOOKUP(F35,Gesamtsterine!A3:C24,3)) -> TRUE
A72: =IF(F35=H35,"bitte eingeben:",IF(I71,"","Art der Modifikation:"))
A73: Ballaststoffe | I73: =ISBLANK(VLOOKUP(F36,Ballaststoffe!A3:C26,3)) -> TRUE
A74: Porenweite des verwendeten Filter(system)s:
A75: =IF(F36=H36,"bitte eingeben:",IF(I73,"","Art der Modifikation:"))
A76: Kochsalz | I76: =ISBLANK(VLOOKUP(F37,Kochsalz!A3:C35,3)) -> TRUE
A77: =IF(F37=H37,"bitte eingeben:",IF(I76,"","Art der Modifikation:"))
A78: Beschreibung der verwendeten Analysenverfahren (3)
F79: =MAX(Elemente!$A$62:$A$100) -> 39 | G79: =MAX(Elemente!$A$14:$A$27) -> 14 | H79: =MAX(Elemente!$A$31:$A$36) -> 6 | I79: =MAX(Elemente!$A$31:$A$36) -> 6 | J79: =MAX(Elemente!$A$40:$A$43) -> 4 | K79: =MAX(Elemente!$A$47:$A$58) -> 12 | L79: =MAX(Elemente!$A$3:$A$10) -> 8
A80: Natrium
A81: Probeneinwaage
A83: Aufschlussprinzip
A84: =IF(Ergebnisse!G38=Ergebnisse!G79-1,"bitte eingeben:","")
A85: verwendete Säure (1)
A86: verwendete Säure (2)
A87: =IF(OR(Ergebnisse!H38=Ergebnisse!H79-1,Ergebnisse!I38=Ergebnisse!I79-1),"bitte eingeben:","")
A88: Oxidationsmittel
A89: =IF(Ergebnisse!J38=Ergebnisse!J79-1,"bitte eingeben:","")
A90: Messprinzip
A91: =IF(Ergebnisse!K38=Ergebnisse!K79-1,"bitte eingeben:","")
A92: Verfahren / Literatur
A93: =IF(Ergebnisse!F38=Ergebnisse!F79-1,"bitte eingeben:","")

Sheet Mitteilungen
A1: Nachfolgend können Sie uns ergänzende Hinweise geben oder wichtige Beobachtungen mitteilen. | H1: =COUNTA(A2:G38) -> 0

Sheet Elemente
A1: Elemente | B1: Na
A2: Probeneinwaage | B2: 8
A3: 1 | B3: < 0,5 g
A4: 2 | B4: 0,5 g - 1,0 g
A5: 3 | B5: 1,0 g - 1,5 g
A6: 4 | B6: 1,5 g - 2,5 g
A7: 5 | B7: 2,5 g - 5,0 g
A8: 6 | B8: 5,0 g - 10,0 g
A9: 7 | B9: > 10,0 g
A10: 8
A13: Aufschluss | B13: 14
A14: 1 | B14: Mikrowellendruckaufschluss
A15: 2 | B15: Druckaufschluss
A16: 3 | B16: Trockenveraschung bei 500 bis 540 °C
A17: 4 | B17: Trockenveraschung bei 540 °C bis 560 °C
A18: 5 | B18: Trockenveraschung bei 560 °C bis 600 °C
A19: 6 | B19: Trockenveraschung bei über 600 °C
A20: 7 | B20: Nassaufschluss
A21: 8 | B21: Verbrennen
A22: 9 | B22: Plasmaaufschluss
A23: 10 | B23: wässrige Extraktion
A24: 11 | B24: Trockenveraschung bei 450 bis 500 °C
A25: 12 | B25: TurboWave
A26: 13 | B26: Sonstiger Aufschluss
A27: 14
A30: Säuren | B30: 6 | C30: 6
A31: 1 | B31: HCl
A32: 2 | B32: HNO3
A33: 3 | B33: H2SO4
A34: 4 | B34: Königswasser
A35: 5 | B35: Sonstige Säure
A36: 6
A39: Oxidationsmittel | B39: 4
A40: 1 | B40: H2O2
A41: 2 | B41: entfällt
A42: 3 | B42: Sonstiges Oxidationsmittel
A43: 4
A46: Messverfahren | B46: 12
A47: 1 | B47: Flammen-AAS
A48: 2 | B48: Flammenemmission
A49: 3 | B49: ICP-MS
A50: 4 | B50: ICP-OES
A51: 5 | B51: CV-AAS
A52: 6 | B52: Flammenphotometrie
A53: 7 | B53: Ionenchromatographie
A54: 8 | B54: ICP-AES
A55: 9 | B55: Ionenselektive Elektrode
A56: 10 | B56: Thermometrische Titration
A57: 11 | B57: Sonstiges
A58: 12
A61: Verfahren | B61: 39
A62: 1 | B62: § 64 LFGB Nr. L 00.00-19/1 (auch modifiziert)
A63: 2 | B63: § 64 LFGB Nr. L 00.00-19/2 (auch modifiziert)
A64: 3 | B64: § 64 LFGB Nr. L 00.00-135 (auch modifiziert)
A65: 4 | B65: § 64 LFGB Nr. L 00.00-144 (auch modifiziert)
A66: 5 | B66: § 64 LFGB Nrn. L06.00-4 / L 06.00-9 (auch modifiziert)
A67: 6 | B67: § 64 LFGB Nr. L 07.00-56 (auch modifiziert)
A68: 7 | B68: § 64 LFGB Nr. L 17.00-17 (auch modifiziert)
A69: 8 | B69: § 64 LFGB Nr. L 26.11.03-10a (auch modifiziert)
A70: 9 | B70: § 64 LFGB Nr. L 26.26-10 (auch modifiziert)
A71: 10 | B71: § 64 LFGB Nr. 31.00-6 (auch modifiziert)
A72: 11 | B72: § 64 LFGB Nr. L 31.00-10 (DIN EN 1134) (auch modifiziert)
A73: 12 | B73: § 64 LFGB Nr. L 49.00-2 (auch modifiziert)
... A99: 38 | B99: Sonstiges
A100: 39

Sheet aw
A1: aw-Wert | B1: 21 | C1: =MAX($A$3:$A$23)-1 -> 20
A2: Methode | B2: Bezeichnung des Analysenverfahrens
A3: 1 | B3: Hausverfahren (bitte Prinzip angeben) | C3: x
A4: 2 | B4: Messung mittels AquaLab Pre (Decagon)
A5: 3 | B5: Messung mit aw-Wert Messgerät Testo 650
A6: 4 | B6: Aquaspector bei 20 °C
A7: 5 | B7: Hygrometrie
A8: 6 | B8: ISO 21807 (auch modifiziert)
A9: 7 | B9: AquaLab 4
A10: 8 | B10: J Kraemer, Lebensmittel-Mikrobiologie (1992): 108; Verlag Eugen Ulmer Stuttgart
A11: 9 | B11: Novasina LabMaster aw (elektrolytische Messzelle / Widerstandsmessung)
A12: 10 | B12: Lufft aW-Wert-Messer
A13: 11 | B13: Direktmessung im Wasseraktivitätsmessgerät SE aw LAB
A14: 12 | B14: Schweizerisches Lebensmittelbuch 64.7 (auch modifiziert)
A15: 13 | B15: Direktmessung am Wasseraktivitätsgerät awTherm Rotronic
... A22: 20 | B22: Bitte eingeben - Please, type in
A23: 21

Sheet Wasser
A1: =Ergebnisse!A21 -> Trockenmasse | B1: 28 | C1: =MAX($A$3:$A$30)-1 -> 27
B2: Bezeichnung des Analysenverfahrens | C2: Modifikation
A3: 1 | B3: § 64 LFGB Nr. L 17.00-1 (18.00-12)
A4: 2 | B4: § 64 LFGB Nr. L 17.00-1 (18.00-12), modifiziert | C4: x
A5: 3 | B5: Trocknung bei 103 °C ± 2 °C
A6: 4 | B6: Trocknung bei 103 °C ± 2 °C mit Seesand
A7: 5 | B7: § 64 LFGB Nr. L 02.06-2
A8: 6 | B8: § 64 LFGB Nr. L 02.06-2 , modifiziert | C8: x
A9: 7 | B9: § 64 LFGB Nr. L 03.00-9
A10: 8 | B10: § 64 LFGB Nr. L 03.00-9, modifiziert | C10: x
A11: 9 | B11: § 64 LFGB Nr. L 06.00-3
A12: 10 | B12: § 64 LFGB Nr. L 06.00-3, modifiziert | C12: x
A13: 11 | B13: § 64 LFGB Nr. L 16.01-1
A14: 12 | B14: § 64 LFGB Nr. L 16.01-1, modifiziert | C14: x
A15: 13 | B15: § 64 LFGB Nr.L 18.00-23
A16: 14 | B16: § 64 LFGB Nr.L 18.00-23, modifiziert | C16: x
A17: 15 | B17: VDLUFA III, 3.1
A18: 16 | B18: Brabender Halbautomat, 20 min bei 130 °C
A19: 17 | B19: Mettler Trockner HR83 Halogen
A20: 18 | B20: Halogentrockner MB 45 Ohaus (130°C Gewichtskonstanz 1 mg pro Minute)
A21: 19 | B21: Karl Fischer
A22: 20 | B22: Trocknungsautomat 103 °C mit Mikrotiegeln mit Seesand
A23: 21 | B23: Trocknungsautomat "prepAsh" bei 105 °C 4 h
A24: 22 | B24: LECO TGA 701
A25: 23 | B25: Trocknung 2h bei 130°C
A26: 24 | B26: Vakuumtrocknung bis zur Gewichtskonstanz
A27: 25 | B27: NIR
A28: 26 | B28: ISO 6731
A29: 27 | B29: Sonstiges
A30: 28

Sheet Asche
A1: =Ergebnisse!A22 -> Asche | B1: 22 | C1: =MAX($A$3:$A$24)-1 -> 21
A2: Methode | B2: Bezeichnung des Analysenverfahrens | C2: Anzahl
A3: 1 | B3: § 64 LFGB Nr. L 17.00-3 (18.00-4)
A4: 2 | B4: § 64 LFGB Nr. L 17.00-3 (18.00-4), modifiziert | C4: x
A5: 3 | B5: Veraschung im nachfolgend angegebenen Temperaturbereich (auch automatisiert)
A6: 4 | B6: § 64 LFGB Nr. L 01.00-77
A7: 5 | B7: § 64 LFGB Nr. L 01.00-77, modifiziert | C7: x
A8: 6 | B8: § 64 LFGB Nr. L 05.00-13
A9: 7 | B9: § 64 LFGB Nr. L 05.00-13, modifiziert | C9: x
A10: 8 | B10: § 64 LFGB Nr. L 06.00-4
A11: 9 | B11: § 64 LFGB Nr. L 06.00-4, modifiziert | C11: x
A12: 10 | B12: § 64 LFGB Nr. L 16.01-2
A13: 11 | B13: § 64 LFGB Nr. L 16.01-2, modifiziert | C13: x
A14: 12 | B14: VDLUFA VI, C 10.2
A15: 13 | B15: ICC 104
A16: 14 | B16: Oxidasche 550°C
A17: 15 | B17: Probe in den kalten Muffelofen dann aufheizen auf 600 °C (insgesamt 3 Stunden)
A18: 16 | B18: Veraschungsautomat 550 °C mit Mikrotiegeln mit Seesand
A19: 17 | B19: LECO TGA 701
A20: 18 | B20: ISO 936, auch modifiziert
A21: 19 | B21: NIR
A22: 20 | B22: Methode A 1 VO (EWG) Nr. 1265/69
A23: 21 | B23: sonstiges
A24: 22
A32: Veraschungstemperatur | B32: 12 | C32: =MAX($A$33:$A$44)-1 -> 11
A33: 1 | B33: < 525 °C
A34: 2 | B34: 525 °C - 575 °C
A35: 3 | B35: 575 °C - 625 °C
A36: 4 | B36: 625 °C - 675 °C
A37: 5 | B37: 675 °C - 725 °C
A38: 6 | B38: 725 °C - 775 °C
A39: 7 | B39: 775 °C - 825 °C
A40: 8 | B40: 825 °C - 875 °C
A41: 9 | B41: 875 °C - 925 °C
A42: 10 | B42: 925 °C - 975 °C
A43: 11 | B43: > 975 °C
A44: 12

Sheet Rohprotein
A1: =Ergebnisse!A23 -> Rohprotein (N * 6,25) | B1: 17 | C1: =MAX($A$3:$A$19)-1 -> 16
A2: Methode | B2: Bezeichnung des Analysenverfahrens | C2: Anzahl
A3: 1 | B3: § 64 LFGB Nr. L 17.00-15
A4: 2 | B4: § 64 LFGB Nr. L 17.00-15, modifiziert | C4: x
A5: 3 | B5: nach Kjeldahl
A6: 4 | B6: nach Dumas
A7: 5 | B7: § 64 LFGB Nr. L 18.00-13
A8: 6 | B8: § 64 LFGB Nr. L 18.00-13, modifiziert | C8: x
A9: 7 | B9: § 64 LFGB Nr. L 06.00-7
A10: 8 | B10: § 64 LFGB Nr. L 06.00-7, modifiziert | C10: x
A11: 9 | B11: VDLUFA III 4.11
A12: 10 | B12: N2-Bestimmung nach LECO
A13: 11 | B13: Titration mit Metrohm Gerätekombination, ohne Destillation
A14: 12 | B14: Nach Kjeldahl mit dem Kjeltec Autosampler-System
A15: 13 | B15: EWG 93/28
A16: 14 | B16: LECO FP528
A17: 15 | B17: NIR
A18: 16 | B18: sonstiges
A19: 17

Sheet Fett
A1: =Ergebnisse!A24 -> Fett | B1: 24 | C1: =MAX($A$3:$A$26)-1 -> 23
A2: Methode | B2: Bezeichnung des Analysenverfahrens
A3: 1 | B3: § 64 LFGB Nr. L 17.00-4
A4: 2 | B4: § 64 LFGB Nr. L 17.00-4, modifiziert | C4: x
A5: 3 | B5: Weibull-Stoldt
A6: 4 | B6: Büchi/Caviezel
A7: 5 | B7: § 64 LFGB Nr. L 18.00-5
A8: 6 | B8: § 64 LFGB Nr. L 18.00-5, modifiziert | C8: x
A9: 7 | B9: § 64 LFGB Nr. L 16.00-5
A10: 8 | B10: § 64 LFGB Nr. L 16.00-5, modifiziert | C10: x
A11: 9 | B11: § 64 LFGB Nr. L 06.00-6
A12: 10 | B12: § 64 LFGB Nr. L 06.00-6, modifiziert | C12: x
A13: 11 | B13: § 64 LFGB Nr. L 01.00-20
A14: 12 | B14: § 64 LFGB Nr. L 01.00-20, modifiziert | C14: x
A15: 13 | B15: VDLUFA VI C 15.2.3
A16: 14 | B16: Soxhlett ohne Säureaufschluss
A17: 15 | B17: HCl-Aufschluss; Extraktion
A18: 16 | B18: Saureaufschluss nach Schweiz.Lebensmittelbuch 36A/6
A19: 17 | B19: EWG 98/64
A20: 18 | B20: Gerstel/Caviezel
A21: 19 | B21: Hydrotherm (Gerhardt)
A22: 20 | B22: ISO 1443, auch modifiziert
A23: 21 | B23: Mikrowellenaufschluss mit anschließender Extraktion
A24: 22 | B24: NIR
A25: 23 | B25: sonstiges
A26: 24

Sheet Fett_gesaettigt
A1: Fett, gesättigt | B1: 8 | C1: =MAX($A$3:$A$10)-1 -> 7 | D1: =MAX($A$3:$A$10)-1 -> 7 | E1: =MAX($A$3:$A$10)-1 -> 7
A2: Methode | B2: Bezeichnung des Analysenverfahrens | C2: gesättigt | D2: Einfach ungesättigte Fettsäuren | E2: Mehrfach ungesättige Fettsäuren
A3: 1 | B3: aus der Fettsäureverteilung und dem bestimmten Fettgehalt
A4: 2 | B4: § 64 LFGB Nr. L 13.00-26/27, auch modifiziert
A5: 3 | B5: DGF- Einheitsmethode C-VI 10a (00) und C-VI 11e (98)
A6: 4 | B6: GC-MS: DGF C-VI 10 a (00), DGF C-VI 11d (98)
A7: 5 | B7: ISO 15885 : 2002-11
A8: 6 | B8: NIR
A9: 7 | B9: Sonstiges
A10: 8

Sheet HBZ
A1: =Ergebnisse!A26 -> Halbmikrobuttersäurezahl (HBSZ) | B1: 4 | C1: =MAX($A$3:$A$6)-1 -> 3
A2: Methode | B2: Bezeichnung des Analysenverfahrens
A3: 1 | B3: § 64 LFGB Nr. L 17.00-8 (18.00-1)
A4: 2 | B4: § 64 LFGB Nr. L 17.00-8 (18.00-1), modifiziert | C4: x
A5: 3 | B5: sonstiges
A6: 4

Sheet Buttersre
A1: =Ergebnisse!A28 -> Freie Buttersäure (auf Fett beziehen) | B1: 16 | C1: =MAX($A$3:$A$18)-1 -> 15
A2: Methode | B2: Bezeichnung des Analysenverfahrens
A3: 1 | B3: § 64 LFGB Nr. L 17.00-13 (18.00-15)
A4: 2 | B4: § 64 LFGB Nr. L 17.00-13 (18.00-15), modifiziert | C4: x
A5: 3 | B5: § 64 LFGB Nr. L 17.00-12
A6: 4 | B6: § 64 LFGB Nr. L 17.00-12, modifiziert | C6: x
A7: 5 | B7: Büchi-Caviezel
A8: 6 | B8: GC nach Schulte Fat Science Technology 91 149 (1989)
A9: 7 | B9: DGF C III-8 (1997),auch modifiziert
A10: 8 | B10: Fett aus Weibull/Stoldt; Methylester/KOH-Methode, GC
A11: 9 | B11: DFG C-VI 11f (2008),auch modifiziert
A12: 10 | B12: Gerstel-Caviezel
A13: 11 | B13: DGF C-VI 11e (1898),auch modifiziert
A14: 12 | B14: Schweizerisches Lebensmittelbuch; 270.1 Bestimmung des Milchfett- und Gesamtfettgehalts mittels direkter Umesterung im Lebensmittel
A15: 13 | B15: NIR
A16: 14 | B16: Dampfraum GC FID
A17: 15 | B17: sonstiges
A18: 16

Sheet BSME
A1: =Ergebnisse!A30 -> Buttersäuremethylester (auf Fett beziehen) | B1: 27 | C1: =MAX($A$3:$A$29)-1 -> 26
A2: Methode | B2: Bezeichnung des Analysenverfahrens
A3: 1 | B3: § 64 LFGB Nr. L 17.00-12 (18.00-9)
A4: 2 | B4: § 64 LFGB Nr. L 17.00-12 (18.00-9), modifiziert | C4: x
A5: 3 | B5: § 64 LFGB Nr. L 01.00-20
A6: 4 | B6: § 64 LFGB Nr. L 01.00-20, modifiziert | C6: x
A7: 5 | B7: § 64 LFGB Nr. L 13.00-27
A8: 6 | B8: § 64 LFGB Nr. L 13.00-27, modifiziert | C8: x
A9: 7 | B9: Schulte et al: Fat Sci Technol 91 181 (1989)
A10: 8 | B10: Veresterung der Fette mittels Natriummethylat nach Schulte, GC
A11: 9 | B11: VO (EWG) Nr. 4154/87
A12: 10 | B12: Umesterung mit methanolischer KOH, GC mit ISTD Valeriansäuremethylester
A13: 11 | B13: Lösen in n-Heptan, Derivatisierung mit methnolischer KOH; GC-FID
A14: 12 | B14: Veresterung der isolierten Fette (Weibull-Stoldt) mitttels Natriummethylat; GC mit FID
A15: 13 | B15: Methylierung, Hexan-Extraktion (ISTD Valeriansäure) Vergleichsstandards analog aufgearbeitet
A16: 14 | B16: GC (mit oder ohne ISTD)
A17: 15 | B17: VO (EG) Nr. 900/08
A18: 16 | B18: DGF K-I 11
A19: 17 | B19: GC-FID nach Umesterung mit Bortrifluorid und Ausschütteln mit tertiärem Butyl-Methylester (ISTD Valeriansäuremethylester
A20: 18 | B20: ISO 15304:2002 / Cor. 1:2003, auch modifiziert
... A28: 26 | B28: sonstiges
A29: 27

Sheet Stärke
A1: =Ergebnisse!A32 -> Stärke | B1: 26 | C1: =MAX($A$3:$A$28)-1 -> 25
A2: Methode | B2: Bezeichnung des Analysenverfahrens | C2: Anzahl
A3: 1 | B3: § 64 LFGB Nr. L 17.00-5 (18.00-6) | D3: 3
A4: 2 | B4: § 64 LFGB Nr. L 17.00-5 (18.00-6), modifiziert | C4: x | D4: 3
A5: 3 | B5: Enzymatisch nach r-biopharm / Roche Nr. 10 207 748 035 | D5: 1 oder 2
A6: 4 | B6: VDLUFA III 7.2.1
A7: 5 | B7: Polarimetrisch | D7: 3
A8: 6 | B8: VO (EWG) Nr. 4154/87 (enzymatisch) | D8: 1 oder 2
A9: 7 | B9: § 64 LFGB Nr. L 48.02.07-3
A10: 8 | B10: § 64 LFGB Nr. L 48.02.07-3, modifiziert | C10: x
A11: 9 | B11: Schweizerisches Lebensmittelbuch Kapitel 22A / 11, 5. Auflage (enzymatisch) | D11: 1 oder 2
A12: 10 | B12: HPLC-RI-Detektion nach saurer und enzymatischer Hydrolyse | D12: 4
A13: 11 | B13: AOAC 996.11
A14: 12 | B14: HPLC-RI-Detektion nach enzymatischer Hydrolyse mit thermostabil alpha-Amylase und Amyloglucosidase | D14: 4
A15: 13 | B15: Polarimetrische Bestimmung des Stärkegehaltes aus Matissek, Schnepel, Steiner S. 157 ff.
A16: 14 | B16: VO (EG) Nr. 900/2008 | D16: 4
A17: 15 | B17: VO (EG) Nr. 118/2010 | D17: 8
A18: 16 | B18: Enzymatische Hydrolyse mit anschließender Ionenchromatographie mit amperometrischer Detektion | D18: 9
A19: 17 | B19: Salzsäureaufschluss, enzymatische Glucose Bestimmung, Umrechnung auf Stärke vgl. L 07.00-33 | D19: 1
A20: 18 | B20: § 64 LFGB Nr. L 07.00-21 | D20: 6
A21: 19 | B21: § 64 LFGB Nr. L 07.00-21, modifiziert | C21: x
A22: 20 | B22: § 64 LFGB Nr. L 07.00-25
A23: 21 | B23: § 64 LFGB Nr. L 07.00-25, modifiziert | C23: x
A24: 22 | B24: Enzymatisch nach Megazyme | D24: 1
A25: 23 | B25: NIR
A26: 24 | B26: SLMB Methode Nr. 467.1 (enzymatisch) | D26: 8
A27: 25 | B27: Sonstiges
A28: 26
B32: 13 | C32: =MAX($A$34:$A$46)-1 -> 12
A33: Methode | B33: Untersuchungsprinzip
A34: 1 | B34: Enzymatisch
A35: 2 | B35: Enzymatisch nach saurer Hydrolyse
A36: 3 | B36: Polarimetrisch
A37: 4 | B37: HPLC nach saurer Hydrolyse
A38: 5 | B38: HPLC nach enzymatischer Hydrolyse
A39: 6 | B39: HPLC nach saurer und enzymatischer Hydrolyse
A40: 7 | B40: Reduktometrisch nach enzymatischer Hydrolyse
A41: 8 | B41: Reduktometrisch nach saurer Hydrolyse
A42: 9 | B42: Enzymatisch nach alkalischer Hydrolyse
A43: 10 | B43: Enzymatisch nach Aufschluss mit alpha-Amylase
A44: 11 | B44: Ionenchromatographie nach enzymatischer Hydrolyse
A45: 12 | B45: Sonstiges
A46: 13

Sheet Saccharose
A1: =Ergebnisse!A33 -> Saccharose, wasserfrei | B1: 22 | C1: =MAX($A$3:$A$24)-1 -> 21
A2: Methode | B2: Bezeichnung des Analysenverfahrens | C2: Anzahl
A3: 1 | B3: Enzymatisch nach r-biopharm / Roche Nr. 10 716 260 035 (Saccharose, D-Glucose, D-Fructose) | D3: E
A4: 2 | B4: Enzymatisch nach r-biopharm / Roche Nr. 10 139 041 035 + PGF 127396 (Saccharose, D-Glucose, D-Fructose) | D4: E
A5: 3 | B5: enzymatisch nach Scil Nr. 1247 (D-Glucose, D-Fructose, Saccharose) | D5: E
A6: 4 | B6: HPLC-Verfahren (diverse Detektoren) | D6: Chrom
A7: 5 | B7: Ionenchromatographie (diverse Detektoren) | D7: Chrom
A8: 6 | B8: enzymatisch, Einzelreagenzien nach Roche
A9: 7 | B9: Enzymatisch nach r-biopharm / Roche Nr. 10 139 041 35 (Saccharose/D-Glucose) | D9: E
A10: 8 | B10: enzymatisch nach Scil Nr. 5180 (Saccharose) | D10: E
A11: 9 | B11: GC-FID als TMS-Derivat | D11: GC
A12: 10 | B12: Enzymatisch nach r.biopharm/Roche Nr. 11 113 950 035 (Saccharose, Glucose, Maltose) | D12: E
A13: 11 | B13: § 64 LFGB Nr. L 40.00-7 | D13: Chrom
A14: 12 | B14: § 64 LFGB Nr. L 40.00-7, modifziert | C14: x | D14: Chrom
A15: 13 | B15: § 64 LFGB Nr. L 05.00-10 | D15: E
A16: 14 | B16: § 64 LFGB Nr. L 05.00-10, modifziert | C16: x | D16: E
A17: 15 | B17: Enzymatisch mittels Enzymfast | D17: E
A18: 16 | B18: Enzymatisch mittels Thermo Fisher Scienc Gallery | D18: E
A19: 17 | B19: Nach SLMB Nr. 501, 2007 Bestimmung von Zucker in Zuckerarten, gaschromatographisch | D19: GC
A20: 18 | B20: NIR | D20: NIR
A21: 19 | B21: § 64 LFGB Nr. L 07.00-24
A22: 20 | B22: § 64 LFGB Nr. L 07.00-24, modifziert | C22: x
A23: 21 | B23: Sonstiges
A24: 22

Sheet Cholesterin
A1: =Ergebnisse!A34 -> Cholesterin (chromatographisch) | B1: 33 | C1: =MAX($A$3:$A$35)-1 -> 32
A2: Methode | B2: Bezeichnung des Analysenverfahrens | C2: Anzahl
A3: 1 | B3: § 64 LFGB Nr. L 18.00-10
A4: 2 | B4: § 64 LFGB Nr. L 18.00-10, modifiziert | C4: x
A5: 3 | B5: § 64 LFGB Nr. L 18.00-17
A6: 4 | B6: § 64 LFGB Nr. L 18.00-17, modifiziert | C6: x
A7: 5 | B7: § 64 LFGB Nr. L 05.00-16
A8: 6 | B8: § 64 LFGB Nr. L 05.00-16 (modifiziert) | C8: x
A9: 7 | B9: § 64 LFGB Nr. L 08.00-57
A10: 8 | B10: § 64 LFGB Nr. L 08.00-57, modifiziert | C10: x
A11: 9 | B11: § 64 LFGB Nr. L 20.01-13
A12: 10 | B12: § 64 LFGB Nr. L 20.01-13, modifiziert | C12: x
A13: 11 | B13: § 64 LFGB Nr. L 22.02/04-1
A14: 12 | B14: § 64 LFGB Nr. L 22.02/04-1, modifiziert | C14: x
A15: 13 | B15: GC nach Schulte: Lebensmittel und Gerichtliche Chemie 42 1 (1998)
A16: 14 | B16: GC nach Schulte: Fat Sci Technol 91 149
A17: 15 | B17: Cholesterin nach Schulte (2003)
A18: 16 | B18: Littmann-Nienstedt: Deutsch Lebensm Rundsch 95 317-322 (1999)
A19: 17 | B19: GC-Schnellmethode: Mitt Gebiete Lebensm Hyg 85 132 (1994)
A20: 18 | B20: Al Hasani et al: J AOAC Int 76 902 (1993)
A21: 19 | B21: Verseifung (ethanolische KOH), Extraktion (Hexan/Dichlormethan), Derivatisierung (MSTFA), GC-FID
A22: 20 | B22: Verseifung mit ISTD, Aliquot mit Calciumcarbonat trocknen, Acetonextraktion, GC-FID
A23: 21 | B23: Cholesterin nach Schulte (Schnellmethode für stärkehaltige Materialien 2006)
A24: 22 | B24: Verseifung mit ethanolischer KOH; Aufreinigung über Aluminiumoxid, GC/FID
A25: 23 | B25: Schweizerisches Lebenmittelbuch Kapitel 20/2.6
A26: 24 | B26: Verseifung mit ethanolischer KOH, Extraktion mit Diethylether, Silylierung (mit Tri-Sil) und GC mit ISTD Betulin
... A34: 32 | B34: Sonstiges
A35: 33

Sheet Gesamtsterine
A1: =Ergebnisse!A35 -> Gesamtsterine (enzymatisch) | B1: 8 | C1: =MAX($A$3:$A$10)-1 -> 7
A2: Methode | B2: Bezeichnung des Analysenverfahrens | C2: Anzahl
A3: 1 | B3: Enzymatisch nach r-biopharm / Roche Bestell-Nr. 10 139 050 035
A4: 2 | B4: § 64 LFGB Nr. L 05.00-17, enzymatisch
A5: 3 | B5: § 64 LFGB Nr. L 05.00-17, enzymatisch, modifiziert | C5: x
A6: 4 | B6: § 64 LFGB Nr. L 13.00-13
A7: 5 | B7: § 64 LFGB Nr. L 13.00-13, modifiziert | C7: x
A8: 6 | B8: NIR
A9: 7 | B9: Sonstiges
A10: 8

Sheet Ballaststoffe
A1: Ballaststoffe | B1: 10 | C1: =MAX($A$3:$A$12)-1 -> 9
A2: Methode | B2: Bezeichnung des Analysenverfahrens | C2: Anzahl
A3: 1 | B3: § 64 LFGB Nr. L 00.00-18
A4: 2 | B4: § 64 LFGB Nr. L 00.00-18, modifiziert | C4: x
A5: 3 | B5: Bioquant Gesamtballaststoffe, Fa. Merck
A6: 4 | B6: AOAC Methode 985.26 (auch modifiziert)
A7: 5 | B7: AOAC Methode 991.43 (auch modifiziert)
A8: 6 | B8: Schweizerisches Lebensmittelbuch (SLMB) 371.1, März 1994
A9: 7 | B9: AOAC Methode 985.29 (auch modifiziert)
A10: 8 | B10: Megazyme K-TDFR Enzyme Assay Kit
A11: 9 | B11: Sonstiges
A12: 10

Sheet Kochsalz
A1: Kochsalz | B1: 33 | C1: =MAX($A$3:$A$35)-1 -> 32
A2: Methode | B2: Bezeichnung des Analysenverfahrens | C2: Anzahl
A3: 1 | B3: § 64 LFGB Nr. L 17.00-6
A4: 2 | B4: § 64 LFGB Nr. L 17.00-6, modifiziert | C4: x
A5: 3 | B5: § 64 LFGB Nr. L 03.00-11;2007-12
A6: 4 | B6: § 64 LFGB Nr. L 03.00-11;2007-12, modifiziert | C6: x
A7: 5 | B7: § 64 LFGB Nr. L 05.02-2
A8: 6 | B8: § 64 LFGB Nr. L 05.02-2, modifiziert | C8: x
A9: 7 | B9: § 64 LFGB Nr. L 06.00-5
A10: 8 | B10: § 64 LFGB Nr. L 06.00-5, modifiziert | C10: x
A11: 9 | B11: § 64 LFGB Nr. L 07.00-5/1
A12: 10 | B12: § 64 LFGB Nr. L 07.00-5/1, modifiziert | C12: x
A13: 11 | B13: § 64 LFGB Nr. L 07.00-5/2, DIN ISO 15923-1:2013
A14: 12 | B14: § 64 LFGB Nr. L 07.00-5/2, DIN ISO 15923-1:2013, modifiziert | C14: x
A15: 13 | B15: § 64 LFGB Nr. L 13.05-4
A16: 14 | B16: § 64 LFGB Nr. L 13.05-4, modifiziert | C16: x
A17: 15 | B17: § 64 LFGB Nr. L 18.00-7
A18: 16 | B18: § 64 LFGB Nr. L 18.00-7, modifiziert | C18: x
A19: 17 | B19: § 64 LFGB Nr. L 20.01/02-4 (nach Mohr)
A20: 18 | B20: § 64 LFGB Nr. L 20.01/02-4 (nach Mohr), modifiziert | C20: x
A21: 19 | B21: § 64 LFGB Nr. L 26.04-1 (potentiometrisch)
A22: 20 | B22: § 64 LFGB Nr. L 26.04-1 (potentiometrisch), modifiziert | C22: x
A23: 21 | B23: § 64 LFGB Nr. L 26.11.03-2
A24: 22 | B24: § 64 LFGB Nr. L 26.11.03-2, modifiziert | C24: x
A25: 23 | B25: § 64 LFGB Nr. L 52.06-3
A26: 24 | B26: § 64 LFGB Nr. L 52.06-3, modifiziert | C26: x
A27: 25 | B27: Potentiometrische Titration mit AgNO3
A28: 26 | B28: Ionenchromatographisch
A29: 27 | B29: nach Mohr
A30: 28 | B30: Schweizerisches Lebensmittelbuch Kapitel 20/2.3
A31: 29 | B31: DGF K-I 4b
A32: 30 | B32: ICP-MS (Chlorid)
A33: 31 | B33: NIR
A34: 32 | B34: Sonstiges
A35: 33
