Workbook
Name _ftn1: Hints1!#REF!
Name _ftn1: Hinweise1!#REF!
Name _ftn1: Hinweise3!$A$3
Name _ftnref1: Hints1!$A$3
Name _ftnref1: Hinweise1!$A$2
Name _ftnref1: Hinweise3!#REF!
Name Daten: #REF!
Name Daten: #REF!
Name MBlei: #REF!
Name MBlei: #REF!
Name OLE_LINK1: Ergebnisangabe!$A$20
Name OLE_LINK1: Reporting!$A$14
Name OLE_LINK2: Reporting!$J$7
Name Parameter2: #REF!
Name Parameter2: #REF!
Name Parameter2: #REF!
Name Parameter2alt: #REF!
Name Parameter2alt: #REF!
Name test: [1]Parameter2!$B$3:$B$18
Name test: [1]Parameter2!$B$3:$B$18
Name test: [1]Parameter2!$B$3:$B$18
Name test: [2]Parameter2!$B$3:$B$18
Name test: [2]Parameter2!$B$3:$B$18
Name test: [1]Parameter2!$B$3:$B$18
Name test: [3]Parameter2!$B$3:$B$18
Name test1: [2]Parameter2!$B$3:$B$18

Sheet Hints1
A1: References to the result transmission and to the indication of result (Deadline see "Ergebnisse")
A2: Before analysing the samples, homogenize the samples again, please. After homogenisation You should analyse both samples with your standard procedures.
A3: Use this file for your result transmissions, please. Fill for this in the file yellow fields deposited out and send back the file afterwards by email to “ergebnisse@lvus.de”. It is important that for the clear allocation of the results to your laboratory in the table "Ergebnisse" (results) your client number and your postal zip code must be entered (both numbers only).
A4: The result data must be given in in the units as described at every parameter. To the avoidance of deviations in the laboratory made roundness, You are asked with each parameter after the first number deviating from 0 to indicate still the listened further numbers (even if due to Your validating data this accuracy is not kept by your analysis procedure). ISO 13 528 4.6 recommends that individual measurement results schould not be rounded by more than sr/2.
A6: Examples for transmissions of results:
A7: It a test material the element "Mg" was quantified. You are asked to report 3 significant numbers. The following computational contents are determined:
A9: Computed Value [mg/kg] | B9: Transmission of result [mg/kg]
A10: 1379 | B10: 1380
A11: 179.34 | B11: 179
A12: 80.12 | B12: 80.1
A13: 7.8 | B13: 7.8

Sheet Reporting

Sheet Hinweise1
A1: Hinweise zur Ergebnisübermittlung und zur Ergebnisangabe
A2: Bitte verwenden Sie diese Datei für Ihre Ergebnisübermittlung. Füllen Sie hierzu alle in der Tabelle "Ergebnisse" gelb hinterlegten Felder aus bzw. wählen Sie Ihre Angaben zu den von Ihnen verwendeten Methoden über die vorhandenen Auswahlfenster aus.
A3: Die ausgefüllte Exceltabelle muss per eMail als Anlage bis spätestens zur Deadline an eine der beiden Adressen ergebnisse@lvus.de oder results@lvus.de gesendet werden. Bitte beachten Sie, dass Ihre eMail nur die Exceltabelle als Anlage enthalten darf. Ausser Ihrem Absender soll die eigentliche eMail keine weiteren Daten oder Texte enthalten, da alle an die Adressen ergebnisse@lvus.de oder results@lvus.de gesendeten eMails automatisch ausgelesen werden.
A4: Nach der in der Tabelle "Ergebnisse" aufgeführten Deadline eingehende Ergebnisse werden bei der Auswertung nicht berücksichtigt.
A5: Es ist wichtig, dass Sie zur eindeutigen Zuordnung der Ergebnisse zu Ihrem Labor sowohl Ihre Kunden-Nr. als auch Ihre Postleitzahl (auf dem Anschreiben enthalten - nur Ziffern eingeben) eingeben. Über eine bei der Auswertung durchgeführte Plausibilitätsprüfung soll erkannt werden, ob Tippfehler vorliegen und dadurch die Daten einem anderen Teilnehmer zugeordnet werden könnten.
A6: Interne Teilnahme: Diesen Wert bitte nur ändern, falls Sie für Ihr Haus mehrere getrennte und damit kostenpflichtige Teilnahmen gebucht haben. Über diesen Wert werden die unter einer Kundennummer geführten Teilnahmen getrennt erfasst und die Ergebnisse anschließend der Auswertung zugeführt. Entscheiden Sie, welcher Ihrer Laborbereiche unter der Teilnahme 1 oder 2 registirert und ausgewertet werden soll.
A7: Die Ergebnisangaben müssen in der/den vorgegebenen Maßeinheiten erfolgen - Ihre Angaben werden ohne Änderungen zur Auswertung verwendet! Zur Vermeidung von Abweichungen durch bereits im Labor vorgenommene Rundungen werden Sie gebeten, bei jedem Parameter eine bestimmte Anzahl signifikanter Ziffern anzugeben (auch wenn auf Grund Ihrer Validierungsdaten diese Genauigkeit von Ihrem Analysenverfahren nicht eingehalten wird). Nach ISO 13528 Abschnitt 4.6 sollen Ergebnisse nicht stärker gerundet werden als dem halben Betrag der Wiederholstandardabweichung entspricht.
A8: Beispiele zur Ergebnisangabe: In einer Probe wurde der Gehalt von Mangan bestimmt. Es werden folgende rechnerischen Gehalte ermittelt:
A9: Beispielhafter Wert [mg/kg] | B9: Ergebnisangabe mit 3 signifikanten Ziffern [mg/kg]
A10: 1379 | B10: 1380
A11: 179.34 | B11: 179
A12: 80.12 | B12: 80.1
A13: 7.8 | B13: 7.8
A15: Verfahren sowie Literaturangaben, die von Teilnehmern bei bereits durchgeführten Laborvergleichsuntersuchungen angewendet wurden, sind in Auswahlfenstern vorbelegt, um Ihnen das Ausfüllen zu erleichtern. Über diese Auswahlfenster wählen Sie bitte diejenigen Einträge aus, die bei den von Ihnen angewandten Verfahren zutreffend sind. Ist kein zutreffender Eintrag vorhanden, so wählen Sie bitte den Eintrag "sonstiges.." aus. Tragen Sie dann in der nächsten Zeile (wird gelb hervorgehoben) die auf Ihr Verfahren zutreffende Beschreibung ein.
A16: Geben Sie in der Tabelle "Kontakt" den Namen, die eMail-Adresse sowie die Telefonnummer der Kontaktperson an, die wir bei Fragen kontaktieren können. Nach Fertigstellung der Auswertung soll an die angegebene eMail-Adresse zusätzlich zur gedruckten Auswertung auch eine Passwort-freie Auswertedatei im PDF-Format gesendet werden.
A17: Sollten Sie uns ergänzende Hinweise/Beobachtungen mitteilen wollen, so verwenden Sie hierfür den vorgesehenen Bereich innerhalb der Tabelle "Mitteilungen".
A18: Da Ihre eMail automatisch weiterverarbeitet wird, dürfen nur in der Exceltabelle Kommentare oder Hinweise zu den Proben und durchgeführten Untersuchungen enthalten sein. Außerdem darf Ihre eMail nur eine einzige Anlage enthalten. Sie erhalten automatisch eine Benachrichtigung über den Eingang Ihrer Ergebnisse.

Sheet Hinweise2
A1: Erläuterungen zur Weiterverarbeitung Ihrer Daten
A2: Diese Tabellen wurden so aufgebaut, dass die Daten automatisiert in unser Auswerteprogramm übernommen werden können. Die Tabellen dürfen daher keinesfalls im Aufbau verändert werden, da dann ein automatisiertes Auslesen der mitgeteilten Daten nicht mehr möglich wäre.
A3: Aus diesem Grund wurden die Tabellen gegen Veränderungen geschützt. Eingaben oder auch die Auswahl von Eigenschaften sind nur an wenigen Stellen nötig. Diese Stellen sind gelb hinterlegt.
A4: Da das Ausführen von Macros eine potentielle Gefährdung von Computersystemen bedeuten kann, gehen wir davon aus, dass ausführbare Macros in zahlreichen Fällen von den entsprechenden System-Administratoren unterdrückt werden. Deshalb wurde auf die Verwendung von Macros bei der Erstellung der Tabellen zur Ergebniserfassung komplett verzichtet, obwohl damit ein komfortableres Arbeiten möglich wäre.
A5: Beim Eingang Ihrer eMail wird diese von unserem System automatisch weiterverarbeitet, wobei einige Plausibilitäten (z.B. Vollständigkeit der Absenderangabe oder Kennzeichnung als Update bei erneuter Dateneinsendung) überprüft werden. Im Anschluss an diese Prüfung erhalten Sie automatisiert eine eMail-Antwort. Darin werden Sie darüber informiert, ob Ihre Daten prinzipiell weiterverarbeitet werden können oder ob benötigte Einträge fehlen und Sie Ihre Ergebnisse nach Ergänzung der fehlenden Angaben erneut einsenden sollen. Eine Prüfung auf Vollständigkeit von Ergebnisangaben (sind überhaupt Ergebnnisdaten vorhanden?) oder deren Angabe in den vorgegebenen Maßeinheiten wird zu diesem Zeitpunkt nicht vorgenommen.
A6: Sollten Sie noch vor dem Ende der Ergebnisannahme bemerken, dass in Ihrer Ergebnistabelle Fehler enthalten sind, so senden Sie einfach eine korrigierte Version an die Adresse ergebnisse@lvus.de. Kennzeichnen Sie in diesem Fall Ihre Tabelle als Aktualisierung, da ansonsten das System die Annahme der Daten zurückweist ("es sind ja bereits Daten von Ihnen vorhanden"). Ihre aktualiserte Ergebnistabelle muss vollständig ausgefüllt sein und insbesondere alle Ergebnisdaten der Vorversion enthalten, da bei einer Kennzeichung als Aktualiserung (Update) die zuvor eingesandte Ergebnistabelle durch die Aktualisierung vollständig ersetzt wird.
A7: Ihre Daten werden von uns wie mitgeteilt zur Auswertung verwendet. Selbst offensichtliche Fehler, wie - Tippfehler, - Übertragungsfehler in die Ergebniserfassungstabelle, - Angaben in einer anderen, von der Vorgabe abweichenden Maßeinheit werden zur Auswertung unverändert, also ohne Änderung übernommen und führen dann zu schlechten Bewertungen. Daher sollten Sie Ihre Eingaben sorgfältig durchführen und dabei insbesondere auch überprüfen, ob Ihre laborüblichen Maßeinheiten mit denen im Tabellenblatt übereinstimmen.
A8: Nach Ende der Frist zur Ergebnisabgabe sind Korrekturen nur noch möglich, falls die Auswertung der Daten noch nicht erfolgt ist. Korrekturen von fehlerhaften Teilnehmerangaben werden nach der Auswertung und insbesondere nach Veröffentlichung des Protokolls nicht mehr durchgeführt.

Sheet Hinweise3
A1: Hinweise zur Auswertung
A2: Die Beurteilung der Laborergebnisse erfolgt durch Z-Scores, die möglichst über die Vergleichsstandardabweichung des jeweiligen Standardverfahrens aus der Amtlichen Sammlung nach § 64 LFGB berechnet werden. Zusätzlich werden Z-Scores über die nach der Horwitz- funktion ermittelte Zielstandardabweichung für den jeweiligen Analyten berechnet.
A3: Mit abnehmenden Gehalten von Analyten in der Probe steigt die über die Horwitzfunktion berechnete Zielstandardabweichung stark an. So beträgt z.B. die relative Standardabweichung nach Horwitz 10 % bei einem Analytgehalt von 23 mg/kg und bereits 22,6 % bei einem Analytgehalt von 100 µg/kg.
A4: Zur Vermeidung zu „breiter“ Beurteilungszonen wird deshalb bei der Auswertung bei allen Parametern der Wert der Zielstandardabweichung auf maximal 22 % vom Wert des Medians beschränkt.
A5: Zunächst werden alle mitgeteilten Laborergebnisse berücksichtigt und die darüber berechneten statistischen Kenndaten für die Parameter aufgeführt.
A6: Zur Ermittlung der endgültigen statistischen Kenndaten werden bei allen in den Proben enthaltenen Wirkstoffe Zweitberechnungen durchgeführt. Bei diesen Zweitberechnungen bleiben generell die Ergebnisdaten von allen Laboratorien unberücksichtigt, deren Ergebnisse um mehr als 5 Zielstandardabweichungen (5 Z-Scores) vom Median des Analyten abweichen.
A7: Darüber hinaus bleiben bei allen Parametern zusätzlich alle Ergebnisse unberücksichtigt, die um mehr als 50 % vom Median abweichen und bei denen gleichzeitig der Betrag des Z-Score größer als 3 ist. Diese Regelung greift bei allen Parametern mit Analytgehalten unter 23 mg/kg.

Sheet Ergebnisangabe
A1: Hinweise zum Erfassen und Einsenden der Untersuchungsergebnisse
A2: Zur Bestimmung der Parameter sollen zwei vollständig getrennte Analysengänge durch¬geführt werden. Verwenden Sie für die Analysengänge 1 und 2 Probenmaterial aus verschiedenen Probeneinheiten.
A3: Benutzen Sie für die Ergebnisübermittlung diese vordefinierte Tabelle im Excelformat. Die Tabelle steht auch auf unserer Homepage (www.lvus.de) im Bereich „Download“ bereit.
A4: Geben Sie im Register "Kontakt" den Namen, die eMail-Adresse sowie die Telefonnummer der Kontaktperson an, die wir bei Fragen kontaktieren können. Nach Fertigstellung des Protokolls wird ausschließlich an die dort angegebenen eMail-Adressen vorab ein Passwort-freies Protokoll im PDF-Format gesendet.
A5: Tragen Sie im Register „Ergebnisse“ unbedingt Ihre Kundennummer und Ihre Postleitzahl ein, da darüber die Identifizierung des Einsenders erfolgt. In die beiden Datenfelder „Kundennummer“ und „Postleitzahl“ dürfen nur Ziffern eingegeben werden.
A6: Die Felder zur Eingabe Ihrer Ergebnisdaten sind nicht mit einer festen Nachkommazahl vordefiniert, um keine Hinweise auf eventuelle Gehalte von Parametern zu geben.
A7: Beachten Sie die Hinweise zu den gültigen (signifikanten) Ziffern bei den Parametern. Die Anzahl der Ziffern ist so zu wählen, dass beide Ergebnisse nur im Ausnahmefall aus iden¬tischen Ziffernfolgen bestehen. In einigen Fällen, z.B. bei Gehalten um 10 %, ist die Vorgabe gültiger Stellen schwierig: Die Ergebnisse „10,16% und 9,94% sind vergleichbar, nicht aber „10,2%“ und „9,94%“. Die Angabe einer zusätzlichen gültigen Stelle ist hier angebracht.
A8: Über Auswahlfelder sind gängige Untersuchungsverfahren bereits vordefiniert, um das Ausfüllen bei den Untersuchungsverfahren zu erleichtern. Sollten Sie ein nicht aufgeführtes Verfahren anwenden, wählen Sie „sonstiges“ aus und tragen Ihr Verfahren dann ein. Sofern weitere Informationen zur Auswertung nötig sind, werden auch gängige Verfahrensprinzipien und/oder Bezugsquellen kommerziell vertriebener Testsätze in ähnlicher Weise vordefiniert.
A9: In zahlreichen Fällen wird auch nachgefragt, ob Sie streng nach der Vorschrift gemäß § 64 LFGB arbeiten. Streng bedeutet, dass Sie ohne prüfrelevante Abweichungen arbeiten. Sollte die Abweichung lediglich die untersuchte Matrix sein (z.B. Ketchup anstelle von Brühwurst), dann soll dies nicht als Modifikation gekennzeichnet werden.
A10: Da Ihre eMail automatisch weiterverarbeitet wird, dürfen nur innerhalb der Exceltabelle in vordefinierten Bereichen Kommentare oder Hinweise zu den Proben und durchgeführten Untersuchungen enthalten sein (z.B. im Register „Mitteilungen“).
A11: Senden Sie uns die vollständig ausgefüllte Ergebnisdatei als Anlage im aktuellen Excelformat (Datei-Endung ".xlsx") oder im Format von Excel 2000 (Datei-Endung ".xls") per eMail an die Adresse „ergebnisse@lvus.de“. Ihre eMail darf nur eine einzige Anlage enthalten. eingesendete Tabellen verarbeiten.
A12: Nach dem Eingang in unserer Mailbox "ergebnisse@lvus.de" erhalten Sie automatisch eine Benachrichtigung/Bestätigung über den Eingang Ihrer eMail.
... A15: Senden Sie elektronisch mitgeteilte Ergebnisse nicht noch zusätzlich per Post oder Telefax.

Sheet Kontakt
A1: Kontaktperson | C1: Contact person
A2: Name | C2: Name
A3: eMail | C3: eMail-Address
A4: Telefon (inklusive Vorwahl): | C4: telefone (including country and area code)
A6: Bitte geben Sie den Namen, eMail-Adresse und die Telefonnummer der Person an, die wir bei Rückfragen kontaktieren können. An die aufgeführte eMailadresse wird das Protokoll zusätzlich auch als Passwort-freie PDF-Datei gesendet.
A8: Type in name, e-mail address and telefone number of the person we can contact in case of any questions, please. In addition to a printed version we will send a PDF-document (passwort-free) of the report to this e-mail address.
A10: Falls die Auswertung zusätzlich noch an eine zweite Adresse gesendet werden soll, geben Sie die zweite Adresse getrennt durch ein Semikolon mit nachfolgendem Leerzeichen ein.
A11: In case the PDF-document of the report should be sent to a second e-mail address seperate both e-mail addresses by typing in a semicolon followed by a blank.
A12: Beispiel für die Eingabe von 2 eMail-Adressen: Example how to type in 2 different e-mail addresses: | C12: info@lvus.de; ergebnisse@lvus.de
A15: eMail-Kontrolle: | C15: check of the e-Mail address
A16: Ergebnis der Überprüfung: | B16: =IF(ISBLANK(B15),"",IF(B3=B15,"Kontrolle erfolgreich - check ok","FEHLER - ERROR")) | C16: result of the control
B17: =IF(ISBLANK(B15),"",IF(ISERROR(FIND("@",B15,1)),"keine gültige eMail-Adresse",IF((VALUE(FIND("@",B15,1))>1),"","keine gültige eMail-Adresse!")))
B18: =IF(ISBLANK(B15),"",IF(ISERROR(FIND("@",B15,1)),"no valid eMail-adress",IF((VALUE(FIND("@",B15,1))>1),"","no valid eMail-address!")))
B19: =IF(ISBLANK(B15),"",IF(ISERROR(FIND("; ",B15,1)),"",IF((VALUE(FIND("; ",B15,1))>8),"","Achtung - die zweite eMail-Adresse wurde nicht korrekt eingegeben")))

Sheet Teilnehmerdaten
A1: Kundennummer | B1: =IF(ISNUMBER(VALUE(Ergebnisse!G1)),IF(VALUE(Ergebnisse!G1)>0,VALUE(Ergebnisse!G1),""),"") | D1: Umformung
A2: Postleitzahl | B2: =IF(ISNUMBER(VALUE(Ergebnisse!G2)),IF(VALUE(Ergebnisse!G2)>0,VALUE(Ergebnisse!G2),""),"")
A3: Produkt | B3: 02b | D3: Auswahl
A4: Jahrgang | B4: =YEAR(Ergebnisse!E5) -> 2020 | D4: 2
A5: Update | B5: =D8 -> N | D5: =IF(D4=2,"N","J") -> N | F5: 1 | G5: ja / yes
A6: Teilnahmen | B6: =Ergebnisse!G3 -> 1 | F6: 2 | G6: nein / no
A7: Deadline | B7: =Ergebnisse!E5 -> 43919
A8: Parameterzahl | B8: 20 | D8: =LEFT(D5,1) -> N
A9: Bestimmungen je Parameter | B9: 2
A10: Parameter 1 | B10: Fett | C10: g/100 g
A11: Parameter 2 | B11: Halbmikrobuttersäurezahl (HBSZ) | C11: ohne
A12: Parameter 3 | B12: Milchfett, berechnet über HBSZ | C12: g/100 g
A13: Parameter 4 | B13: Freie Buttersäure (auf Fett beziehen) | C13: g/100 g Fett
A14: Parameter 5 | B14: Milchfett, berechnet über Buttersäure | C14: g/100 g
A15: Parameter 6 | B15: Buttersäuremethylester (auf Fett beziehen) | C15: g/100 g Fett
A16: Parameter 7 | B16: Milchfett, berechnet über Buttersäuremethylester | C16: g/100 g
A17: Parameter 8 | B17: Benzoesäure (als freie Säure) | C17: mg/kg
A18: Parameter 9 | B18: Sorbinsäure (als freie Säure) | C18: mg/kg
A19: Parameter 10 | B19: Erythrit | C19: mg/kg
A20: Parameter 11 | B20: Xylit | C20: mg/kg
A21: Parameter 12 | B21: Saccharin (als freies Imid) | C21: mg/kg
... A29: Parameter 20 | B29: pH-Wert | C29: ohne

Sheet Ergebnisse
A1: Ergebnisdatenblatt | E1: Kunden-Nr.
A2: Fischerzeugnisse, erweiterte Parameter | E2: Postleitzahl
E3: interne Teilnahme: | G3: 1
A4: Einsendeadresse: | B4: ergebnisse@lvus.de | F4: =IF(ISBLANK(G1),"",IF(ISNUMBER(VALUE(G1)),"","Bitte nur Ziffern eingeben (numbers only)"))
A5: Annahmeschluss/Deadline: | E5: 43919 | F5: =IF(ISBLANK(G2),"",IF(ISNUMBER(VALUE(G2)),"","Bitte nur Ziffern eingeben (numbers only)"))
A7: Schreiben Sie Ihre Daten in die gelb hinterlegten Felder. Geben Sie Ihre Ergebnisse in den aufgeführten Einheiten an. Write your data into the yellow cells. Give your results in the units of column 2.
A8: Geben Sie Ihre Ergebnisse mit den in Spalte 3 aufgeführten signifikanten Stellen an. Beispiele hierzu sind in "Hinweise1" enthalten. Report your results with in column 3 shown significant numbers (there are some examples in sheet "hints1" .
A9: In einigen Fällen, z.B. bei Gehalten um 1 % oder 10 %, ist die Vorgabe gültiger Stellen schwierig: Die Ergebnisse „1,06% und 0,98% sind vergleichbar, nicht aber „1,1 %“ und „0,98%“. Die Angabe einer zusätzlichen gültigen Stelle beim Beispielwert 1,06 ist hier angebracht.
A10: Sollte ein Inhaltsstoff nicht bestimmbar sein, so teilen Sie uns bitte den Wert Ihrer Bestimmungsgrenze mit vorangestelltem "< “ mit. In cases you will not detect a parameter, report your limit of quantification with "< " in front of the value.
A11: Falls Sie einen Parameter nicht bearbeiten, lassen Sie die zugehörigen Ergebnisdatenfelder bitte leer. If you are not analysing parameters in your laboratory do not write anything into the corresponding fields for the results.
A12: Zur Beschreibung des Analysenverfahrens verwenden Sie bitte die im unteren Teil dieses Datenblatts enthaltenen Auswahlfelder. To describe your method use the Pulldown-menus following after the result area.
A13: =IF(OR(ISBLANK(G1),ISBLANK(G2)),"Die Tabelle ist so nicht versandfertig. Es fehlen noch Eingaben bei Kunden-Nr. und/oder Postleitzahl.","Wichtig: Sind Ihre Eingaben bei Kunden-Nr. und Postleitzahl korrekt?") -> Die Tabelle ist so nicht versandfertig. Es fehlen noch Eingaben bei Kunden-Nr. und/oder Postleitzahl.
A14: =IF(OR(ISBLANK(G1),ISBLANK(G2)),"Nur wenn diese beiden Felder ausgefüllt sind, kann der Absender dieser Tabelle korrekt identifiziert werden.","") -> Nur wenn diese beiden Felder ausgefüllt sind, kann der Absender dieser Tabelle korrekt identifiziert werden.
A15: Tabelle wurde bereits einmal erfolgreich gesendet, es handelt sich um eine Aktualisierung: This table was sent before, successfully. It is an update:
A16: Bitte senden Sie Ihre Ergebnisse ausschließlich im Excel-Format (.XLSX oder .XLS) an ergebnisse@lvus.de ein.
A17: Parameter | B17: Einheit | C17: Signifikante Stellen | D17: Analysen- gang 1 | E17: Analysen- gang 2 | F17: Verfahren / Literatur
A19: Fett | B19: g/100 g | C19: 3 | F19: =Fett!$B$1 -> 19 | H19: =Fett!$C$1 -> 18
A20: Halbmikrobuttersäurezahl (HBSZ) | B20: ohne | C20: 3 | F20: =HBSZ!B1 -> 5 | H20: =HBSZ!$C$1 -> 4
A21: Milchfett, berechnet über HBSZ | B21: g/100 g | C21: 3
A22: Freie Buttersäure (auf Fett beziehen) | B22: g/100 g Fett | C22: 3 | F22: =Buttersäure!B1 -> 7 | H22: =Buttersäure!$C$1 -> 6
A23: Milchfett, berechnet über Buttersäure | B23: g/100 g | C23: 3
A24: Buttersäuremethylester (auf Fett beziehen) | B24: g/100 g Fett | C24: 3 | F24: =BSME!$B$1 -> 17 | H24: =BSME!$C$1 -> 16
A25: Milchfett, berechnet über Buttersäuremethylester | B25: g/100 g | C25: 3
A26: Benzoesäure (als freie Säure) | B26: mg/kg | C26: 3 | F26: =Benzoesäure!B1 -> 14 | H26: =Benzoesäure!C1 -> 13
A27: Sorbinsäure (als freie Säure) | B27: mg/kg | C27: 3 | F27: =Sorbinsäure!B1 -> 14 | H27: =Sorbinsäure!C1 -> 13
A28: Acesulfam K | B28: mg/kg | C28: 3 | F28: =Sacc_Ace_Aspar!D3 -> 18 | H28: =Sacc_Ace_Aspar!C1 -> 18
A29: Aspartam | B29: mg/kg | C29: 3 | F29: =Sacc_Ace_Aspar!E3 -> 18 | H29: =Sacc_Ace_Aspar!C1 -> 18
A30: Erythrit | B30: mg/kg | C30: 3 | F30: ='Xylit-Erythrit'!D2 -> 11 | H30: ='Xylit-Erythrit'!C1 -> 10
A31: Xylit | B31: mg/kg | C31: 3 | F31: ='Xylit-Erythrit'!E2 -> 11 | H31: ='Xylit-Erythrit'!C1 -> 10
A32: Saccharin (als freies Imid) | B32: mg/kg | C32: 3 | F32: =Sacc_Ace_Aspar!F3 -> 19 | H32: =Sacc_Ace_Aspar!C1 -> 18
A33: Cyclamat (als freie Säure) | B33: mg/kg | C33: 3 | F33: =Cyclamat!B1 -> 8 | H33: =Cyclamat!C1 -> 7
A34: Citronensäure (wasserfrei) | B34: mg/kg | C34: 3 | F34: =Citronensäure!B1 -> 14 | H34: =Citronensäure!C1 -> 13
A35: Arsen | B35: mg/kg | C35: 3 | F35: =As!B58 -> 20 | H35: =As!C58 -> 19
A36: Jod | B36: µg/kg | C36: 3 | F36: =Iod!B1 -> 11 | H36: =Iod!C1 -> 10
A37: Glutaminsäure | B37: mg/kg | C37: 3 | F37: =Glutaminsre!B1 -> 16 | H37: =Glutaminsre!C1 -> 15
A38: Steviosid | B38: mg/kg | C38: 3 | F38: =Stevio!D2 -> 4 | H38: =Stevio!C1 -> 3
A39: Rebaudiosid A | B39: mg/kg | C39: 3 | F39: =Stevio!E2 -> 4 | H39: =Stevio!C1 -> 3
A40: pH-Wert | B40: ohne | C40: 3 | F40: ='pH-Wert'!$B$1 -> 8 | H40: ='pH-Wert'!$C$1 -> 7
A41: Beschreibung der verwendeten Analysenverfahren, Teil 1
A42: Fett | I42: =ISBLANK(VLOOKUP(F19,Fett!A3:C21,3)) -> TRUE
...

Sheet Mitteilungen
A1: Nachfolgend können Sie uns ergänzende Hinweise geben oder wichtige Beobachtungen mitteilen. | H1: =COUNTA(A2:G38) -> 0

Sheet pH-Wert
A1: pH-Wert | B1: 8 | C1: =MAX($A$3:$A$10)-1 -> 7
A2: Methode | B2: Bezeichnung des Analysenverfahrens | C2: Anzahl
A3: 1 | B3: § 64 LFGB Nr. L 06.00-2 (1980-09), 07.00-2 (1980-09)
A4: 2 | B4: § 64 LFGB Nr. L 06.00-2 (1980-09), 07.00-2 (1980-09), modifiziert oder andere Version | C4: x
A5: 3 | B5: Potentiometrisch
A6: 4 | B6: Einstichelektrode
A7: 5 | B7: Oberflächenmessung
A8: 6 | B8: § 64 LFGB L31.00-2 (auch modifiziert)
A9: 7 | B9: Sonstiges
A10: 8

Sheet Glutaminsre
A1: Glutaminsäure | B1: 16 | C1: =MAX($A$3:$A$18)-1 -> 15
A2: Methode | B2: Bezeichnung des Analysenverfahrens | C2: Anzahl
A3: 1 | B3: § 64 LFGB Nr. L 07.00-17 (2008-06)
A4: 2 | B4: § 64 LFGB Nr. L 07.00-17 (2008-06), modifiziert oder andere Version | C4: x
A5: 3 | B5: § 64 LFGB L 07.00-59 (2008-06)
A6: 4 | B6: § 64 LFGB L 07.00-59 (2008-06), modifiziert oder andere Version | C6: x
A7: 5 | B7: § 64 LFGB Nr. L 01.00-7
A8: 6 | B8: § 64 LFGB Nr. L 01.00-7, modifiziert | C8: x
A9: 7 | B9: Enzymatisch nach Roche / r-biopharm Nr. 10 139 092 035
A10: 8 | B10: HPLC (Vorsäulenderivatiserung)
A11: 9 | B11: Aminosäurenanalysator
A12: 10 | B12: Enzymatisch nach Scil Diagnostics 1269
A13: 11 | B13: HPLC nach Derivatisierung
A14: 12 | B14: Aufarbeitung nach § 64 LFGB Nr. L 07.00-17 (2008-06), enzymatisch nach Roche / r-biopharm Nr. 10 139 092 035
A15: 13 | B15: Enzymatisch mit Testkit von Megazyme
A16: 14 | B16: Enzymatisch mittels Thermo Gallery
A17: 15 | B17: Sonstiges
A18: 16

Sheet Xylit-Erythrit
A1: Xylit-Erythrit | B1: 4 | C1: =MAX($A$3:$A$13)-1 -> 10 | D1: Erythrit | E1: Xylit
A2: Methode | B2: Bezeichnung des Analysenverfahrens | C2: Modifikation | D2: 11 | E2: 11
A3: 1 | B3: § 64 LFGB Nr. L 00.00-72
A4: 2 | B4: § 64 LFGB Nr. L 00.00-72, modifiziert | C4: x
A5: 3 | B5: § 64 LFGB Nr. L 00.00-59
A6: 4 | B6: § 64 LFGB Nr. L 00.00-59, modifiziert | C6: x
A7: 5 | B7: Enzymatisch nach r-biopharm / Roche Nr. 10 670 057 035
A8: 6 | B8: HPLC (diverse Detektoren)
A9: 7 | B9: HPAEC-PAD
A10: 8 | B10: HRGC
A11: 9 | B11: GC-FID
A12: 10 | B12: Sonstiges
A13: 11

Sheet Stevio
A1: Stevio | C1: =MAX($A$3:$A$6)-1 -> 3 | D1: Steviosid | E1: Rebaudiosid A
A2: Methode | B2: Bezeichnung des Analysenverfahrens | C2: Anzahl | D2: 4 | E2: 4
A3: 1 | B3: FAO (2010) JECFA Monographs 10
A4: 2 | B4: HPLC-UV
A5: 3 | B5: Sonstiges
A6: 4

Sheet Sacc_Ace_Aspar
A1: Saccharin | C1: =MAX($A$3:$A$21)-1 -> 18
A2: Methode | B2: Bezeichnung des Analysenverfahrens | C2: Saccharin | D2: Acesulfam K | E2: Aspartam | F2: Saccharin
A3: 1 | B3: § 64 LFGB Nr. L 00.00-9 | D3: 18 | E3: 18 | F3: 19
A4: 2 | B4: § 64 LFGB Nr. L 00.00-9, modifiziert | C4: x
A5: 3 | B5: § 64 LFGB Nr. L 00.00-28
A6: 4 | B6: § 64 LFGB Nr. L 00.00-28, modifiziert | C6: x
A7: 5 | B7: § 64 LFGB Nr. L 32.00-1
A8: 6 | B8: § 64 LFGB Nr. L 32.00-1, modifiziert | C8: x
A9: 7 | B9: § 64 LFGB Nr. L 32.00-3
A10: 8 | B10: § 64 LFGB Nr. L 32.00-3, modifiziert | C10: x
A11: 9 | B11: § 64 LFGB Nr. L 32.00-4
A12: 10 | B12: § 64 LFGB Nr. L 32.00-4, modifiziert | C12: x
A13: 11 | B13: Deutsch Lebensm Rundsch 86 348 (1990)
A14: 12 | B14: Deutsch Lebensm Rundsch 89 (1993)
A15: 13 | B15: Schweizerisches Lebensmittelbuch, Kapitel 41 / 2.7 (Sept. 99)
A16: 14 | B16: Extraktion, Filtrieren oder Klären der Probe, HPLC (diverse Ausführungen)
A17: 15 | B17: keine spezielle Probenvorbreitung, HPLC (diverse Ausführungen)
A18: 16 | B18: HPLC (diverse Ausführungen) mit Online SPE
A19: 17 | B19: HPLC-MS/MS
A20: 18 | B20: Sonstiges
A21: 19

Sheet Iod
A1: Iod | B1: 11 | C1: =MAX($A$3:$A$13)-1 -> 10
A2: Methode | B2: Bezeichnung des Analysenverfahrens | C2: Anzahl
A3: 1 | B3: § 64 LFGB Nr. L 49.00-6
A4: 2 | B4: § 64 LFGB Nr. L 49.00-6, modifiziert | C4: x
A5: 3 | B5: § 64 LFGB Nr. L 00.00-93
A6: 4 | B6: § 64 LFGB Nr. L 00.00-93, modifiziert | C6: x
A7: 5 | B7: DIN 38406, E29
A8: 6 | B8: Ionenchromatographisch
A9: 7 | B9: GC-ECD nach Umwandlung von Iod bzw. Iodid in Iodatethanol
A10: 8 | B10: ICP-MS
A11: 9 | B11: ICP-AES
A12: 10 | B12: Sonstiges
A13: 11
A21: Erfasst werden:
B22: Organisches Iod | C22: 1
B24: Anorganisches Iod | C24: 1
B26: Iodid | C26: 1
B28: Iodat | C28: 1

Sheet As
A1: Arsen
A2: Probeneinwaage | B2: 7
A3: 1 | B3: < 0,5 g
A4: 2 | B4: 0,5 g - 1,0 g
A5: 3 | B5: 1,0 g - 1,5 g
A6: 4 | B6: 1,5 g - 2,5 g
A7: 5 | B7: 2,5 g - 5,0 g
A8: 6 | B8: > 5,0 g
A9: 7
A12: Aufschluss | B12: 12
A13: 1 | B13: Mikrowellendruckaufschluss
A14: 2 | B14: Druckaufschluss
A15: 3 | B15: Trockenveraschung bei 500 bis 540 °C
A16: 4 | B16: Trockenveraschung bei 540 °C bis 560 °C
A17: 5 | B17: Trockenveraschung bei 560 °C bis 600 °C
A18: 6 | B18: Trockenveraschung bei über 600 °C
A19: 7 | B19: Nassaufschluss
A20: 8 | B20: Verbrennen
A21: 9 | B21: Plasmaaufschluss
A22: 10 | B22: Digipreb (semi-open system)
A23: 11 | B23: Sonstiger Aufschluss
A24: 12
A27: Säuren | B27: 6 | C27: 6
A28: 1 | B28: HCl | C28: HCl
A29: 2 | B29: HNO3 | C29: HNO3
A30: 3 | B30: H2SO4 | C30: H2SO4
A31: 4 | B31: Königswasser | C31: Königswasser
A32: 5 | B32: Sonstige Säure | C32: Sonstige Säure
A33: 6
A36: Oxidationsmittel | B36: 4
A37: 1 | B37: H2O2
A38: 2 | B38: entfällt
A39: 3 | B39: Sonstiges Oxidationsmittel
A40: 4
A43: Messverfahren | B43: 12
A44: 1 | B44: ICP-MS
A45: 2 | B45: ICP-OES
A46: 3 | B46: Hydrid-AAS
A47: 4 | B47: Zeemann-AAS
A48: 5 | B48: GFAAS mit Zeemann-Kompensation
...

Sheet Fett
A1: Fett | B1: 19 | C1: =MAX($A$5:$A$21)-1 -> 18
A2: Methode | B2: Bezeichnung des Analysenverfahrens | C2: Modifikation
A3: 1 | B3: § 64 LFGB Nr. L 20.01/02-5
A4: 2 | B4: § 64 LFGB Nr. L 20.01/02-5, modifiziert | C4: x
A5: 3 | B5: § 64 LFGB Nr. L 06.00-6
A6: 4 | B6: § 64 LFGB Nr. L 06.00-6, modifiziert | C6: x
A7: 5 | B7: § 64 LFGB Nr. L 01.00-20
A8: 6 | B8: § 64 LFGB Nr. L 01.00-20, modifiziert | C8: x
A9: 7 | B9: § 64 LFGB Nr. L 13.05-3
A10: 8 | B10: § 64 LFGB Nr. L 13.05-3, modifiziert | C10: x
A11: 9 | B11: Caviezel (Büchi oder Gerstel)
A12: 10 | B12: Weibull-Stoldt
A13: 11 | B13: Soxhlet (auch aus der Trockenmasse)
A14: 12 | B14: NMR-Technologie nach Mikrowellentrocknung | C14: x
A15: 13 | B15: Mikrowellenaufschlusssystem
A16: 14 | B16: ISO 1444: 1996, auch modifiziert
A17: 15 | B17: NIR
A18: 16 | B18: ANKOM Filterbag-Extraktion nach Hydrolyse
A19: 17 | B19: ISO 1443: 1973, auch modifiziert
A20: 18 | B20: sonstiges
A21: 19

Sheet HBSZ
A1: HBSZ | B1: 5 | C1: =MAX($A$3:$A$7)-1 -> 4
A2: Methode | B2: Bezeichnung des Analysenverfahrens | C2: Anzahl
A3: 1 | B3: § 64 LFGB Nr. L 17.00-8 (18.00-1)
A4: 2 | B4: § 64 LFGB Nr. L 17.00-8 (18.00-1), modifiziert | C4: x
A5: 3 | B5: Halbmikromethode nach Großfeld
A6: 4 | B6: sonstiges
A7: 5

Sheet Buttersäure
A1: Buttersäure | B1: 7 | C1: =MAX($A$3:$A$9)-1 -> 6
A2: Methode | B2: Bezeichnung des Analysenverfahrens | C2: Anzahl
A3: 1 | B3: § 64 LFGB Nr. L 17.00-13 (18.00-15)
A4: 2 | B4: § 64 LFGB Nr. L 17.00-13 (18.00-15), modifiziert | C4: x
A5: 3 | B5: Caviezel (Büchi oder Gerstel)
A6: 4 | B6: DGF-Einheitsmethode C-VI 11d (98)
A7: 5 | B7: DGF Einheitsmethode C-III 8 (89)
A8: 6 | B8: sonstiges
A9: 7

Sheet BSME
A1: Buttersäuremethylester | B1: 17 | C1: =MAX($A$3:$A$19)-1 -> 16
A2: Methode | B2: Bezeichnung des Analysenverfahrens | C2: Anzahl
A3: 1 | B3: § 64 LFGB Nr. L 17.00-12 (18.00-9)
A4: 2 | B4: § 64 LFGB Nr. L 17.00-12 (18.00-9), modifiziert | C4: x
A5: 3 | B5: Schulte et al: Fat Sci Technol 91 181 (1989)
A6: 4 | B6: Veresterung der Fette mittels Natriummethylat nach Schulte, GC
A7: 5 | B7: Verfahren nach Precht, Verseifung mit methanolischer KOH, GC
A8: 6 | B8: GC der Methylester (methanolische KOH)
A9: 7 | B9: Veresterung der Fette mit Kaliummethanolat, Methylester-GC mit Istd
A10: 8 | B10: GC der Methylester (Schwefelsäure/Methanol)
A11: 9 | B11: DGF C-VI 10a i.V.m. C-VI 11e, GC/FID
A12: 10 | B12: Veresterung der Fette mit Natriummethylat; GC/FID
A13: 11 | B13: DGF C-VI 11d
A14: 12 | B14: GC-FID nach Umesterung mit Bortrifluorid
A15: 13 | B15: ISO 5508/5509
A16: 14 | B16: Umesterung des Fettextraktes mit Trimethylsulfoniumhydroxid, GC/FID
... A18: 16 | B18: sonstiges
A19: 17

Sheet Benzoesäure
A1: Benzoesäure | B1: 14 | C1: =MAX($A$3:$A$35)-1 -> 13
A2: Methode | B2: Bezeichnung des Analysenverfahrens | C2: Anzahl
A3: 1 | B3: § 64 LFGB Nr. L 00.00-9
A4: 2 | B4: § 64 LFGB Nr. L 00.00-9, modifiziert | C4: x
A5: 3 | B5: § 64 LFGB Nr. L 00.00-10
A6: 4 | B6: § 64 LFGB Nr. L 00.00-10, modifiziert | C6: x
A7: 5 | B7: § 64 LFGB Nr. L 00.00-28
A8: 6 | B8: § 64 LFGB Nr. L 00.00-28, modifiziert | C8: x
A9: 7 | B9: HPLC-Verfahren (UV- oder DAD-Detektion)
A10: 8 | B10: HPLC nach Hagenauer-Heuer, Deutsche Lebensmittelrundschau 86 Heft 1 (1990)
A11: 9 | B11: Wasserdampfdestillation mit anschließender HPLC-Detektion
A12: 10 | B12: Wasserdampfdestillation mit anschließender UV-Detektion
A13: 11 | B13: Aufarbeitung über Strata SAX Phenomenex-Kartusche; HPLC mit DAD
A14: 12 | B14: HPLC-Verfahren (UV-Detektion) nach Schulte
A15: 13 | B15: Sonstiges
A16: 14

Sheet Sorbinsäure
A1: Sorbinsäure | B1: 14 | C1: =MAX($A$3:$A$16)-1 -> 13
A2: Methode | B2: Bezeichnung des Analysenverfahrens | C2: Anzahl
A3: 1 | B3: § 64 LFGB Nr. L 00.00-9
A4: 2 | B4: § 64 LFGB Nr. L 00.00-9, modifiziert | C4: x
A5: 3 | B5: § 64 LFGB Nr. L 00.00-10
A6: 4 | B6: § 64 LFGB Nr. L 00.00-10, modifiziert | C6: x
A7: 5 | B7: § 64 LFGB Nr. L 00.00-28
A8: 6 | B8: § 64 LFGB Nr. L 00.00-28, modifiziert | C8: x
A9: 7 | B9: HPLC-Verfahren (UV- oder DAD-Detektion)
A10: 8 | B10: HPLC nach Hagenauer-Heuer, Deutsche Lebensmittelrundschau 86 Heft 1 (1990)
A11: 9 | B11: Wasserdampfdestillation mit anschließender HPLC-Detektion
A12: 10 | B12: Wasserdampfdestillation mit anschließender UV-Detektion
A13: 11 | B13: Aufarbeitung über Strata SAX Phenomenex-Kartusche; HPLC mit DAD
A14: 12 | B14: HPLC-Verfahren (UV-Detektion) nach Schulte
A15: 13 | B15: Sonstiges
A16: 14

Sheet Cyclamat
A1: Cyclamat | B1: 8 | C1: =MAX($A$3:$A$10)-1 -> 7
A2: Methode | B2: Bezeichnung des Analysenverfahrens | C2: Anzahl
A3: 1 | B3: § 64 LFGB Nr. L 00.00-29
A4: 2 | B4: § 64 LFGB Nr. L 00.00-29, modifiziert | C4: x
A5: 3 | B5: § 64 LFGB Nr. L 00.00-28
A6: 4 | B6: § 64 LFGB Nr. L 00.00-28, modifiziert | C6: x
A7: 5 | B7: LC-MS
A8: 6 | B8: LC-MS/MS
A9: 7 | B9: Sonstiges
A10: 8

Sheet Citronensäure
A1: Citronensäure | B1: 14 | C1: =MAX($A$3:$A$16)-1 -> 13
A2: Methode | B2: Bezeichnung des Analysenverfahrens | C2: Anzahl
A3: 1 | B3: § 64 LFGB Nr. L 07.00-13 (2017-10)
A4: 2 | B4: § 64 LFGB Nr. L 07.00-13 (2017-10), modifiziert oder andere Version | C4: x
A5: 3 | B5: Enzymatisch nach Roche / r-biopharm Nr. 10 139 076 035
A6: 4 | B6: Enzymatisch nach Scil Diagnostics 1214
A7: 5 | B7: HPLC (diverse Detektoren)
A8: 6 | B8: Enzymatisch / Megazyme
A9: 7 | B9: § 64 LFGB L 01.00-86 (01-2012)
A10: 8 | B10: § 64 LFGB L 01.00-86 (01-2012), modifiziert
A11: 9 | B11: Schweizer Lebensmittelbuch 1525.1
A12: 10 | B12: Boehringer Mannheim ‘Methods of enzymatic bio-analysis and food analysis kit n°S05-139076
A13: 11 | B13: § 64 LFGB Nr. L 31.00-14
A14: 12 | B14: § 64 LFGB Nr. L 07.00-14, modifiziert | C14: x
A15: 13 | B15: Sonstiges
A16: 14
