Workbook
Name _ftn1: Hints1!#REF!
Name _ftn1: Hinweise1!#REF!
Name _ftn1: Hinweise3!$A$3
Name _ftnref1: Hints1!$A$3
Name _ftnref1: Hinweise1!$A$2
Name _ftnref1: Hinweise3!#REF!
Name Daten: #REF!
Name Daten: #REF!
Name Daten: #REF!
Name Elemente: [1]Parameter2!$B$3:$B$18
Name MBlei: #REF!
Name MBlei: #REF!
Name MBlei: #REF!
Name OLE_LINK1: Ergebnisangabe!$A$20
Name OLE_LINK1: Reporting!$A$14
Name OLE_LINK2: Reporting!$J$7
Name Parameter2: #REF!
Name Parameter2: #REF!
Name Parameter2: #REF!
Name Parameter2: #REF!
Name Parameter2: #REF!
Name Parameter2alt: #REF!
Name Parameter2alt: #REF!
Name Parameter2alt: #REF!
Name test: [2]Parameter2!$B$3:$B$18
Name test: [2]Parameter2!$B$3:$B$18
Name test: [2]Parameter2!$B$3:$B$18
Name test: [3]Parameter2!$B$3:$B$18
Name test: [2]Parameter2!$B$3:$B$18
Name test: [4]Parameter2!$B$3:$B$18
Name test: [5]Parameter2!$B$3:$B$18
Name test: [1]Parameter2!$B$3:$B$18
Name test: [1]Parameter2!$B$3:$B$18
Name test: [2]Parameter2!$B$3:$B$18
Name test: [6]Parameter2!$B$3:$B$18

Sheet Hints1
A1: References to the result transmission and to the indication of result (Deadline see "Ergebnisse")
A2: Before analysing the samples, homogenize the samples again, please. After homogenisation You should analyse both samples with your standard procedures.
A3: Use this file for your result transmissions, please. Fill for this in the file yellow fields deposited out and send back the file afterwards by email to “ergebnisse@lvus.de”. It is important that for the clear allocation of the results to your laboratory in the table "Ergebnisse" (results) your client number and your postal zip code must be entered (both numbers only).
A4: The result data must be given in in the units as described at every parameter. To the avoidance of deviations in the laboratory made roundness, You are asked with each parameter after the first number deviating from 0 to indicate still the listened further numbers (even if due to Your validating data this accuracy is not kept by your analysis procedure). ISO 13 528 4.6 recommends that individual measurement results schould not be rounded by more than sr/2.
A6: Examples for transmissions of results:
A7: It a test material the element "Mg" was quantified. You are asked to report 3 significant numbers. The following computational contents are determined:
A9: Computed Value [mg/kg] | B9: Transmission of result [mg/kg]
A10: 1379 | B10: 1380
A11: 179.34 | B11: 179
A12: 80.12 | B12: 80.1
A13: 7.8 | B13: 7.8

Sheet Reporting

Sheet Hinweise1
A1: Hinweise zur Ergebnisübermittlung und zur Ergebnisangabe
A2: Bitte verwenden Sie diese Datei für Ihre Ergebnisübermittlung. Füllen Sie hierzu alle in der Tabelle "Ergebnisse" gelb hinterlegten Felder aus bzw. wählen Sie Ihre Angaben zu den von Ihnen verwendeten Methoden über die vorhandenen Auswahlfenster aus.
A3: Die ausgefüllte Exceltabelle muss per eMail als Anlage bis spätestens zur Deadline an eine der beiden Adressen ergebnisse@lvus.de oder results@lvus.de gesendet werden. Bitte beachten Sie, dass Ihre eMail nur die Exceltabelle als Anlage enthalten darf. Ausser Ihrem Absender soll die eigentliche eMail keine weiteren Daten oder Texte enthalten, da alle an die Adressen ergebnisse@lvus.de oder results@lvus.de gesendeten eMails automatisch ausgelesen werden.
A4: Nach der in der Tabelle "Ergebnisse" aufgeführten Deadline eingehende Ergebnisse werden bei der Auswertung nicht berücksichtigt.
A5: Es ist wichtig, dass Sie zur eindeutigen Zuordnung der Ergebnisse zu Ihrem Labor sowohl Ihre Kunden-Nr. als auch Ihre Postleitzahl (auf dem Anschreiben enthalten - nur Ziffern eingeben) eingeben. Über eine bei der Auswertung durchgeführte Plausibilitätsprüfung soll erkannt werden, ob Tippfehler vorliegen und dadurch die Daten einem anderen Teilnehmer zugeordnet werden könnten.
A6: Interne Teilnahme: Diesen Wert bitte nur ändern, falls Sie für Ihr Haus mehrere getrennte und damit kostenpflichtige Teilnahmen gebucht haben. Über diesen Wert werden die unter einer Kundennummer geführten Teilnahmen getrennt erfasst und die Ergebnisse anschließend der Auswertung zugeführt. Entscheiden Sie, welcher Ihrer Laborbereiche unter der Teilnahme 1 oder 2 registirert und ausgewertet werden soll.
A7: Die Ergebnisangaben müssen in der/den vorgegebenen Maßeinheiten erfolgen - Ihre Angaben werden ohne Änderungen zur Auswertung verwendet! Zur Vermeidung von Abweichungen durch bereits im Labor vorgenommene Rundungen werden Sie gebeten, bei jedem Parameter eine bestimmte Anzahl signifikanter Ziffern anzugeben (auch wenn auf Grund Ihrer Validierungsdaten diese Genauigkeit von Ihrem Analysenverfahren nicht eingehalten wird). Nach ISO 13528 Abschnitt 4.6 sollen Ergebnisse nicht stärker gerundet werden als dem halben Betrag der Wiederholstandardabweichung entspricht.
A8: Beispiele zur Ergebnisangabe: In einer Probe wurde der Gehalt von Mangan bestimmt. Es werden folgende rechnerischen Gehalte ermittelt:
A9: Beispielhafter Wert [mg/kg] | B9: Ergebnisangabe mit 3 signifikanten Ziffern [mg/kg]
A10: 1379 | B10: 1380
A11: 179.34 | B11: 179
A12: 80.12 | B12: 80.1
A13: 7.8 | B13: 7.8
A15: Verfahren sowie Literaturangaben, die von Teilnehmern bei bereits durchgeführten Laborvergleichsuntersuchungen angewendet wurden, sind in Auswahlfenstern vorbelegt, um Ihnen das Ausfüllen zu erleichtern. Über diese Auswahlfenster wählen Sie bitte diejenigen Einträge aus, die bei den von Ihnen angewandten Verfahren zutreffend sind. Ist kein zutreffender Eintrag vorhanden, so wählen Sie bitte den Eintrag "sonstiges.." aus. Tragen Sie dann in der nächsten Zeile (wird gelb hervorgehoben) die auf Ihr Verfahren zutreffende Beschreibung ein.
A16: Geben Sie in der Tabelle "Kontakt" den Namen, die eMail-Adresse sowie die Telefonnummer der Kontaktperson an, die wir bei Fragen kontaktieren können. Nach Fertigstellung der Auswertung soll an die angegebene eMail-Adresse zusätzlich zur gedruckten Auswertung auch eine Passwort-freie Auswertedatei im PDF-Format gesendet werden.
A17: Sollten Sie uns ergänzende Hinweise/Beobachtungen mitteilen wollen, so verwenden Sie hierfür den vorgesehenen Bereich innerhalb der Tabelle "Mitteilungen".
A18: Da Ihre eMail automatisch weiterverarbeitet wird, dürfen nur in der Exceltabelle Kommentare oder Hinweise zu den Proben und durchgeführten Untersuchungen enthalten sein. Außerdem darf Ihre eMail nur eine einzige Anlage enthalten. Sie erhalten automatisch eine Benachrichtigung über den Eingang Ihrer Ergebnisse.

Sheet Hinweise2
A1: Erläuterungen zur Weiterverarbeitung Ihrer Daten
A2: Diese Tabellen wurden so aufgebaut, dass die Daten automatisiert in unser Auswerteprogramm übernommen werden können. Die Tabellen dürfen daher keinesfalls im Aufbau verändert werden, da dann ein automatisiertes Auslesen der mitgeteilten Daten nicht mehr möglich wäre.
A3: Aus diesem Grund wurden die Tabellen gegen Veränderungen geschützt. Eingaben oder auch die Auswahl von Eigenschaften sind nur an wenigen Stellen nötig. Diese Stellen sind gelb hinterlegt.
A4: Da das Ausführen von Macros eine potentielle Gefährdung von Computersystemen bedeuten kann, gehen wir davon aus, dass ausführbare Macros in zahlreichen Fällen von den entsprechenden System-Administratoren unterdrückt werden. Deshalb wurde auf die Verwendung von Macros bei der Erstellung der Tabellen zur Ergebniserfassung komplett verzichtet, obwohl damit ein komfortableres Arbeiten möglich wäre.
A5: Beim Eingang Ihrer eMail wird diese von unserem System automatisch weiterverarbeitet, wobei einige Plausibilitäten (z.B. Vollständigkeit der Absenderangabe oder Kennzeichnung als Update bei erneuter Dateneinsendung) überprüft werden. Im Anschluss an diese Prüfung erhalten Sie automatisiert eine eMail-Antwort. Darin werden Sie darüber informiert, ob Ihre Daten prinzipiell weiterverarbeitet werden können oder ob benötigte Einträge fehlen und Sie Ihre Ergebnisse nach Ergänzung der fehlenden Angaben erneut einsenden sollen. Eine Prüfung auf Vollständigkeit von Ergebnisangaben (sind überhaupt Ergebnnisdaten vorhanden?) oder deren Angabe in den vorgegebenen Maßeinheiten wird zu diesem Zeitpunkt nicht vorgenommen.
A6: Sollten Sie noch vor dem Ende der Ergebnisannahme bemerken, dass in Ihrer Ergebnistabelle Fehler enthalten sind, so senden Sie einfach eine korrigierte Version an die Adresse ergebnisse@lvus.de. Kennzeichnen Sie in diesem Fall Ihre Tabelle als Aktualisierung, da ansonsten das System die Annahme der Daten zurückweist ("es sind ja bereits Daten von Ihnen vorhanden"). Ihre aktualiserte Ergebnistabelle muss vollständig ausgefüllt sein und insbesondere alle Ergebnisdaten der Vorversion enthalten, da bei einer Kennzeichung als Aktualiserung (Update) die zuvor eingesandte Ergebnistabelle durch die Aktualisierung vollständig ersetzt wird.
A7: Ihre Daten werden von uns wie mitgeteilt zur Auswertung verwendet. Selbst offensichtliche Fehler, wie - Tippfehler, - Übertragungsfehler in die Ergebniserfassungstabelle, - Angaben in einer anderen, von der Vorgabe abweichenden Maßeinheit werden zur Auswertung unverändert, also ohne Änderung übernommen und führen dann zu schlechten Bewertungen. Daher sollten Sie Ihre Eingaben sorgfältig durchführen und dabei insbesondere auch überprüfen, ob Ihre laborüblichen Maßeinheiten mit denen im Tabellenblatt übereinstimmen.
A8: Nach Ende der Frist zur Ergebnisabgabe sind Korrekturen nur noch möglich, falls die Auswertung der Daten noch nicht erfolgt ist. Korrekturen von fehlerhaften Teilnehmerangaben werden nach der Auswertung und insbesondere nach Veröffentlichung des Protokolls nicht mehr durchgeführt.

Sheet Hinweise3
A1: Hinweise zur Auswertung
A2: Die Beurteilung der Laborergebnisse erfolgt durch Z-Scores, die möglichst über die Vergleichsstandardabweichung des jeweiligen Standardverfahrens aus der Amtlichen Sammlung nach § 64 LFGB berechnet werden. Zusätzlich werden Z-Scores über die nach der Horwitz- funktion ermittelte Zielstandardabweichung für den jeweiligen Analyten berechnet.
A3: Mit abnehmenden Gehalten von Analyten in der Probe steigt die über die Horwitzfunktion berechnete Zielstandardabweichung stark an. So beträgt z.B. die relative Standardabweichung nach Horwitz 10 % bei einem Analytgehalt von 23 mg/kg und bereits 22,6 % bei einem Analytgehalt von 100 µg/kg.
A4: Zur Vermeidung zu „breiter“ Beurteilungszonen wird deshalb bei der Auswertung bei allen Parametern der Wert der Zielstandardabweichung auf maximal 22 % vom Wert des Medians beschränkt.
A5: Zunächst werden alle mitgeteilten Laborergebnisse berücksichtigt und die darüber berechneten statistischen Kenndaten für die Parameter aufgeführt.
A6: Zur Ermittlung der endgültigen statistischen Kenndaten werden bei allen in den Proben enthaltenen Wirkstoffe Zweitberechnungen durchgeführt. Bei diesen Zweitberechnungen bleiben generell die Ergebnisdaten von allen Laboratorien unberücksichtigt, deren Ergebnisse um mehr als 5 Zielstandardabweichungen (5 Z-Scores) vom Median des Analyten abweichen.
A7: Darüber hinaus bleiben bei allen Parametern zusätzlich alle Ergebnisse unberücksichtigt, die um mehr als 50 % vom Median abweichen und bei denen gleichzeitig der Betrag des Z-Score größer als 3 ist. Diese Regelung greift bei allen Parametern mit Analytgehalten unter 23 mg/kg.

Sheet Ergebnisangabe
A1: Hinweise zum Erfassen und Einsenden der Untersuchungsergebnisse
A2: Zur Bestimmung der Parameter sollen zwei vollständig getrennte Analysengänge durch¬geführt werden. Verwenden Sie für die Analysengänge 1 und 2 Probenmaterial aus verschiedenen Probeneinheiten.
A3: Benutzen Sie für die Ergebnisübermittlung diese vordefinierte Tabelle im Excelformat. Die Tabelle steht auch auf unserer Homepage (www.lvus.de) im Bereich „Download“ bereit.
A4: Geben Sie im Register "Kontakt" den Namen, die eMail-Adresse sowie die Telefonnummer der Kontaktperson an, die wir bei Fragen kontaktieren können. Nach Fertigstellung des Protokolls wird ausschließlich an die dort angegebenen eMail-Adressen vorab ein Passwort-freies Protokoll im PDF-Format gesendet.
A5: Tragen Sie im Register „Ergebnisse“ unbedingt Ihre Kundennummer und Ihre Postleitzahl ein, da darüber die Identifizierung des Einsenders erfolgt. In die beiden Datenfelder „Kundennummer“ und „Postleitzahl“ dürfen nur Ziffern eingegeben werden.
A6: Die Felder zur Eingabe Ihrer Ergebnisdaten sind nicht mit einer festen Nachkommazahl vordefiniert, um keine Hinweise auf eventuelle Gehalte von Parametern zu geben.
A7: Beachten Sie die Hinweise zu den gültigen (signifikanten) Ziffern bei den Parametern. Die Anzahl der Ziffern ist so zu wählen, dass beide Ergebnisse nur im Ausnahmefall aus iden¬tischen Ziffernfolgen bestehen. In einigen Fällen, z.B. bei Gehalten um 10 %, ist die Vorgabe gültiger Stellen schwierig: Die Ergebnisse „10,16% und 9,94% sind vergleichbar, nicht aber „10,2%“ und „9,94%“. Die Angabe einer zusätzlichen gültigen Stelle ist hier angebracht.
A8: Über Auswahlfelder sind gängige Untersuchungsverfahren bereits vordefiniert, um das Ausfüllen bei den Untersuchungsverfahren zu erleichtern. Sollten Sie ein nicht aufgeführtes Verfahren anwenden, wählen Sie „sonstiges“ aus und tragen Ihr Verfahren dann ein. Sofern weitere Informationen zur Auswertung nötig sind, werden auch gängige Verfahrensprinzipien und/oder Bezugsquellen kommerziell vertriebener Testsätze in ähnlicher Weise vordefiniert.
A9: In zahlreichen Fällen wird auch nachgefragt, ob Sie streng nach der Vorschrift gemäß § 64 LFGB arbeiten. Streng bedeutet, dass Sie ohne prüfrelevante Abweichungen arbeiten. Sollte die Abweichung lediglich die untersuchte Matrix sein (z.B. Ketchup anstelle von Brühwurst), dann soll dies nicht als Modifikation gekennzeichnet werden.
A10: Da Ihre eMail automatisch weiterverarbeitet wird, dürfen nur innerhalb der Exceltabelle in vordefinierten Bereichen Kommentare oder Hinweise zu den Proben und durchgeführten Untersuchungen enthalten sein (z.B. im Register „Mitteilungen“).
A11: Senden Sie uns die vollständig ausgefüllte Ergebnisdatei als Anlage im aktuellen Excelformat (Datei-Endung ".xlsx") oder im Format von Excel 2000 (Datei-Endung ".xls") per eMail an die Adresse „ergebnisse@lvus.de“. Ihre eMail darf nur eine einzige Anlage enthalten. eingesendete Tabellen verarbeiten.
A12: Nach dem Eingang in unserer Mailbox "ergebnisse@lvus.de" erhalten Sie automatisch eine Benachrichtigung/Bestätigung über den Eingang Ihrer eMail.
... A15: Senden Sie elektronisch mitgeteilte Ergebnisse nicht noch zusätzlich per Post oder Telefax.

Sheet Kontakt
A1: Kontaktperson | C1: Contact person
A2: Name | C2: Name
A3: eMail | C3: eMail-Address
A4: Telefon (inklusive Vorwahl): | C4: telefone (including country and area code)
A6: Bitte geben Sie den Namen, eMail-Adresse und die Telefonnummer der Person an, die wir bei Rückfragen kontaktieren können. An die aufgeführte eMailadresse wird das Protokoll zusätzlich auch als Passwort-freie PDF-Datei gesendet.
A8: Type in name, e-mail address and telefone number of the person we can contact in case of any questions, please. In addition to a printed version we will send a PDF-document (passwort-free) of the report to this e-mail address.
A10: Falls die Auswertung zusätzlich noch an eine zweite Adresse gesendet werden soll, geben Sie die zweite Adresse getrennt durch ein Semikolon mit nachfolgendem Leerzeichen ein.
A11: In case the PDF-document of the report should be sent to a second e-mail address seperate both e-mail addresses by typing in a semicolon followed by a blank.
A12: Beispiel für die Eingabe von 2 eMail-Adressen: Example how to type in 2 different e-mail addresses: | C12: info@lvus.de; ergebnisse@lvus.de
A15: eMail-Kontrolle: | C15: check of the e-Mail address
A16: Ergebnis der Überprüfung: | B16: =IF(ISBLANK(B15),"",IF(B3=B15,"Kontrolle erfolgreich - check ok","FEHLER - ERROR")) | C16: result of the control
B17: =IF(ISBLANK(B15),"",IF(ISERROR(FIND("@",B15,1)),"keine gültige eMail-Adresse",IF((VALUE(FIND("@",B15,1))>1),"","keine gültige eMail-Adresse!")))
B18: =IF(ISBLANK(B15),"",IF(ISERROR(FIND("@",B15,1)),"no valid eMail-adress",IF((VALUE(FIND("@",B15,1))>1),"","no valid eMail-address!")))
B19: =IF(ISBLANK(B15),"",IF(ISERROR(FIND("; ",B15,1)),"",IF((VALUE(FIND("; ",B15,1))>8),"","Achtung - die zweite eMail-Adresse wurde nicht korrekt eingegeben")))

Sheet Teilnehmerdaten
A1: Kundennummer | B1: =IF(ISNUMBER(VALUE(Ergebnisse!G1)),IF(VALUE(Ergebnisse!G1)>0,VALUE(Ergebnisse!G1),""),"") | D1: Umformung
A2: Postleitzahl | B2: =IF(ISNUMBER(VALUE(Ergebnisse!G2)),IF(VALUE(Ergebnisse!G2)>0,VALUE(Ergebnisse!G2),""),"")
A3: Produkt | B3: 01d | D3: Auswahl
A4: Jahrgang | B4: =YEAR(Ergebnisse!E5) -> 2020 | D4: 2
A5: Update | B5: =D8 -> N | D5: =IF(D4=2,"N","J") -> N | F5: 1 | G5: ja / yes
A6: Teilnahmen | B6: =Ergebnisse!G3 -> 1 | F6: 2 | G6: nein / no
A7: Deadline | B7: =Ergebnisse!E5 -> 44136
A8: Parameterzahl | B8: 21 | D8: =LEFT(D5,1) -> N
A9: Bestimmungen je Parameter | B9: 2
A10: Parameter 1 | B10: =Ergebnisse!A19 -> Wasser | C10: =Ergebnisse!B19 -> g/100 g
A11: Parameter 2 | B11: =Ergebnisse!A20 -> Fett | C11: =Ergebnisse!B20 -> g/100 g
A12: Parameter 3 | B12: =Ergebnisse!A21 -> Rohprotein (N * 6,25) | C12: =Ergebnisse!B21 -> g/100 g
A13: Parameter 4 | B13: =Ergebnisse!A22 -> pH-Wert | C13: =Ergebnisse!B22 -> X
A14: Parameter 5 | B14: =Ergebnisse!A23 -> Nichtproteinstickstoff (NPN) | C14: =Ergebnisse!B23 -> g/100 g
A15: Parameter 6 | B15: =Ergebnisse!A24 -> Asche | C15: =Ergebnisse!B24 -> g/100 g
A16: Parameter 7 | B16: =Ergebnisse!A25 -> Kochsalz | C16: =Ergebnisse!B25 -> g/100 g
A17: Parameter 8 | B17: =Ergebnisse!A26 -> Natrium | C17: =Ergebnisse!B26 -> g/100 g
A18: Parameter 9 | B18: =Ergebnisse!A27 -> Triphosphat (qualitativ) | C18: =Ergebnisse!B27 -> X
A19: Parameter 10 | B19: =Ergebnisse!A28 -> Diphosphat (qualitativ) | C19: =Ergebnisse!B28 -> X
A20: Parameter 11 | B20: =Ergebnisse!A29 -> Gesamtphosphat, berechnet als P2O5 | C20: =Ergebnisse!B29 -> g/100 g
A21: Parameter 12 | B21: =Ergebnisse!A30 -> Säurelöslicher Phosphor, berechnet als P2O5 | C21: =Ergebnisse!B30 -> g/100 g
... A26: Parameter 17 | B26: =Ergebnisse!A35 -> Nachgewiesener Farbstoff | C26: =Ergebnisse!B35 -> X
A27: Parameter 18 | B27: Farbstoff 1 | C27: =Ergebnisse!B36 -> mg/kg
A28: Parameter 19 | B28: Farbstoff 2 | C28: =Ergebnisse!B37 -> mg/kg
A29: Parameter 20 | B29: Farbstoff 3 | C29: =Ergebnisse!B38 -> mg/kg
A30: Parameter 21 | B30: Farbstoff 4 | C30: =Ergebnisse!B39 -> mg/kg

Sheet Ergebnisse
A1: Ergebnisdatenblatt | E1: Kunden-Nr.
A2: Kochschinken (Standardparameter) | E2: Postleitzahl
E3: interne Teilnahme: | G3: 1
A4: Einsendeadresse: | B4: ergebnisse@lvus.de | F4: =IF(ISBLANK(G1),"",IF(ISNUMBER(VALUE(G1)),"","Bitte nur Ziffern eingeben (numbers only)"))
A5: Annahmeschluss/Deadline: | E5: 44136 | F5: =IF(ISBLANK(G2),"",IF(ISNUMBER(VALUE(G2)),"","Bitte nur Ziffern eingeben (numbers only)"))
A7: Schreiben Sie Ihre Daten in die gelb hinterlegten Felder. Geben Sie Ihre Ergebnisse in den aufgeführten Einheiten an. Write your data into the yellow cells. Give your results in the units of column 2.
A8: Geben Sie Ihre Ergebnisse mit den in Spalte 3 aufgeführten signifikanten Stellen an. Beispiele hierzu sind in "Hinweise1" enthalten. Report your results with in column 3 shown significant numbers (there are some examples in sheet "hints1" .
A9: In einigen Fällen, z.B. bei Gehalten um 1 % oder 10 %, ist die Vorgabe gültiger Stellen schwierig: Die Ergebnisse „1,06% und 0,98% sind vergleichbar, nicht aber „1,1 %“ und „0,98%“. Die Angabe einer zusätzlichen gültigen Stelle beim Beispielwert 1,06 ist hier angebracht.
A10: Sollte ein Inhaltsstoff nicht bestimmbar sein, so teilen Sie uns bitte den Wert Ihrer Bestimmungsgrenze mit vorangestelltem "< “ mit. In cases you will not detect a parameter, report your limit of quantification with "< " in front of the value.
A11: Falls Sie einen Parameter nicht bearbeiten, lassen Sie die zugehörigen Ergebnisdatenfelder bitte leer. If you are not analysing parameters in your laboratory do not write anything into the corresponding fields for the results.
A12: Zur Beschreibung des Analysenverfahrens verwenden Sie bitte die im unteren Teil dieses Datenblatts enthaltenen Auswahlfelder. To describe your method use the pulldown-menus following after the result area.
A13: =IF(OR(ISBLANK(G1),ISBLANK(G2)),"Die Tabelle ist so nicht versandfertig. Es fehlen noch Eingaben bei Kunden-Nr. und/oder Postleitzahl.","Wichtig: Sind Ihre Eingaben bei Kunden-Nr. und Postleitzahl korrekt?") -> Die Tabelle ist so nicht versandfertig. Es fehlen noch Eingaben bei Kunden-Nr. und/oder Postleitzahl.
A14: =IF(OR(ISBLANK(G1),ISBLANK(G2)),"Nur wenn diese beiden Felder ausgefüllt sind, kann der Absender dieser Tabelle korrekt identifiziert werden.","") -> Nur wenn diese beiden Felder ausgefüllt sind, kann der Absender dieser Tabelle korrekt identifiziert werden.
A15: Tabelle wurde bereits einmal erfolgreich gesendet, es handelt sich um eine Aktualisierung: This table was sent before, successfully. It is an update:
A16: =IF(INFO("version")>11,"Bitte Excel 1997-2003 [.XLS] Format beibehalten! - Do not change the Excel 1997-2003 [.XLS] format, please!","") -> Bitte Excel 1997-2003 [.XLS] Format beibehalten! - Do not change the Excel 1997-2003 [.XLS] format, please!
A17: Parameter | B17: Einheit | C17: Signifikante Stellen | D17: Analysen- gang 1 | E17: Analysen- gang 2 | F17: Verfahren / Literatur
A19: Wasser | B19: g/100 g | C19: 4 | F19: =Wasser!$B$1 -> 20 | H19: =Wasser!$C$1 -> 19
A20: Fett | B20: g/100 g | C20: 3 | F20: =Fett!B1 -> 18 | H20: =Fett!$C$1 -> 17
A21: Rohprotein (N * 6,25) | B21: g/100 g | C21: 4 | F21: =Rohprotein!B1 -> 17 | H21: =Rohprotein!$C$1 -> 16
A22: pH-Wert | B22: X | C22: 3 | F22: ='pH-Wert'!$B$1 -> 8 | H22: ='pH-Wert'!$C$1 -> 7
A23: Nichtproteinstickstoff (NPN) | B23: g/100 g | C23: 3 | F23: =NPN!B1 -> 8 | H23: =NPN!C1 -> 7
A24: Asche | B24: g/100 g | C24: 3 | F24: =Asche!B1 -> 18 | H24: =Asche!C1 -> 17
A25: Kochsalz | B25: g/100 g | C25: 3 | F25: =Kochsalz!B1 -> 20 | H25: =Kochsalz!C1 -> 19
A26: Natrium | B26: g/100 g | C26: 3 | F26: =Natrium!B59 -> 25 | H26: =Natrium!D59 -> 24
A27: Triphosphat (qualitativ) | B27: X | C27: X | D27: =Phosphate!D15 -> 4 | E27: =Phosphate!E15 -> 4 | F27: =Phosphate!B1 -> 6 | H27: =Phosphate!C1 -> 5
A28: Diphosphat (qualitativ) | B28: X | C28: X | D28: =Phosphate!B15 -> 4 | E28: =Phosphate!C15 -> 4 | F28: =Phosphate!B1 -> 6 | H28: =Phosphate!C1 -> 5
A29: Gesamtphosphat, berechnet als P2O5 | B29: g/100 g | C29: 3 | F29: =Phosphat!B1 -> 23 | H29: =Phosphat!C1 -> 22
A30: Säurelöslicher Phosphor, berechnet als P2O5 | B30: g/100 g | C30: 3 | F30: =SLPhosphor!B1 -> 4 | H30: =SLPhosphor!C1 -> 3 | I30: =#REF! -> #REF!
A31: Teilhydrolysierte Gelatine (Kollagenabbauprodukte) | B31: g/100 g | C31: 3 | F31: =Kollagen!B1 -> 5 | H31: =Kollagen!C1 -> 4 | I31: =#REF! -> #REF!
A32: Nachgewiesener Farbstoff | B32: X | C32: X | D32: =Farbstoffe!B1 -> 19 | F32: =Farbstoffe_qual!B1 -> 28 | H32: =Farbstoffe_qual!C1 -> 27
A33: Nachgewiesener Farbstoff | B33: X | C33: X | D33: =Farbstoffe!C1 -> 19
A34: Nachgewiesener Farbstoff | B34: X | C34: X | D34: =Farbstoffe!D1 -> 19
A35: Nachgewiesener Farbstoff | B35: X | C35: X | D35: =Farbstoffe!E1 -> 19
A36: =Farbstoffe!B31 -> 18 | B36: mg/kg | C36: 3 | F36: =Farbstoffe_quan!B1 -> 28 | H36: =Farbstoffe_quan!C1 -> 27
A37: =Farbstoffe!C31 -> 18 | B37: mg/kg | C37: 3
A38: =Farbstoffe!D31 -> 18 | B38: mg/kg | C38: 3
A39: =Farbstoffe!E31 -> 18 | B39: mg/kg | C39: 3
A43: Beschreibung der verwendeten Analysenverfahren 1
A44: Wasser | I44: =ISBLANK(VLOOKUP(F19,Wasser!A3:C28,3)) -> TRUE
A45: =IF(F19=H19,"bitte eingeben:",IF(I44,"","Art der Modifikation/Ausgabedatum:"))
A46: Fett | I46: =ISBLANK(VLOOKUP(F20,Fett!A3:C29,3)) -> TRUE
A47: =IF(F20=H20,"bitte eingeben:",IF(I46,"","Art der Modifikation/Ausgabedatum:"))
A48: Rohprotein | I48: =ISBLANK(VLOOKUP(F21,Rohprotein!A3:C30,3)) -> TRUE
A49: =IF(F21=H21,"bitte eingeben:",IF(I48,"","Art der Modifikation/Ausgabedatum:"))
A50: pH-Wert | I50: =ISBLANK(VLOOKUP(F22,'pH-Wert'!A3:C15,3)) -> TRUE
A51: =IF(F22=H22,"bitte eingeben:",IF(I50,"","Art der Modifikation/Ausgabedatum:"))
A52: NPN | I52: =ISBLANK(VLOOKUP(F23,NPN!A3:C24,3)) -> TRUE
A53: =IF(F23=H23,"bitte eingeben:",IF(I52,"","Art der Modifikation/Ausgabedatum:"))
A54: Asche | I54: =ISBLANK(VLOOKUP(F24,Asche!A3:C20,3)) -> TRUE
A55: =IF(F24=H24,"bitte eingeben:",IF(I54,"","Art der Modifikation/Ausgabedatum:"))
A56: =A25 -> Kochsalz | I56: =ISBLANK(VLOOKUP(F25,Kochsalz!A3:C23,3)) -> TRUE
A57: =IF(F25=H25,"bitte eingeben:",IF(I56,"","Art der Modifikation:"))
A58: Fremdphosphate (qualitativ) | I58: =ISBLANK(VLOOKUP(F27,Phosphate!A3:C8,3)) -> TRUE
A59: =IF(F27=H27,"bitte eingeben:",IF(I58,"","Art der Modifikation:"))
A60: Gesamtphosphat | I60: =ISBLANK(VLOOKUP(F29,Phosphat!A3:C25,3)) -> TRUE
A61: =IF(F29=H29,"bitte eingeben:",IF(I60,"","Art der Modifikation:"))
A62: Beschreibung der verwendeten Analysenverfahren 2
A63: Säurelöslicher Phosphor | I63: =ISBLANK(VLOOKUP(F30,SLPhosphor!A3:C6,3)) -> TRUE
A64: =IF(F30=H30,"bitte eingeben:",IF(I63,"","Art der Modifikation:"))
A65: Teilhydrolysierte Gelatine | I65: =ISBLANK(VLOOKUP(F31,Kollagen!A3:C7,3)) -> TRUE
A66: =IF(F31=H31,"bitte eingeben:",IF(I65,"","Art der Modifikation:"))
A67: Farbstoffe, qualitativ | I67: =ISBLANK(VLOOKUP(F32,Farbstoffe_qual!A3:C30,3)) -> TRUE
A68: =IF(F32=H32,"bitte eingeben:",IF(I67,"","Art der Modifikation/Ausgabedatum:"))
A69: Farbstoffe, quantitativ | I69: =ISBLANK(VLOOKUP(F36,Farbstoffe_quan!A3:C30,3)) -> TRUE
A70: =IF(F36=H36,"bitte eingeben:",IF(I69,"","Art der Modifikation/Ausgabedatum:"))
A71: Natrium
A72: Probeneinwaage | B72: =Natrium!B2 -> 8
A74: Aufschlussprinzip | B74: =Natrium!B13 -> 13 | D74: =Natrium!D13 -> 12 | I74: =ISBLANK(VLOOKUP(B74,Natrium!A14:C26,3)) -> TRUE
A75: =IF(B74=Natrium!D13,"bitte eingeben:","")
A76: verwendete Säure(n) | B76: =Natrium!B29 -> 8 | D76: =Natrium!D29 -> 7 | I76: =ISBLANK(VLOOKUP(F26,Natrium!A30:C37,3)) -> TRUE
A77: =IF(B76=Natrium!D29,"bitte eingeben:","")
A78: Oxidationsmittel | B78: =Natrium!B40 -> 4 | D78: =Natrium!D40 -> 3 | I78: =ISBLANK(VLOOKUP(F26,Natrium!A41:C44,3)) -> TRUE
A79: =IF(B78=Natrium!D40,"bitte eingeben:","")
A80: Messprinzip | B80: =Natrium!B47 -> 9 | D80: =Natrium!D47 -> 8 | I80: =ISBLANK(VLOOKUP(F26,Natrium!A48:C55,3)) -> TRUE
A81: =IF(B80=Natrium!D47,"bitte eingeben:","")
A82: Verfahren / Literatur | B82: =Natrium!B59 -> 25 | D82: =Natrium!D59 -> 24 | I82: =ISBLANK(VLOOKUP(F26,Natrium!A60:C84,3)) -> TRUE
A83: =IF(B82=Natrium!D59,"bitte eingeben:",IF(I82,"","Art der Modifikation:"))

Sheet Mitteilungen
A1: Nachfolgend können Sie uns ergänzende Hinweise geben oder wichtige Beobachtungen mitteilen. | H1: =COUNTA(A2:G38) -> 0

Sheet Farbstoffe_qual
A1: Farbstoffe | B1: 28 | C1: =MAX($A$3:$A$30)-1 -> 27
A2: Methode | B2: Bezeichnung des Analysenverfahrens | C2: Anzahl
A3: 1 | B3: § 64 LFGB Nr. L 26.11.03-14
A4: 2 | B4: § 64 LFGB Nr. L 26.11.03-14, modifiziert | C4: x
A5: 3 | B5: Isolierung und Anreicherung: Wollfadenmethode; HPLC
A6: 4 | B6: Isolierung und Anreicherung: Wollfadenmethode; DC
A7: 5 | B7: Isolierung und Anreicherung: Wollfadenmethode; Papierchromatographie
A8: 6 | B8: Isolierung und Anreicherung: Polyamidpulver; HPLC
A9: 7 | B9: Isolierung und Anreicherung: Polyamidpulver; DC
A10: 8 | B10: Isolierung und Anreicherung: C18-Kartusche; HPLC
A11: 9 | B11: Isolierung und Anreicherung: C18-Kartusche; DC
A12: 10 | B12: Ammoniakauszug, Reinigung über DEAe-Cellulose-Säule, DC
A13: 11 | B13: Ammoniakauszug, Reinigung über DEAe-Cellulose-Säule, HPLC
A14: 12 | B14: Ggf. Zentrifugation/Filtration/Klärung (ohne Anreicherung); HPLC
A15: 13 | B15: Extraktion mit Acetonitril, HPLC
A16: 14 | B16: Isolierung und Anreicherung: Polyamid; Papierchromatographie
... A29: 27 | B29: Sonstiges
A30: 28

Sheet Farbstoffe_quan
A1: Farbstoffe | B1: 28 | C1: =MAX($A$3:$A$30)-1 -> 27
A2: Methode | B2: Bezeichnung des Analysenverfahrens | C2: Anzahl
A3: 1 | B3: § 64 LFGB Nr. L 26.11.03-14
A4: 2 | B4: § 64 LFGB Nr. L 26.11.03-14, modifiziert | C4: x
A5: 3 | B5: Isolierung und Anreicherung: Wollfadenmethode; HPLC
A6: 4 | B6: Isolierung und Anreicherung: Wollfadenmethode; DC
A7: 5 | B7: Isolierung und Anreicherung: Wollfadenmethode; Papierchromatographie
A8: 6 | B8: Isolierung und Anreicherung: Polyamidpulver; HPLC
A9: 7 | B9: Isolierung und Anreicherung: Polyamidpulver; DC
A10: 8 | B10: Isolierung und Anreicherung: C18-Kartusche; HPLC
A11: 9 | B11: Isolierung und Anreicherung: C18-Kartusche; DC
A12: 10 | B12: Ammoniakauszug, Reinigung über DEAe-Cellulose-Säule, DC
A13: 11 | B13: Ammoniakauszug, Reinigung über DEAe-Cellulose-Säule, HPLC
A14: 12 | B14: Ggf. Zentrifugation/Filtration/Klärung (ohne Anreicherung); HPLC
A15: 13 | B15: Extraktion mit Acetonitril, HPLC
A16: 14 | B16: Isolierung und Anreicherung: Polyamid; Papierchromatographie
... A29: 27 | B29: Sonstiges
A30: 28

Sheet Farbstoffe
A1: Farbstoffe | B1: 19 | C1: 19 | D1: 19 | E1: 19
A2: lfd. Nr. | B2: Bezeichnung des Farbstoffes
A3: 1 | B3: E 102 (Tartrazin)
A4: 2 | B4: E 104 (Chinolingelb)
A5: 3 | B5: E 110 (Gelborange S)
A6: 4 | B6: E 120 (Karmin)
A7: 5 | B7: 4-Amino-Karminsäure (aus E 120)
A8: 6 | B8: E 122 (Azorobin)
A9: 7 | B9: E 123 (Amaranth)
A10: 8 | B10: E 124 (Ponceau 4 R)
A11: 9 | B11: E 127 (Erythrosin)
A12: 10 | B12: E 128 (Rot 2G)
A13: 11 | B13: E 129 (Allurarot AC)
A14: 12 | B14: E 131 (Patentblau V)
... A21: 19 | B21: Farbstoffe nicht untersucht
B24: E 162 (Betain, Rote Bete)
B25: Rotsandelholz
B26: Angkak
B27: E 105 (Fast Yellow AB)
B28: E 107 (Gelb 2G)
A31: Farbstoffe | B31: 18 | C31: 18 | D31: 18 | E31: 18
A32: lfd. Nr. | B32: Bezeichnung des Farbstoffes
A33: 1 | B33: E 102 (Tartrazin)
A34: 2 | B34: E 104 (Chinolingelb)
A35: 3 | B35: E 110 (Gelborange S)
A36: 4 | B36: E 120 (Karmin)
A37: 5 | B37: 4-Amino-Karminsäure (aus E 120)
A38: 6 | B38: E 122 (Azorobin)
A39: 7 | B39: E 123 (Amaranth)
A40: 8 | B40: E 124 (Ponceau 4 R)
A41: 9 | B41: E 127 (Erythrosin)
A42: 10 | B42: E 128 (Rot 2G)
A43: 11 | B43: E 129 (Allurarot AC)
A44: 12 | B44: E 131 (Patentblau V)
... A50: 18 | B50: Farbstoff nicht quantifiziert

Sheet Phosphate
A1: Diphosphat | B1: 6 | C1: =MAX($A$3:$A$8)-1 -> 5
A2: Methode | B2: Bezeichnung des Analysenverfahrens | C2: Anzahl
A3: 1 | B3: § 64 LFGB Nr. L 06.00-15 (1982-11), 07.00-20 (1982-11), 08.00-22 (1982-11)
A4: 2 | B4: § 64 LFGB Nr. L 06.00-15 (1982-11), 07.00-20 (1982-11), 08.00-22 (1982-11), modifiziert | C4: x
A5: 3 | B5: Ionenchromatographie mit Leitfähigkeitsdedektion
A6: 4 | B6: ISO-Norm 5553
A7: 5 | B7: Sonstiges
A8: 6
B14: Di-1 | C14: Di-2 | D14: Tri-1 | E14: Tri-2
A15: Ergebnis | B15: 4 | C15: 4 | D15: 4 | E15: 4
A16: 1 | B16: positiv
A17: 2 | B17: negativ
A18: 3 | B18: unsicher
A19: 4 | B19: nicht untersucht

Sheet Kollagen
A1: Kollagenabbauprodukte | B1: 5 | C1: =MAX($A$3:$A$7)-1 -> 4
A2: Methode | B2: Bezeichnung des Analysenverfahrens | C2: Anzahl
A3: 1 | B3: § 64 LFGB Nr. L 07.00-57 (2008-06)
A4: 2 | B4: § 64 LFGB Nr. L 07.00-57 (2008-06), modifiziert oder andere Version | C4: x
A5: 3 | B5: Littmann-Nienstedt: Deutsch Lebensm Rundsch 97 61-64 (2001)
A6: 4 | B6: Sonstiges
A7: 5
A21: Entfettung | B21: 3
A22: 1 | B22: ja
A23: 2 | B23: nein
A24: 3

Sheet SLPhosphor
A1: SP | B1: 4 | C1: =MAX($A$3:$A$6)-1 -> 3
A2: Methode | B2: Bezeichnung des Analysenverfahrens | C2: Anzahl
A3: 1 | B3: § 64 LFGB Nr. L 06.00-10 (1992-12)
A4: 2 | B4: § 64 LFGB Nr. L 06.00-10 (1992-12), modifiziert oder andere Version | C4: x
A5: 3 | B5: Sonstiges
A6: 4

Sheet Phosphat
A1: Gesamtphosphat | B1: 23 | C1: =MAX($A$3:$A$25)-1 -> 22
A2: Methode | B2: Bezeichnung des Analysenverfahrens | C2: Anzahl
A3: 1 | B3: § 64 LFGB Nr. L 06.00-9 (08.00-9): 2008-06
A4: 2 | B4: § 64 LFGB Nr. L 06.00-9 (08.00-9): 2008-06, modifiziert | C4: x
A5: 3 | B5: § 64 LFGB Nr. L 06.00-15: 1982-11
A6: 4 | B6: § 64 LFGB Nr. L 06.00-15: 1982-11, modifiziert | C6: x
A7: 5 | B7: Aus der Asche, ICP-Messung (OES und MS)
A8: 6 | B8: Nassaufschluss, ICP-Messung (OES und MS)
A9: 7 | B9: Nassaufschluss, photometrisch mit Ammoniummolybdat/ -vanadat
A10: 8 | B10: Mikrowellendruckaufschluss, ICP-Messung (OES und MS)
A11: 9 | B11: Druckaufschluss mit Salpetersäure, ICP-Messung (OES oder MS)
A12: 10 | B12: vereinfachte Methode nach Arneth und Herold
A13: 11 | B13: VDLUFA VI 7.2.1.
A14: 12 | B14: Druckaufschluss mit HNO3, ICP-Messung (OES oder MS)
A15: 13 | B15: VDLUFA III 2.2.2.6
A16: 14 | B16: Nassaufschluss, photometrisch mit Ammoniummolybdat
A17: 15 | B17: CFA, aus Asche, Reaktion mit Molybdat/Vanadat
A18: 16 | B18: Richtlinie 77/535/EWG der EU-Kommission vom 22.06.1977 (Amtsblatt L 213, (1977))
... A21: 19 | B21: § 64 LFGB Nr. L 00.00-144
A22: 20 | B22: § 64 LFGB Nr. L 00.00-144, modifiziert | C22: x
A23: 21 | B23: NIR
A24: 22 | B24: Sonstiges
A25: 23

Sheet Natrium
A1: Elemente | B1: Na | D1: Na
A2: Probeneinwaage | B2: 8 | D2: =MAX(A3:A10)-1 -> 7
A3: 1 | B3: < 0,5 g
A4: 2 | B4: 0,5 g - 1,0 g
A5: 3 | B5: 1,0 g - 1,5 g
A6: 4 | B6: 1,5 g - 2,5 g
A7: 5 | B7: 2,5 g - 5,0 g
A8: 6 | B8: 5,0 g - 10,0 g
A9: 7 | B9: > 10,0 g
A10: 8
A13: Aufschluss | B13: 13 | D13: =MAX(A14:A26)-1 -> 12
A14: 1 | B14: Mikrowellendruckaufschluss
A15: 2 | B15: Druckaufschluss
A16: 3 | B16: Trockenveraschung bei 500 bis 540 °C
A17: 4 | B17: Trockenveraschung bei 540 °C bis 560 °C
A18: 5 | B18: Trockenveraschung bei 560 °C bis 600 °C
A19: 6 | B19: Trockenveraschung bei über 600 °C
A20: 7 | B20: Nassaufschluss
A21: 8 | B21: Verbrennen
A22: 9 | B22: Plasmaaufschluss
A23: 10 | B23: wässrige Extraktion
A24: 11 | B24: Trockenveraschung bei 450 bis 500 °C
A25: 12 | B25: Sonstiger Aufschluss
A26: 13
A29: Säuren | B29: 8 | D29: =MAX(A30:A37)-1 -> 7
A30: 1 | B30: HCl
A31: 2 | B31: HNO3
A32: 3 | B32: H2SO4
A33: 4 | B33: Königswasser
A34: 5 | B34: HNO3 + HCl
A35: 6 | B35: HNO3 + H2SO4
A36: 7 | B36: Sonstige Säure
A37: 8
A40: Oxidationsmittel | B40: 4 | D40: =MAX(A41:A44)-1 -> 3
A41: 1 | B41: H2O2
A42: 2 | B42: entfällt
A43: 3 | B43: Sonstiges Oxidationsmittel
A44: 4
A47: Messverfahren | B47: 9 | D47: =MAX(A48:A56)-1 -> 8
A48: 1 | B48: Flammen-AAS
A49: 2 | B49: Flammenemmission
A50: 3 | B50: ICP-MS
A51: 4 | B51: ICP-OES
A52: 5 | B52: ICP-AES
A53: 6 | B53: Kapillarelektrophores
A54: 7 | B54: Ionensensitive Bestimmung
A55: 8 | B55: Sonstiges
A56: 9
A59: Verfahren | B59: 25 | D59: =MAX(A60:A84)-1 -> 24
A60: 1 | B60: § 64 LFGB Nr. L 00.00-19/1
A61: 2 | B61: § 64 LFGB Nr. L 00.00-19/1, modifiziert | C61: x
A62: 3 | B62: § 64 LFGB Nr. L 17.00-17
A63: 4 | B63: § 64 LFGB Nr. L 17.00-17, modifiziert | C63: x
A64: 5 | B64: § 64 LFGB Nr. L 31.00-10 (DIN EN 1134)
A65: 6 | B65: § 64 LFGB Nr. L 31.00-10 (DIN EN 1134), modifiziert | C65: x
A66: 7 | B66: DIN EN ISO 11885
A67: 8 | B67: DIN EN ISO 7980 DEV 3a
A68: 9 | B68: DIN EN ISO 17294-2
A69: 10 | B69: DIN EN ISO 14911
A70: 11 | B70: VDLUA VII 2.2.2.6
A71: 12 | B71: DIN EN ISO 15763
A72: 13 | B72: DIN EN ISO 15510
A73: 14 | B73: DIN EN 15505
A74: 15 | B74: AOAC 985.35
A75: 16 | B75: DIN CEN/TS 15621, Vornorm, mod.
A76: 17 | B76: § 64 LFGB Nr. L 07.00-56
A77: 18 | B77: § 64 LFGB Nr. L 07.00-56, modifiziert | C77: x
A78: 19 | B78: § 64 LFGB Nrn L 06.00-4 und L 06.00-9
A79: 20 | B79: § 64 LFGB Nr. L 00.00-144
A80: 21 | B80: § 64 LFGB Nr. L 00.00-144, modifiziert | C80: x
A81: 22 | B81: § 64 LFGB Nr. L 00.00-135
A82: 23 | B82: § 64 LFGB Nr. L 00.00-135, modifiziert | C82: x
A83: 24 | B83: Sonstiges
A84: 25

Sheet Wasser
A1: Wasser | B1: 20 | C1: =MAX($A$3:$A$22)-1 -> 19
A2: Methode | B2: Bezeichnung des Analysenverfahrens | C2: Modifikation
A3: 1 | B3: § 64 LFGB Nr. L 06.00-3 (07.00-3): 2004-06 / 2014-08
A4: 2 | B4: § 64 LFGB Nr. L 06.00-3 (07.00-3): 2004-06 / 2014-08, modifiziert | C4: x
A5: 3 | B5: Trocknung bei 103 ± 2 °C
A6: 4 | B6: Gefriertrocknung
A7: 5 | B7: Mikrowellentrocknung
A8: 6 | B8: Vakuumtrocknung
A9: 7 | B9: §64 LFGB Nr. L 02.09-4, auch modifiziert
A10: 8 | B10: Schweizerisches Lebensmittelbuch Kapitel 11/4.1
A11: 9 | B11: Trocknung mit Seesand bei 105 ± 2 °C
A12: 10 | B12: thermogravimetrische Analyse (TGA)
A13: 11 | B13: ISO 1442-2000
A14: 12 | B14: ISO 1442:1997-02-01
A15: 13 | B15: VDLUFA III 3.1
A16: 14 | B16: SLMB Methode Nr. 312.1
A17: 15 | B17: NIR nach § 64 LFGB Nr. L 08.00-60 8-2014
A18: 16 | B18: NIR nach § 64 LFGB Nr. L 08.00-60 8-2014, modifiziert oder andere Version | C18: x
A19: 17 | B19: NIR (andere Basis)
A20: 18 | B20: SOP-ATSLeco-202
A21: 19 | B21: Sonstiges
A22: 20

Sheet Fett
A1: Fett | B1: 18 | C1: =MAX($A$3:$A$20)-1 -> 17
A2: Methode | B2: Bezeichnung des Analysenverfahrens | C2: Anzahl
A3: 1 | B3: § 64 LFGB Nr. L 06.00-6 (07.00-6): 2014-06
A4: 2 | B4: § 64 LFGB Nr. L 06.00-6 (07.00-6): 2014-06, modifiziert oder andere Version | C4: x
A5: 3 | B5: nach Caviezel (Büchi bzw, Gerstel)
A6: 4 | B6: nach Weibull-Stoldt
A7: 5 | B7: Extraktion aus der Trockenmasse
A8: 6 | B8: Mikrowellenextraktion
A9: 7 | B9: ISO 1444:2000
A10: 8 | B10: ISO 1443:1973
A11: 9 | B11: Extraktion nach Soxhlet
A12: 10 | B12: Fett aus der Trockenmasse, Extraktion nach Soxhlet
A13: 11 | B13: nach Großeld (Extraktion aus der TS)
A14: 12 | B14: Hydrotherm (Gerhardt)
A15: 13 | B15: NIR
A16: 14 | B16: NIR nach § 64 LFGB Nr. L 08.00-60 8-2014
... A19: 17 | B19: Sonstiges
A20: 18

Sheet Rohprotein
A1: Rohprotein (N * 6,25) | B1: 17 | C1: =MAX($A$3:$A$19)-1 -> 16
A2: Methode | B2: Bezeichnung des Analysenverfahrens | C2: Anzahl
A3: 1 | B3: § 64 LFGB Nr. L 06.00-7 (08.00-7): 2007-04 / 2014-08
A4: 2 | B4: § 64 LFGB Nr. L 06.00-7 (08.00-7): 2007-04 / 2014-08, modifiziert | C4: x
A5: 3 | B5: § 64 LFGB Nr. L 06.00-20 (01.00-60): 2003-12
A6: 4 | B6: § 64 LFGB Nr. L 06.00-20 (01.00-60): 2003-12, modifiziert | C6: x
A7: 5 | B7: Nach Dumas
A8: 6 | B8: Nach Kjeldahl
A9: 7 | B9: § 64 LFGB Nr. L 02.09-5 (DIN 10454): 1986-05
A10: 8 | B10: § 64 LFGB Nr. L 02.09-5 (DIN 10454): 1986-05, modifiziert | C10: x
A11: 9 | B11: Katalysator: Kjeltabs CX; Vapodest 50c (Fa. Gerhardt)
A12: 10 | B12: Autoanalyzer
A13: 11 | B13: NIR
A14: 12 | B14: ISO 937-1978 E; Katalysator CX, Vapodest 50c (Fa. Gerhardt)
A15: 13 | B15: AOAC Official Method 2011.04
A16: 14 | B16: NIR nach § 64 LFGB Nr. L 08.00-60 8-2014
A17: 15 | B17: NIR nach § 64 LFGB Nr. L 08.00-60 8-2014, modifiziert oder andere Version | C17: x
A18: 16 | B18: Sonstiges
A19: 17

Sheet pH-Wert
A1: pH-Wert | B1: 8 | C1: =MAX($A$3:$A$10)-1 -> 7
A2: Methode | B2: Bezeichnung des Analysenverfahrens | C2: Anzahl
A3: 1 | B3: § 64 LFGB Nr. L 06.00-2 (1980-09), 07.00-2 (1980-09)
A4: 2 | B4: § 64 LFGB Nr. L 06.00-2 (1980-09), 07.00-2 (1980-09), modifiziert oder andere Version | C4: x
A5: 3 | B5: Potentiometrisch
A6: 4 | B6: Einstichelektrode
A7: 5 | B7: Oberflächenmessung
A8: 6 | B8: § 64 LFGB L31.00-2 (auch modifiziert)
A9: 7 | B9: Sonstiges
A10: 8

Sheet NPN
A1: NPN | B1: 8 | C1: =MAX($A$3:$A$29)-1 -> 7
A2: Methode | B2: Bezeichnung des Analysenverfahrens | C2: Anzahl
A3: 1 | B3: § 64 LFGB Nr. L 07.00-41 (2006-09)
A4: 2 | B4: § 64 LFGB Nr. L 07.00-41 (2006-09), modifiziert oder andere Version | C4: x
A5: 3 | B5: Trichloressigsäureextraktion, Kjeldahl-Aufschluss, Titration
A6: 4 | B6: § 64 LFGB Nr. L 01.00-10/4
A7: 5 | B7: § 64 LFGB Nr. L 01.00-10/4, modifiert oder andere Version)
A8: 6 | B8: NIR
A9: 7 | B9: Sonstiges
A10: 8

Sheet Asche
A1: Asche | B1: 18 | C1: =MAX($A$3:$A$39)-1 -> 17
A2: Methode | B2: Bezeichnung des Analysenverfahrens | C2: Anzahl
A3: 1 | B3: § 64 LFGB Nr. L 06.00-4 (08.00-4): 2007-04
A4: 2 | B4: § 64 LFGB Nr. L 06.00-4, (08.00-4): 2007-04, modifiziert | C4: x
A5: 3 | B5: § 64 LFGB Nr. L 08.00-60: 2014-08
A6: 4 | B6: § 64 LFGB Nr. L 08.00-60: 2014-08, modifiziert oder andere Version | C6: x
A7: 5 | B7: Veraschung bei 500 °C bis 540 °C
A8: 6 | B8: Veraschung bei 540 °C bis 580 °C
A9: 7 | B9: Veraschung bei 580 °C bis 620 °C
A10: 8 | B10: Veraschung bei 620 °C bis 660 °C
A11: 9 | B11: mikrowellenbeschleunigte Veraschung
A12: 10 | B12: § 64 LFGB 17.00-3: 1982-05 (ohne Vortrocknen )
A13: 11 | B13: ISO 936:2000
A14: 12 | B14: LECO TGA bei 550 °C
A15: 13 | B15: VDLUFA Bd. VI C 10.2
A16: 14 | B16: SLMB Methode Nr. 313.1
A17: 15 | B17: Mikrowellenveraschung 600 °C
A18: 16 | B18: NIR
A19: 17 | B19: Sonstiges
A20: 18

Sheet Kochsalz
A1: Kochsalz | B1: 20 | C1: =MAX($A$3:$A$22)-1 -> 19
A2: Methode | B2: Bezeichnung des Analysenverfahrens | C2: Anzahl
A3: 1 | B3: § 64 LFGB Nr. L 07.00-5/1: 2010-01 (potentiometrisch)
A4: 2 | B4: § 64 LFGB Nr. L 07.00-5/1: 2010-01 (potentiometrisch), modifiziert | C4: x
A5: 3 | B5: § 64 LFGB Nr. L 07.00-5/2: 2010-01 (nach Volhard)
A6: 4 | B6: § 64 LFGB Nr. L 07.00-5/2: 2010-01 (nach Volhard), modifiziert | C6: x
A7: 5 | B7: § 64 LFGB Nr. L 08.00-60: 2014-08
A8: 6 | B8: § 64 LFGB Nr. L 08.00-60: 2014-08, modifiziert oder andere Version | C8: x
A9: 7 | B9: § 64 LFGB Nr. L 03.00-11: 2007-012
A10: 8 | B10: § 64 LFGB Nr. L 03.00-11: 2007-012, modifiziert | C10: x
A11: 9 | B11: Potentiometrisch (auch aus der Asche) durch Titration mit Silbernitrat
A12: 10 | B12: Nach Mohr
A13: 11 | B13: Nach Vollhard
A14: 12 | B14: Ionenchromatographisch (auch aus der Asche)
A15: 13 | B15: § 64 LFGB Nr. L 17.00-6: 1988-12, auch modifiziert | C15: x
A16: 14 | B16: Potentiometrisch (aus dem Säureaufschluss) durch Titration mit Silbernitrat
A17: 15 | B17: NIR
A18: 16 | B18: Photometrisch nach Thermo Fisher Sci. Gallery Testkit
A19: 17 | B19: HPLC-CD
A20: 18 | B20: Potentiometrisch nach Heißwasserextraktion und Eiweißfällung
A21: 19 | B21: Sonstiges
A22: 20
