Workbook
Name _ftn1: Hints1!#REF!
Name _ftn1: Hinweise1!#REF!
Name _ftn1: Hinweise3!$A$3
Name _ftnref1: Hints1!$A$3
Name _ftnref1: Hinweise1!$A$2
Name _ftnref1: Hinweise3!#REF!
Name Daten: #REF!
Name Daten: #REF!
Name Elemente: [1]Parameter2!$B$3:$B$18
Name MBlei: #REF!
Name MBlei: #REF!
Name OLE_LINK1: Ergebnisangabe!$A$20
Name OLE_LINK1: Reporting!$A$20
Name OLE_LINK2: Reporting!$J$13
Name Parameter2: Ascorbinsäure!$B$14:$B$25
Name Parameter2: #REF!
Name Parameter2: #REF!
Name Parameter2: Isoascorbinsäure!$B$3:$B$12
Name Parameter2: #REF!
Name Parameter2: Lactat!$B$3:$B$15
Name Parameter2: Sorbinsäure!$B$3:$B$15
Name Parameter2: Lactose!$B$3:$B$21
Name Parameter2alt: #REF!
Name Parameter2alt: #REF!
Name test: [2]Parameter2!$B$3:$B$18
Name test: [3]Parameter2!$B$3:$B$18
Name test: [2]Parameter2!$B$3:$B$18
Name test: [2]Parameter2!$B$3:$B$18
Name test: [3]Parameter2!$B$3:$B$18
Name test: [3]Parameter2!$B$3:$B$18

Sheet Hints1
A1: References to the result transmission and to the indication of result (Deadline see "Ergebnisse")
A2: Before analysing the samples, homogenize the samples again, please. After homogenisation You should analyse both samples with your standard procedures.
A3: Use this file for your result transmissions, please. Fill for this in the file yellow fields deposited out and send back the file afterwards by email to “ergebnisse@lvus.de”. It is important that for the clear allocation of the results to your laboratory in the table "Ergebnisse" (results) your client number and your postal zip code must be entered (both numbers only).
A4: The result data must be given in in the units as described at every parameter. To the avoidance of deviations in the laboratory made roundness, You are asked with each parameter after the first number deviating from 0 to indicate still the listened further numbers (even if due to Your validating data this accuracy is not kept by your analysis procedure). ISO 13 528 4.6 recommends that individual measurement results schould not be rounded by more than sr/2.
A6: Examples for transmissions of results:
A7: It a test material the element "Mg" was quantified. You are asked to report 3 significant numbers. The following computational contents are determined:
A9: Computed Value [mg/kg] | B9: Transmission of result [mg/kg]
A10: 1379 | B10: 1380
A11: 179.34 | B11: 179
A12: 80.12 | B12: 80.1
A13: 7.8 | B13: 7.8

Sheet Reporting

Sheet Hinweise1
A1: Hinweise zur Ergebnisübermittlung und zur Ergebnisangabe
A2: Bitte verwenden Sie diese Datei für Ihre Ergebnisübermittlung. Füllen Sie hierzu alle in der Tabelle "Ergebnisse" gelb hinterlegten Felder aus bzw. wählen Sie Ihre Angaben zu den von Ihnen verwendeten Methoden über die vorhandenen Auswahlfenster aus.
A3: Die ausgefüllte Exceltabelle muss per eMail als Anlage bis spätestens zur Deadline an eine der beiden Adressen ergebnisse@lvus.de oder results@lvus.de gesendet werden. Bitte beachten Sie, dass Ihre eMail nur die Exceltabelle als Anlage enthalten darf. Ausser Ihrem Absender soll die eigentliche eMail keine weiteren Daten oder Texte enthalten, da alle an die Adressen ergebnisse@lvus.de oder results@lvus.de gesendeten eMails automatisch ausgelesen werden.
A4: Nach der in der Tabelle "Ergebnisse" aufgeführten Deadline eingehende Ergebnisse werden bei der Auswertung nicht berücksichtigt.
A5: Es ist wichtig, dass Sie zur eindeutigen Zuordnung der Ergebnisse zu Ihrem Labor sowohl Ihre Kunden-Nr. als auch Ihre Postleitzahl (auf dem Anschreiben enthalten - nur Ziffern eingeben) eingeben. Über eine bei der Auswertung durchgeführte Plausibilitätsprüfung soll erkannt werden, ob Tippfehler vorliegen und dadurch die Daten einem anderen Teilnehmer zugeordnet werden könnten.
A6: Interne Teilnahme: Diesen Wert bitte nur ändern, falls Sie für Ihr Haus mehrere getrennte und damit kostenpflichtige Teilnahmen gebucht haben. Über diesen Wert werden die unter einer Kundennummer geführten Teilnahmen getrennt erfasst und die Ergebnisse anschließend der Auswertung zugeführt. Entscheiden Sie, welcher Ihrer Laborbereiche unter der Teilnahme 1 oder 2 registirert und ausgewertet werden soll.
A7: Die Ergebnisangaben müssen in der/den vorgegebenen Maßeinheiten erfolgen - Ihre Angaben werden ohne Änderungen zur Auswertung verwendet! Zur Vermeidung von Abweichungen durch bereits im Labor vorgenommene Rundungen werden Sie gebeten, bei jedem Parameter eine bestimmte Anzahl signifikanter Ziffern anzugeben (auch wenn auf Grund Ihrer Validierungsdaten diese Genauigkeit von Ihrem Analysenverfahren nicht eingehalten wird). Nach ISO 13528 Abschnitt 4.6 sollen Ergebnisse nicht stärker gerundet werden als dem halben Betrag der Wiederholstandardabweichung entspricht.
A8: Beispiele zur Ergebnisangabe: In einer Probe wurde der Gehalt von Mangan bestimmt. Es werden folgende rechnerischen Gehalte ermittelt:
A9: Beispielhafter Wert [mg/kg] | B9: Ergebnisangabe mit 3 signifikanten Ziffern [mg/kg]
A10: 1379 | B10: 1380
A11: 179.34 | B11: 179
A12: 80.12 | B12: 80.1
A13: 7.8 | B13: 7.8
A15: Verfahren sowie Literaturangaben, die von Teilnehmern bei bereits durchgeführten Laborvergleichsuntersuchungen angewendet wurden, sind in Auswahlfenstern vorbelegt, um Ihnen das Ausfüllen zu erleichtern. Über diese Auswahlfenster wählen Sie bitte diejenigen Einträge aus, die bei den von Ihnen angewandten Verfahren zutreffend sind. Ist kein zutreffender Eintrag vorhanden, so wählen Sie bitte den Eintrag "sonstiges.." aus. Tragen Sie dann in der nächsten Zeile (wird gelb hervorgehoben) die auf Ihr Verfahren zutreffende Beschreibung ein.
A16: Geben Sie in der Tabelle "Kontakt" den Namen, die eMail-Adresse sowie die Telefonnummer der Kontaktperson an, die wir bei Fragen kontaktieren können. Nach Fertigstellung der Auswertung soll an die angegebene eMail-Adresse zusätzlich zur gedruckten Auswertung auch eine Passwort-freie Auswertedatei im PDF-Format gesendet werden.
A17: Sollten Sie uns ergänzende Hinweise/Beobachtungen mitteilen wollen, so verwenden Sie hierfür den vorgesehenen Bereich innerhalb der Tabelle "Mitteilungen".
A18: Da Ihre eMail automatisch weiterverarbeitet wird, dürfen nur in der Exceltabelle Kommentare oder Hinweise zu den Proben und durchgeführten Untersuchungen enthalten sein. Außerdem darf Ihre eMail nur eine einzige Anlage enthalten. Sie erhalten automatisch eine Benachrichtigung über den Eingang Ihrer Ergebnisse.

Sheet Hinweise2
A1: Erläuterungen zur Weiterverarbeitung Ihrer Daten
A2: Diese Tabellen wurden so aufgebaut, dass die Daten automatisiert in unser Auswerteprogramm übernommen werden können. Die Tabellen dürfen daher keinesfalls im Aufbau verändert werden, da dann ein automatisiertes Auslesen der mitgeteilten Daten nicht mehr möglich wäre.
A3: Aus diesem Grund wurden die Tabellen gegen Veränderungen geschützt. Eingaben oder auch die Auswahl von Eigenschaften sind nur an wenigen Stellen nötig. Diese Stellen sind gelb hinterlegt.
A4: Da das Ausführen von Macros eine potentielle Gefährdung von Computersystemen bedeuten kann, gehen wir davon aus, dass ausführbare Macros in zahlreichen Fällen von den entsprechenden System-Administratoren unterdrückt werden. Deshalb wurde auf die Verwendung von Macros bei der Erstellung der Tabellen zur Ergebniserfassung komplett verzichtet, obwohl damit ein komfortableres Arbeiten möglich wäre.
A5: Beim Eingang Ihrer eMail wird diese von unserem System automatisch weiterverarbeitet, wobei einige Plausibilitäten (z.B. Vollständigkeit der Absenderangabe oder Kennzeichnung als Update bei erneuter Dateneinsendung) überprüft werden. Im Anschluss an diese Prüfung erhalten Sie automatisiert eine eMail-Antwort. Darin werden Sie darüber informiert, ob Ihre Daten prinzipiell weiterverarbeitet werden können oder ob benötigte Einträge fehlen und Sie Ihre Ergebnisse nach Ergänzung der fehlenden Angaben erneut einsenden sollen. Eine Prüfung auf Vollständigkeit von Ergebnisangaben (sind überhaupt Ergebnnisdaten vorhanden?) oder deren Angabe in den vorgegebenen Maßeinheiten wird zu diesem Zeitpunkt nicht vorgenommen.
A6: Sollten Sie noch vor dem Ende der Ergebnisannahme bemerken, dass in Ihrer Ergebnistabelle Fehler enthalten sind, so senden Sie einfach eine korrigierte Version an die Adresse ergebnisse@lvus.de. Kennzeichnen Sie in diesem Fall Ihre Tabelle als Aktualisierung, da ansonsten das System die Annahme der Daten zurückweist ("es sind ja bereits Daten von Ihnen vorhanden"). Ihre aktualiserte Ergebnistabelle muss vollständig ausgefüllt sein und insbesondere alle Ergebnisdaten der Vorversion enthalten, da bei einer Kennzeichung als Aktualiserung (Update) die zuvor eingesandte Ergebnistabelle durch die Aktualisierung vollständig ersetzt wird.
A7: Ihre Daten werden von uns wie mitgeteilt zur Auswertung verwendet. Selbst offensichtliche Fehler, wie - Tippfehler, - Übertragungsfehler in die Ergebniserfassungstabelle, - Angaben in einer anderen, von der Vorgabe abweichenden Maßeinheit werden zur Auswertung unverändert, also ohne Änderung übernommen und führen dann zu schlechten Bewertungen. Daher sollten Sie Ihre Eingaben sorgfältig durchführen und dabei insbesondere auch überprüfen, ob Ihre laborüblichen Maßeinheiten mit denen im Tabellenblatt übereinstimmen.
A8: Nach Ende der Frist zur Ergebnisabgabe sind Korrekturen nur noch möglich, falls die Auswertung der Daten noch nicht erfolgt ist. Korrekturen von fehlerhaften Teilnehmerangaben werden nach der Auswertung und insbesondere nach Veröffentlichung des Protokolls nicht mehr durchgeführt.

Sheet Hinweise3
A1: Hinweise zur Auswertung
A2: Die Beurteilung der Laborergebnisse erfolgt durch Z-Scores, die möglichst über die Vergleichsstandardabweichung des jeweiligen Standardverfahrens aus der Amtlichen Sammlung nach § 64 LFGB berechnet werden. Zusätzlich werden Z-Scores über die nach der Horwitz- funktion ermittelte Zielstandardabweichung für den jeweiligen Analyten berechnet.
A3: Mit abnehmenden Gehalten von Analyten in der Probe steigt die über die Horwitzfunktion berechnete Zielstandardabweichung stark an. So beträgt z.B. die relative Standardabweichung nach Horwitz 10 % bei einem Analytgehalt von 23 mg/kg und bereits 22,6 % bei einem Analytgehalt von 100 µg/kg.
A4: Zur Vermeidung zu „breiter“ Beurteilungszonen wird deshalb bei der Auswertung bei allen Parametern der Wert der Zielstandardabweichung auf maximal 22 % vom Wert des Medians beschränkt.
A5: Zunächst werden alle mitgeteilten Laborergebnisse berücksichtigt und die darüber berechneten statistischen Kenndaten für die Parameter aufgeführt.
A6: Zur Ermittlung der endgültigen statistischen Kenndaten werden bei allen in den Proben enthaltenen Wirkstoffe Zweitberechnungen durchgeführt. Bei diesen Zweitberechnungen bleiben generell die Ergebnisdaten von allen Laboratorien unberücksichtigt, deren Ergebnisse um mehr als 5 Zielstandardabweichungen (5 Z-Scores) vom Median des Analyten abweichen.
A7: Darüber hinaus bleiben bei allen Parametern zusätzlich alle Ergebnisse unberücksichtigt, die um mehr als 50 % vom Median abweichen und bei denen gleichzeitig der Betrag des Z-Score größer als 3 ist. Diese Regelung greift bei allen Parametern mit Analytgehalten unter 23 mg/kg.

Sheet Ergebnisangabe
A1: Hinweise zum Erfassen und Einsenden der Untersuchungsergebnisse
A2: Zur Bestimmung der Parameter sollen zwei vollständig getrennte Analysengänge durch¬geführt werden. Verwenden Sie für die Analysengänge 1 und 2 Probenmaterial aus verschiedenen Probeneinheiten.
A3: Benutzen Sie für die Ergebnisübermittlung diese vordefinierte Tabelle im Excelformat. Die Tabelle steht auch auf unserer Homepage (www.lvus.de) im Bereich „Download“ bereit.
A4: Geben Sie im Register "Kontakt" den Namen, die eMail-Adresse sowie die Telefonnummer der Kontaktperson an, die wir bei Fragen kontaktieren können. Nach Fertigstellung des Protokolls wird ausschließlich an die dort angegebenen eMail-Adressen vorab ein Passwort-freies Protokoll im PDF-Format gesendet.
A5: Tragen Sie im Register „Ergebnisse“ unbedingt Ihre Kundennummer und Ihre Postleitzahl ein, da darüber die Identifizierung des Einsenders erfolgt. In die beiden Datenfelder „Kundennummer“ und „Postleitzahl“ dürfen nur Ziffern eingegeben werden.
A6: Die Felder zur Eingabe Ihrer Ergebnisdaten sind nicht mit einer festen Nachkommazahl vordefiniert, um keine Hinweise auf eventuelle Gehalte von Parametern zu geben.
A7: Beachten Sie die Hinweise zu den gültigen (signifikanten) Ziffern bei den Parametern. Die Anzahl der Ziffern ist so zu wählen, dass beide Ergebnisse nur im Ausnahmefall aus iden¬tischen Ziffernfolgen bestehen. In einigen Fällen, z.B. bei Gehalten um 10 %, ist die Vorgabe gültiger Stellen schwierig: Die Ergebnisse „10,16% und 9,94% sind vergleichbar, nicht aber „10,2%“ und „9,94%“. Die Angabe einer zusätzlichen gültigen Stelle ist hier angebracht.
A8: Über Auswahlfelder sind gängige Untersuchungsverfahren bereits vordefiniert, um das Ausfüllen bei den Untersuchungsverfahren zu erleichtern. Sollten Sie ein nicht aufgeführtes Verfahren anwenden, wählen Sie „sonstiges“ aus und tragen Ihr Verfahren dann ein. Sofern weitere Informationen zur Auswertung nötig sind, werden auch gängige Verfahrensprinzipien und/oder Bezugsquellen kommerziell vertriebener Testsätze in ähnlicher Weise vordefiniert.
A9: In zahlreichen Fällen wird auch nachgefragt, ob Sie streng nach der Vorschrift gemäß § 64 LFGB arbeiten. Streng bedeutet, dass Sie ohne prüfrelevante Abweichungen arbeiten. Sollte die Abweichung lediglich die untersuchte Matrix sein (z.B. Ketchup anstelle von Brühwurst), dann soll dies nicht als Modifikation gekennzeichnet werden.
A10: Da Ihre eMail automatisch weiterverarbeitet wird, dürfen nur innerhalb der Exceltabelle in vordefinierten Bereichen Kommentare oder Hinweise zu den Proben und durchgeführten Untersuchungen enthalten sein (z.B. im Register „Mitteilungen“).
A11: Senden Sie uns die vollständig ausgefüllte Ergebnisdatei als Anlage im aktuellen Excelformat (Datei-Endung ".xlsx") oder im Format von Excel 2000 (Datei-Endung ".xls") per eMail an die Adresse „ergebnisse@lvus.de“. Ihre eMail darf nur eine einzige Anlage enthalten. eingesendete Tabellen verarbeiten.
A12: Nach dem Eingang in unserer Mailbox "ergebnisse@lvus.de" erhalten Sie automatisch eine Benachrichtigung/Bestätigung über den Eingang Ihrer eMail.
... A15: Senden Sie elektronisch mitgeteilte Ergebnisse nicht noch zusätzlich per Post oder Telefax.

Sheet Kontakt
A1: Kontaktperson | C1: Contact person
A2: Name | C2: Name
A3: eMail | C3: eMail-Address
A4: Telefon (inklusive Vorwahl): | C4: telefone (including country and area code)
A6: Bitte geben Sie den Namen, eMail-Adresse und die Telefonnummer der Person an, die wir bei Rückfragen kontaktieren können. An die aufgeführte eMailadresse wird das Protokoll zusätzlich auch als Passwort-freie PDF-Datei gesendet.
A8: Type in name, e-mail address and telefone number of the person we can contact in case of any questions, please. In addition to a printed version we will send a PDF-document (passwort-free) of the report to this e-mail address.
A10: Falls die Auswertung zusätzlich noch an eine zweite Adresse gesendet werden soll, geben Sie die zweite Adresse getrennt durch ein Semikolon mit nachfolgendem Leerzeichen ein.
A11: In case the PDF-document of the report should be sent to a second e-mail address seperate both e-mail addresses by typing in a semicolon followed by a blank.
A12: Beispiel für die Eingabe von 2 eMail-Adressen: Example how to type in 2 different e-mail addresses: | C12: info@lvus.de; ergebnisse@lvus.de
A15: eMail-Kontrolle: | C15: check of the e-Mail address
A16: Ergebnis der Überprüfung: | B16: =IF(ISBLANK(B15),"",IF(B3=B15,"Kontrolle erfolgreich - check ok","FEHLER - ERROR")) | C16: result of the control
B17: =IF(ISBLANK(B15),"",IF(ISERROR(FIND("@",B15,1)),"keine gültige eMail-Adresse",IF((VALUE(FIND("@",B15,1))>1),"","keine gültige eMail-Adresse!")))
B18: =IF(ISBLANK(B15),"",IF(ISERROR(FIND("@",B15,1)),"no valid eMail-adress",IF((VALUE(FIND("@",B15,1))>1),"","no valid eMail-address!")))
B19: =IF(ISBLANK(B15),"",IF(ISERROR(FIND("; ",B15,1)),"",IF((VALUE(FIND("; ",B15,1))>8),"","Achtung - die zweite eMail-Adresse wurde nicht korrekt eingegeben")))

Sheet Teilnehmerdaten
A1: Kundennummer | B1: =IF(ISNUMBER(VALUE(Ergebnisse!G1)),IF(VALUE(Ergebnisse!G1)>0,VALUE(Ergebnisse!G1),""),"") | D1: Umformung
A2: Postleitzahl | B2: =IF(ISNUMBER(VALUE(Ergebnisse!G2)),IF(VALUE(Ergebnisse!G2)>0,VALUE(Ergebnisse!G2),""),"")
A3: Produkt | B3: 01b | D3: Auswahl
A4: Jahrgang | B4: =YEAR(Ergebnisse!E5) -> 2020 | D4: 2
A5: Update | B5: =D8 -> N | D5: =IF(D4=2,"N","J") -> N | F5: 1 | G5: ja / yes
A6: Teilnahmen | B6: =Ergebnisse!G3 -> 1 | F6: 2 | G6: nein / no
A7: Deadline | B7: =Ergebnisse!E5 -> 44080
A8: Parameterzahl | B8: 11 | D8: =LEFT(D5,1) -> N
A9: Bestimmungen je Parameter | B9: 2
A10: Parameter 1 | B10: =Ergebnisse!A22 -> Citrat (als wasserfreie Citronensäure) | C10: =Ergebnisse!B22 -> mg/kg
A11: Parameter 2 | B11: =Ergebnisse!A23 -> Acetat (berechnet als Natriumacetat) | C11: =Ergebnisse!B23 -> mg/kg
A12: Parameter 3 | B12: =Ergebnisse!A24 -> Lactose, wasserfrei | C12: =Ergebnisse!B24 -> g/100 g
A13: Parameter 4 | B13: =Ergebnisse!A25 -> Nitrit (berechnet als NaNO2) | C13: =Ergebnisse!B25 -> mg/kg
A14: Parameter 5 | B14: =Ergebnisse!A26 -> Nitrat (berechnet als NaNO3) | C14: =Ergebnisse!B26 -> mg/kg
A15: Parameter 6 | B15: =Ergebnisse!A27 -> Glutaminsäure | C15: =Ergebnisse!B27 -> mg/kg
A16: Parameter 7 | B16: =Ergebnisse!A28 -> Ascorbinsäure | C16: =Ergebnisse!B28 -> mg/kg
A17: Parameter 8 | B17: =Ergebnisse!A29 -> Iso-Ascorbinsäure | C17: =Ergebnisse!B29 -> mg/kg
A18: Parameter 9 | B18: =Ergebnisse!A30 -> L-Lactat (berechnet als Milchsäure) | C18: =Ergebnisse!B30 -> mg/kg
A19: Parameter 10 | B19: =Ergebnisse!A31 -> D-Lactat (berechnet als Milchsäure) | C19: =Ergebnisse!B31 -> mg/kg
A20: Parameter 11 | B20: =Ergebnisse!A32 -> Calcium | C20: =Ergebnisse!B32 -> mg/kg

Sheet Ergebnisse
A1: Ergebnisdatenblatt | E1: Kunden-Nr.
A2: Brühwurst, erweiterte Parameter | E2: Postleitzahl
E3: interne Teilnahme: | G3: 1
A4: Einsendeadresse: | B4: ergebnisse@lvus.de | F4: =IF(ISBLANK(G1),"",IF(ISNUMBER(VALUE(G1)),"","Bitte nur Ziffern eingeben (numbers only)")) | G4: V.1
A5: Annahmeschluss: | E5: 44080 | F5: =IF(ISBLANK(G2),"",IF(ISNUMBER(VALUE(G2)),"","Bitte nur Ziffern eingeben (numbers only)"))
A7: Schreiben Sie Ihre Daten in die gelb hinterlegten Felder. Geben Sie Ihre Ergebnisse in den aufgeführten Einheiten an. Write your data into the yellow cells. Give your results in the units of column 2.
A8: Geben Sie Ihre Ergebnisse mit den in Spalte 3 aufgeführten signifikanten Stellen an. Beispiele hierzu sind in "Hinweise1" enthalten. Report your results with in column 3 shown significant numbers (there are some examples in sheet "hints1" .
A9: In einigen Fällen, z.B. bei Gehalten um 1 % oder 10 %, ist die Vorgabe gültiger Stellen schwierig: Die Ergebnisse „1,06% und 0,98% sind vergleichbar, nicht aber „1,1 %“ und „0,98%“. Die Angabe einer zusätzlichen gültigen Stelle beim Beispielwert 1,06 ist hier angebracht.
A10: Sollte ein Inhaltsstoff nicht bestimmbar sein, so teilen Sie uns bitte den Wert Ihrer Bestimmungsgrenze mit vorangestelltem "< “ mit. In cases you will not detect a parameter, report your limit of quantification with "< " in front of the value.
A11: Falls Sie einen Parameter nicht bearbeiten, lassen Sie die zugehörigen Ergebnisdatenfelder bitte leer. If you are not analysing parameters in your laboratory do not write anything into the corresponding fields for the results.
A12: Zur Beschreibung des Analysenverfahrens verwenden Sie bitte die im unteren Teil dieses Datenblatts enthaltenen Auswahlfelder. To describe your method use the Pulldown-menus following after the result area.
A13: Beim Parametern NPN wird die Angabe benötigt, ob der Probenaufarbeitung ein Entfettungsschritt durchgeführt wird. Nur dann kann eine differenzierte Auswertung durchgeführt werden.
A14: =IF(OR(ISBLANK(G1),ISBLANK(G2)),"Die Tabelle ist so nicht versandfertig. Es fehlen noch Eingaben bei Kunden-Nr. und/oder Postleitzahl.","Wichtig: Sind Ihre Eingaben bei Kunden-Nr. und Postleitzahl korrekt?") -> Die Tabelle ist so nicht versandfertig. Es fehlen noch Eingaben bei Kunden-Nr. und/oder Postleitzahl.
A15: =IF(OR(ISBLANK(G1),ISBLANK(G2)),"Nur wenn diese beiden Felder korrekt ausgefüllt sind, kann der Absender dieser Tabelle identifiziert werden.","") -> Nur wenn diese beiden Felder korrekt ausgefüllt sind, kann der Absender dieser Tabelle identifiziert werden.
A17: Tabelle wurde bereits einmal gesendet, es handelt sich um eine Aktualisierung:
A19: Untersuchungsergebnisse
A20: Parameter | B20: Einheit | C20: Signifikante Stellen | D20: Analysen- gang 1 | E20: Analysen- gang 2 | F20: Verfahren / Literatur
A21: pH-Wert | B21: ohne | C21: 3 | F21: =pHWert!$B$1 -> 7 | H21: =pHWert!C1 -> 6
A22: Citrat (als wasserfreie Citronensäure) | B22: mg/kg | C22: 3 | F22: =Citrat!$B$1 -> 10 | H22: =Citrat!$C$1 -> 9
A23: Acetat (berechnet als Natriumacetat) | B23: mg/kg | C23: 3 | F23: =Acetat!$B$1 -> 11 | H23: =Acetat!$C$1 -> 10
A24: Lactose, wasserfrei | B24: g/100 g | C24: 3 | F24: =Lactose!$B$1 -> 19 | H24: =Lactose!$C$1 -> 18
A25: Nitrit (berechnet als NaNO2) | B25: mg/kg | C25: 3 | F25: =Nitrit!$B$1 -> 19 | H25: =Nitrit!$C$1 -> 18
A26: Nitrat (berechnet als NaNO3) | B26: mg/kg | C26: 3 | F26: =Nitrat!B1 -> 19 | H26: =Nitrat!$C$1 -> 18
A27: Glutaminsäure | B27: mg/kg | C27: 3 | F27: =Glutaminsre!B1 -> 15 | H27: =Glutaminsre!$C$1 -> 14
A28: Ascorbinsäure | B28: mg/kg | C28: 3 | F28: =Ascorbinsäure!B1 -> 23 | H28: =Ascorbinsäure!C1 -> 22
A29: Iso-Ascorbinsäure | B29: mg/kg | C29: 3 | F29: =Isoascorbinsäure!B1 -> 10 | H29: =Isoascorbinsäure!C1 -> 9
A30: L-Lactat (berechnet als Milchsäure) | B30: mg/kg | C30: 3 | F30: =Lactat!C2 -> 13 | H30: =Lactat!B1 -> 12
A31: D-Lactat (berechnet als Milchsäure) | B31: mg/kg | C31: 3 | F31: =Lactat!D2 -> 13 | H31: =Lactat!B1 -> 12
A32: Calcium | B32: mg/kg | C32: 3 | F32: =Ca!B66 -> 31 | H32: =Ca!C66 -> 30
C33: =Ca!$B$2 -> 8 | D33: =Ca!B13 -> 11 | E33: =Ca!B27 -> 6 | F33: =Ca!C27 -> 6 | G33: =Ca!B36 -> 4 | H33: =Ca!B43 -> 20
A34: Beschreibung der verwendeten Analysenverfahren
A36: Citrat | I36: =ISBLANK(VLOOKUP(F22,Citrat!A3:C12,3)) -> TRUE
A37: =IF(F22=H22,"bitte eingeben:",IF(I36,"","Art der Modifikation/Ausgabedatum:"))
A38: Acetat | I38: =ISBLANK(VLOOKUP(F23,Acetat!A3:C12,3)) -> TRUE
A39: =IF(F23=H23,"bitte eingeben:",IF(I38,"","Art der Modifikation/Ausgabedatum:"))
A40: Lactose, wasserfrei | I40: =ISBLANK(VLOOKUP(F24,Lactose!A3:C20,3)) -> TRUE
A41: =IF(F24=H24,"bitte eingeben:",IF(I40,"","Art der Modifikation/Ausgabedatum:"))
A42: Nitrit | I42: =ISBLANK(VLOOKUP(F25,Nitrit!A3:C20,3)) -> TRUE
A43: =IF(F25=H25,"bitte eingeben:",IF(I42,"","Art der Modifikation/Ausgabedatum:"))
A44: Nitrat | I44: =ISBLANK(VLOOKUP(F26,Nitrat!A3:C25,3)) -> TRUE
...

Sheet Mitteilungen
A1: Nachfolgend können Sie uns ergänzende Hinweise geben oder wichtige Beobachtungen mitteilen. | H1: =COUNTA(A2:G38) -> 0

Sheet Lactat
A1: Lactat (berechnet als Milchsäure) | B1: =MAX($A$3:$A$15)-1 -> 12 | C1: L-Lactat | D1: D-Lactat
A2: Methode | B2: Bezeichnung des Analysenverfahrens | C2: 13 | D2: 13
A3: 1 | B3: § 64 LFGB Nr. Nr. L 07.00-15 (2008-06)
A4: 2 | B4: § 64 LFGB Nr. Nr. L 07.00-15 (2008-06), modifiziert oder andere Version | C4: x
A5: 3 | B5: Enzymatisch nach Roche / r-biopharm Nr. 11 112 821 035
A6: 4 | B6: Enzymatisch nach Roche / r-biopharm Nr. 10 139 084 035
A7: 5 | B7: Enzymatisch nach Skil Diagnostics Nr. 100 28 91
A8: 6 | B8: Enzymatisch nach Skil Diagnostics Nr. 1255
A9: 7 | B9: Enzymatisch nach Roche / r-biopharm Nr. 10 1112 871 035
A10: 8 | B10: Aufarbeitung nach § 64 LFGB Nr. Nr. L 07.00-15 (2008-06), enzymatisch nach r-biopharm Nr. 11 112 821 035
A11: 9 | B11: Enzymatisch nach Megazyme
A12: 10 | B12: Enzymatisch mittels Thermo Gallery
A13: 11 | B13: Aufarbeitung nach § 64 LFGB Nr. Nr. L 07.00-17 (2008-06), enzymatisch nach r-biopharm Nr. 11 112 821 035
A14: 12 | B14: Sonstiges
A15: 13

Sheet Ca
A1: Calcium
A2: Probeneinwaage | B2: 8
A3: 1 | B3: < 0,5 g
A4: 2 | B4: 0,5 g - 1,0 g
A5: 3 | B5: 1,0 g - 1,5 g
A6: 4 | B6: 1,5 g - 2,5 g
A7: 5 | B7: 2,5 g - 5,0 g
A8: 6 | B8: 5,0 g - 10,0 g
A9: 7 | B9: > 10,0 g
A10: 8
A13: Aufschluss | B13: 11
A14: 1 | B14: Mikrowellendruckaufschluss
A15: 2 | B15: Druckaufschluss
A16: 3 | B16: Trockenveraschung bei 500 bis 540 °C
A17: 4 | B17: Trockenveraschung bei 540 °C bis 560 °C
A18: 5 | B18: Trockenveraschung bei 560 °C bis 600 °C
A19: 6 | B19: Trockenveraschung bei über 600 °C
A20: 7 | B20: Nassaufschluss
A21: 8 | B21: Verbrennen
A22: 9 | B22: Plasmaaufschluss
A23: 10 | B23: Sonstiger Aufschluss
A24: 11
A27: Säuren | B27: 6 | C27: 6
A28: 1 | B28: HCl | C28: HCl
A29: 2 | B29: HNO3 | C29: HNO3
A30: 3 | B30: H2SO4 | C30: H2SO4
A31: 4 | B31: Königswasser | C31: Königswasser
A32: 5 | B32: Sonstige Säure | C32: Sonstige Säure
A33: 6
A36: Oxidationsmittel | B36: 4
A37: 1 | B37: H2O2
A38: 2 | B38: entfällt
A39: 3 | B39: Sonstiges Oxidationsmittel
A40: 4
A43: Messverfahren | B43: 20
A44: 1 | B44: Graphitrohr-AAS
A45: 2 | B45: Kaltdampf-AAS
A46: 3 | B46: Hydrid-AAS
A47: 4 | B47: Zeemann-AAS
A48: 5 | B48: Flammen-AAS
...

Sheet Ascorbinsäure
A1: Ascorbinsäure | B1: 23 | C1: =MAX($A$14:$A$25)-1 -> 22
A2: Methode | B2: Bezeichnung des Analysenverfahrens | C2: Anzahl
A3: 1 | B3: § 64 LFGB Nr. L 00.00-85 (DIN EN 14130) (2004-07)
A4: 2 | B4: § 64 LFGB Nr. L 00.00-85 (DIN EN 14130) (2004-07), modifiziert oder andere Version | C4: x
A5: 3 | B5: § 64 LFGB Nr. L 26.04-2 (1984-11)
A6: 4 | B6: § 64 LFGB Nr. L 26.04-2 (1984-11), modifiziert oder andere Version | C6: x
A7: 5 | B7: HPLC-Verfahren (diverse Detektoren)
A8: 6 | B8: IFU Nr. 17a (HPLC-UV)
A9: 7 | B9: Enzymatisch nach Roche / r-biopharm Nr. 10 409 677 035
A10: 8 | B10: Schweizerisches Lebensmittelbuch Kapitel 62
A11: 9 | B11: Deutsch Lebensm Rundsch 84: 3 (1988)
A12: 10 | B12: Polarographisch
A13: 11 | B13: nach Spanyar, P. : Zeitsch. Lebensm. Unters. Forsch. 123 (1963)
A14: 12 | B14: Enzymatische Oxidation und HPLC mit UV-Detektion
A15: 13 | B15: Ultraschall-Extraktion mit heißem Wasser, Zugabe von Dithiotheritol
A16: 14 | B16: Potentiometrisch (Dichlorphenolindophenolreaktion)
A17: 15 | B17: J. of AOAC Vol:75
A18: 16 | B18: Aufarbeitung mit Dithioerthit-Lösung, HPLC-DAD
... A24: 22 | B24: Sonstiges
A25: 23

Sheet Isoascorbinsäure
A1: Isoascorbinsäure | B1: 10 | C1: =MAX($A$3:$A$12)-1 -> 9
A2: Methode | B2: Bezeichnung des Analysenverfahrens | C2: Anzahl
A3: 1 | B3: Isoascorbinsäure wurde als Ascorbinsäure mit erfasst
A4: 2 | B4: § 64 LFGB Nr. L 00.00-85 (DIN EN 14130) (2004-07)
A5: 3 | B5: § 64 LFGB Nr. L 00.00-85 (DIN EN 14130) (2004-07), modifiziert oder andere Version | C5: x
A6: 4 | B6: HPLC-Verfahren (diverse Detektoren)
A7: 5 | B7: IFU Nr. 17a (HPLC-UV)
A8: 6 | B8: Schweizerisches Lebensmittelbuch Kapitel 62
A9: 7 | B9: Aufarbeitung mit Dithiothreit-Lösung, HPLC-DAD
A10: 8 | B10: Schüep/Keck, ZLUF (1990) 191:290-292
A11: 9 | B11: Sonstiges
A12: 10

Sheet pHWert
A1: pH-Wert | B1: 7 | C1: =MAX($A$3:$A$9)-1 -> 6
B2: Bezeichnung des Analysenverfahrens | C2: Modifikation
A3: 1 | B3: § 64 LFGB Nr. L 06.00-2 (1980-09), 07.00-2 (1980-09)
A4: 2 | B4: § 64 LFGB Nr. L 06.00-2 (1980-09), 07.00-2 (1980-09), modifiziert oder andere Version | C4: x
A5: 3 | B5: Potentiometrisch
A6: 4 | B6: Einstichelektrode
A7: 5 | B7: Oberflächenmessung
A8: 6 | B8: Sonstiges
A9: 7

Sheet Acetat
A1: Acetat | B1: 11 | C1: =MAX($A$3:$A$13)-1 -> 10
B2: Bezeichnung des Analysenverfahrens | C2: Modifikation
A3: 1 | B3: § 64 LFGB Nr. L 07.00-14 (2008-06)
A4: 2 | B4: § 64 LFGB Nr. L 07.00-14 (2008-06), modifiziert oder andere Version | C4: x
A5: 3 | B5: Enzymatisch nach Roche / r-biopharm Nr. 10 148 261 035
A6: 4 | B6: Enzymatisch mittels Thermo Gallery
A7: 5 | B7: Aufarbeitung nach § 64 LFGB Nr. Nr. L 07.00-17 (2008-06), enzymatisch nach r-biopharm Nr. 10 148 261 035
A8: 6 | B8: HPLC - RI Detektion
A9: 7 | B9: OIV-MA-AS313-04
A10: 8 | B10: Enzymatisch nach Scill E1226
A11: 9 | B11: HPLC (diverse Detektoren)
A12: 10 | B12: Sonstiges
A13: 11

Sheet Citrat
A1: Citrat (berechnet als wasserfreie Citronensäure) | B1: 10 | C1: =MAX($A$3:$A$12)-1 -> 9
B2: Bezeichnung des Analysenverfahrens | C2: Modifikation
A3: 1 | B3: § 64 LFGB Nr. L 07.00-13 (2008-06)
A4: 2 | B4: § 64 LFGB Nr. L 07.00-13 (2008-06), modifiziert oder andere Version | C4: x
A5: 3 | B5: Enzymatisch nach Roche / r-biopharm Nr. 10 139 076 035
A6: 4 | B6: Enzymatisch nach Scil Diagnostics 1214
A7: 5 | B7: HPLC (diverse Detektoren)
A8: 6 | B8: Aufarbeitung nach § 64 LFGB Nr. Nr. L 07.00-17 (2008-06), enzymatisch nach r-biopharm Nr. 11 139 076 035
A9: 7 | B9: Enzymatisch mittels Thermo Gallery
A10: 8 | B10: Kit K-CITR von Megazyme
A11: 9 | B11: Sonstiges
A12: 10

Sheet Lactose
A1: Lactose | B1: 19 | C1: =MAX($A$3:$A$21)-1 -> 18
A2: Methode | B2: Bezeichnung des Analysenverfahrens | C2: Anzahl
A3: 1 | B3: § 64 LFGB Nr. L 44.00-6
A4: 2 | B4: § 64 LFGB Nr. L 44.00-6, modifiziert | C4: x
A5: 3 | B5: § 64 LFGB Nr. L 07.00-23
A6: 4 | B6: § 64 LFGB Nr. L 07.00-23, modifiziert | C6: x
A7: 5 | B7: Enzymatisch nach r-biopharm / roche 10 176 303 035 (Lac/Galac)
A8: 6 | B8: Enzymatisch nach r-biopharm 10 986 119 035
A9: 7 | B9: Enzymatisch nach SCIL 200 086
A10: 8 | B10: HPLC (diverse Detektoren)
A11: 9 | B11: Polarimetrisch nach Thieler: ZLUF 80 440-449 (1940)
A12: 10 | B12: Ionenchromatographie nach Carrez-Klärung
A13: 11 | B13: HPLC auf Kationenaustauscher mit Bleibelegung (analog 64 LFGB Nr. L 00.00-72: Bestimmung der Zuckeralkohole)
A14: 12 | B14: Hochleistungs-Anionen-Austausch Chromatographie mit gepulster amperometrischer Detektion
A15: 13 | B15: Ionenchromatographie (diverse Detektoren)
A16: 14 | B16: EnzymeFast Lactose, Firma ifp Institut für Produktqualität
A17: 15 | B17: Aufarbeitung nach L 07.00-17, enzymatisch nach Roche/r-biopharm 10 176 303 035
A18: 16 | B18: § 64 LFGB 01.00-17 (2010-09) / erweiterter Anwendungsbereich, Enzymtestkombination
... A20: 18 | B20: sonstiges
A21: 19

Sheet Nitrit
A1: Nitrit | B1: 19 | C1: =MAX($A$3:$A$21)-1 -> 18
A2: Methode | B2: Bezeichnung des Analysenverfahrens | C2: Anzahl
A3: 1 | B3: § 64 LFGB Nr. L 08.00-14 (2008-06)
A4: 2 | B4: § 64 LFGB Nr. L 08.00-14 (2008-06), modifiziert oder andere Version | C4: x
A5: 3 | B5: § 64 LFGB Nr. 07.00-61, EN 12014-3 (2007-04)
A6: 4 | B6: § 64 LFGB Nr. 07.00-61, EN 12014-3 (2007-04), modifiziert oder andere Version | C6: x
A7: 5 | B7: § 64 LFGB Nr. 07.00-60 (2007-04)
A8: 6 | B8: § 64 LFGB Nr. 07.00-60 (2007-04), modifiziert oder andere Version | C8: x
A9: 7 | B9: § 64 LFGB Nr. 26.00-1 (2001-07)
A10: 8 | B10: § 64 LFGB Nr. 26.00-1 (2001-07), modifiziert oder andere Version | C10: x
A11: 9 | B11: Ionenchromatographisch
A12: 10 | B12: HPLC (diverse Detektoren)
A13: 11 | B13: § 64 LFGB Nr. L 07.00-12 (1990-12)
A14: 12 | B14: § 64 LFGB Nr. L 07.00-12 (1990-12), modifiziert oder andere Version
A15: 13 | B15: Enzymatisch (r-biopharm 10 905 658 035)
A16: 14 | B16: Nitrit/Nitrat-Farbtest Roche Nr. 11 746 081 001
A17: 15 | B17: automatische Messung mittels Cadminumsäule /Messzelle
A18: 16 | B18: Segmented Flow Analysis (SFA) Skalar
A19: 17 | B19: § 64 LFBG Nr. L 01.00/79-3 Fließinjektionsanalyse mit In-Line Dialyse und Cadmiumreduktion
A20: 18 | B20: Sonstiges
A21: 19

Sheet Nitrat
A1: Nitrat | B1: 19 | C1: =MAX($A$3:$A$21)-1 -> 18
A2: Methode | B2: Bezeichnung des Analysenverfahrens | C2: Anzahl
A3: 1 | B3: § 64 LFGB Nr. L 08.00-14 (2008-06)
A4: 2 | B4: § 64 LFGB Nr. L 08.00-14 (2008-06), modifiziert oder andere Version | C4: x
A5: 3 | B5: § 64 LFGB Nr. 07.00-61, EN 12014-3 (2007-04)
A6: 4 | B6: § 64 LFGB Nr. 07.00-61, EN 12014-3 (2007-04), modifiziert oder andere Version | C6: x
A7: 5 | B7: § 64 LFGB Nr. 07.00-60 (2007-04)
A8: 6 | B8: § 64 LFGB Nr. 07.00-60 (2007-04), modifiziert oder andere Version | C8: x
A9: 7 | B9: § 64 LFGB Nr. 26.00-1 (2001-07)
A10: 8 | B10: § 64 LFGB Nr. 26.00-1 (2001-07), modifiziert oder andere Version | C10: x
A11: 9 | B11: Enzymatisch nach Roche / r-biopharm Nr. 10 905 658 035
A12: 10 | B12: Ionenchromatographisch
A13: 11 | B13: HPLC (diverse Detektoren)
A14: 12 | B14: Farbtest nach enzymatischer Reduktion von Nitrat zu Nitrit mittels Nitrit/Nitrat-Farbtest Roche Nr. 11 746 081 001
A15: 13 | B15: § 64 LFGB Nr. 07.00-61, EN 12014-3 (2007-04)
A16: 14 | B16: § 64 LFGB Nr. 07.00-61, EN 12014-3 (2007-04), modifiziert oder andere Version | C16: x
A17: 15 | B17: automatische Messung mittels Cadminumsäule /Messzelle
A18: 16 | B18: Segmented Flow Analysis (SFA) Skalar
A19: 17 | B19: § 64 LFBG Nr. L 01.00/79-3 Fließinjektionsanalyse mit In-Line Dialyse und Cadmiumreduktion
A20: 18 | B20: Sonstiges
A21: 19

Sheet SLPhosphor
A1: SP | B1: 4 | C1: =MAX($A$3:$A$6)-1 -> 3
A2: Methode | B2: Bezeichnung des Analysenverfahrens | C2: Anzahl
A3: 1 | B3: § 64 LFGB Nr. L 06.00-10 (1992-12)
A4: 2 | B4: § 64 LFGB Nr. L 06.00-10 (1992-12), modifiziert oder andere Version | C4: x
A5: 3 | B5: Sonstiges
A6: 4

Sheet Glutaminsre
A1: Glutaminsäure | B1: 15 | C1: =MAX($A$3:$A$17)-1 -> 14
A2: Methode | B2: Bezeichnung des Analysenverfahrens | C2: Anzahl
A3: 1 | B3: § 64 LFGB Nr. L 07.00-17 (2008-06)
A4: 2 | B4: § 64 LFGB Nr. L 07.00-17 (2008-06), modifiziert oder andere Version | C4: x
A5: 3 | B5: § 64 Methode L 07.00-59 (2008-06)
A6: 4 | B6: § 64 Methode L 07.00-59 (2008-06), modifiziert oder andere Version | C6: x
A7: 5 | B7: Enzymatisch nach Roche / r-biopharm Nr. 10 139 092 035
A8: 6 | B8: HPLC (Vorsäulenderivatiserung)
A9: 7 | B9: Aminosäurenanalysator
A10: 8 | B10: Enzymatisch nach Scil Diagnostics 1269
A11: 9 | B11: HPLC nach Derivatisierung
A12: 10 | B12: Aufarbeitung nach § 64 LFGB Nr. L 07.00-17 (2008-06), enzymatisch nach Roche / r-biopharm Nr. 10 139 092 035
A13: 11 | B13: Enzymatisch mit Testkit von Megazyme
A14: 12 | B14: Enzymatisch mittels Thermo Gallery
A15: 13 | B15: Test-Kit Thermo Fisher Scientific L-Glutamic acid (Arena)
A16: 14 | B16: Sonstiges
A17: 15

Sheet NPN
A1: Nichtproteinstickstoff | B1: 3 | C1: =MAX($A$3:$A$7)-1 -> 4
A2: Methode | B2: Bezeichnung des Analysenverfahrens | C2: Anzahl
A3: 1 | B3: § 64 LFGB Nr. L 07.00-41 (2006-09)
A4: 2 | B4: § 64 LFGB Nr. L 07.00-41 (2006-09), modifiziert oder andere Version | C4: x
A5: 3 | B5: Trichloressigsäureextraktion, Kjeldahl-Aufschluss, Titration
A6: 4 | B6: Sonstiges
A7: 5
A21: Entfettung | B21: 3
A22: 1 | B22: ja
A23: 2 | B23: nein
A24: 3

Sheet Kollagen
A1: Kollagenabbauprodukte | B1: 5 | C1: =MAX($A$3:$A$7)-1 -> 4
A2: Methode | B2: Bezeichnung des Analysenverfahrens | C2: Anzahl
A3: 1 | B3: § 64 LFGB Nr. L 07.00-57 (2008-06)
A4: 2 | B4: § 64 LFGB Nr. L 07.00-57 (2008-06), modifiziert oder andere Version | C4: x
A5: 3 | B5: Littmann-Nienstedt: Deutsch Lebensm Rundsch 97 61-64 (2001)
A6: 4 | B6: Sonstiges
A7: 5
A21: Entfettung | B21: 3
A22: 1 | B22: ja
A23: 2 | B23: nein
A24: 3

Sheet Farbstoff-Liste
A1: Farbstoffe | B1: 20 | C1: 20
A2: lfd. Nr. | B2: Bezeichnung des Farbstoffes
A3: 1 | B3: E 102 (Tartrazin)
A4: 2 | B4: E 104 (Chinolingelb)
A5: 3 | B5: E 110 (Gelborange S)
A6: 4 | B6: E 120 (Karmin)
A7: 5 | B7: E 122 (Azorobin)
A8: 6 | B8: E 123 (Amaranth)
A9: 7 | B9: E 124 (Ponceau 4 R)
A10: 8 | B10: E 127 (Erythrosin)
A11: 9 | B11: E 128 (Rot 2G)
A12: 10 | B12: E 129 (Allurarot AC)
A13: 11 | B13: E 131 (Patentblau V)
A14: 12 | B14: E 132 (Indigotin)
... A21: 19 | B21: Angkak

Sheet Parameter_Glucose
A1: Glucose | B1: 6 | C1: =MAX($A$3:$A$20)-1 -> 17
A2: Methode | B2: Bezeichnung des Analysenverfahrens | C2: Anzahl
A3: 1 | B3: § 64 LFGB Nr. L 07.00-22 (1983-05)
A4: 2 | B4: § 64 LFGB Nr. L 07.00-22 (1983-05), modifiziert oder andere Version | C4: x
A5: 3 | B5: § 64 LFGB Nr. L 00.00-72 (2002-12)
A6: 4 | B6: § 64 LFGB Nr. L 00.00-72 (2002-12), modifiziert oder andere Version | C6: x
A7: 5 | B7: Enzymatisch nach r-biopharm / Roche Nr. 10 716 260 035 (Saccharose, D-Glucose, D-Fructose)
A8: 6 | B8: Enzymatisch nach r-biopharm / Roche Nr. 10 139 106 035 (D-Glucose, D-Fructose)
A9: 7 | B9: Enzymatisch nach r-biopharm / Roche Nr. 10 139 041 035 + PGF 127396 (Saccharose, D-Glucose, D-Fructose)
A10: 8 | B10: SCIL-Testsatz Nr. 1247 (Saccharose, D-Glucose, D-Fructose)
A11: 9 | B11: HPLC, verschiedene Ausführungsformen
A12: 10 | B12: Ionenchromatographie, verschiedene Ausführungsformen
A13: 11 | B13: Enzymatisch nach r-biopharm / Roche, Einzelreagentien
A14: 12 | B14: Enzymatisch, Scil (PGI) Best. 1002782
A15: 13 | B15: SCIL-Testsatz Nr. 1245 (Glucose, Fructose)
A16: 14 | B16: Enzymatisch nach SCIL Nr. 1211
A17: 15 | B17: enzymatisch nach r-biopharm/Roche Nr. 10 986 119 035 (Glucose/Lactose)
A18: 16 | B18: Enzymatisch nach r-biopharm / Roche Nr. 10 716 251 035
A19: 17 | B19: Sonstiges
A20: 18

Sheet Parameter_Farbstoffe
A1: künstliche Farbstoffe | B1: 20 | C1: =MAX($A$3:$A$22)-1 -> 19
A2: Methode | B2: Bezeichnung des Analysenverfahrens | C2: Anzahl
A3: 1 | B3: § 64 LFGB Nr. L 08.00-51 (2001-07) (Brockmann, Fleischwirtschaft 78 143 (1998))
A4: 2 | B4: § 64 LFGB Nr. L 08.00-51 (2001-07), modifiziert oder andere Version | C4: x
A5: 3 | B5: § 64 LFGB Nr. L 08.00-50 (2001-07)
A6: 4 | B6: § 64 LFGB Nr. L 08.00-50 (2001-07), modifiziert oder andere Version | C6: x
A7: 5 | B7: § 64 LFGB Nr. L 08.00-12 (1980-09)
A8: 6 | B8: § 64 LFGB Nr. L 08.00-12 (1980-09), modifiziert oder andere Version | C8: x
A9: 7 | B9: § 64 LFGB Nr. L 26.11.03-14 (1983-11)
A10: 8 | B10: § 64 LFGB Nr. L 26.11.03-14 (1983-11), modifiziert oder andere Version | C10: x
A11: 9 | B11: Wollfadenmethode, Papierchromatographie
A12: 10 | B12: Wollfadenmethode, Dünnschichtchromatographie
A13: 11 | B13: Wollfadenmethode, HPLC
A14: 12 | B14: auf Polyamid aufgezogen wie bei Wollfadenmethode, Dünnschichtchromatographie
A15: 13 | B15: Dünnschichtchromatographie nach diversen Extraktions- und Reinigungsschritten
A16: 14 | B16: Extraktion mit Acetonitril, Identifizierung mittels HPLC/UV-Detektion
A17: 15 | B17: Detektion aus der wässrigen Phase mittels HPLC-DAD (HPLC-Säule RP-18; Elutionsmittel:Gradient Phsophatpuffer pH 5,5/Acetonitril; Detektion bei 520 nm)
A18: 16 | B18: Ammoniakauszug, Reinigung über DEAe-Cellulose-Säule, Elution mit Aceton/Salzssäure, Dünnschichtchromatographie
A19: 17 | B19: Extraktion mit Wollfaden, Identifizierung mittels Dünnschichtchromatographie
A20: 18 | B20: Aufarbeitung über Festphase, anschließend RP-HPLC
A21: 19 | B21: Sonstiges
A22: 20

Sheet Parameter9
A1: künstliche Farbstoffe, quantitativ | B1: 13 | C1: =MAX($A$3:$A$15)-1 -> 12
A2: Methode | B2: Bezeichnung des Analysenverfahrens | C2: Anzahl
A3: 1 | B3: § 64 LFGB Nr. L 08.00-51 (2001-07) (Brockmann, Fleischwirtschaft 78 143 (1998))
A4: 2 | B4: § 64 LFGB Nr. L 08.00-51 (2001-07), modifiziert oder andere Version | C4: x
A5: 3 | B5: § 64 LFGB Nr. L 08.00-50 (2001-07)
A6: 4 | B6: § 64 LFGB Nr. L 08.00-50 (2001-07), modifiziert oder andere Version | C6: x
A7: 5 | B7: § 64 LFGB Nr. L 08.00-12 (1980-09)
A8: 6 | B8: § 64 LFGB Nr. L 08.00-12 (1980-09), modifiziert oder andere Version | C8: x
A9: 7 | B9: § 64 LFGB Nr. L 26.11.03-14 (1983-11)
A10: 8 | B10: § 64 LFGB Nr. L 26.11.03-14 (1983-11), modifiziert oder andere Version | C10: x
A11: 9 | B11: Wollfadenmethode, Papierchromatographie
A12: 10 | B12: Wollfadenmethode, Dünnschichtchromatographie
A13: 11 | B13: Wollfadenmethode, HPLC
A14: 12 | B14: Sonstiges
A15: 13

Sheet Farbstoffe
A1: Farbstoffe | B1: 20 | C1: 20
A2: lfd. Nr. | B2: Bezeichnung des Farbstoffes
A3: 1 | B3: E 102 (Tartrazin)
A4: 2 | B4: E 104 (Chinolingelb)
A5: 3 | B5: E 110 (Gelborange S)
A6: 4 | B6: E 120 (Karmin)
A7: 5 | B7: E 122 (Azorobin)
A8: 6 | B8: E 123 (Amaranth)
A9: 7 | B9: E 124 (Ponceau 4 R)
A10: 8 | B10: E 127 (Erythrosin)
A11: 9 | B11: E 128 (Rot 2G)
A12: 10 | B12: E 129 (Allurarot AC)
A13: 11 | B13: E 131 (Patentblau V)
A14: 12 | B14: E 132 (Indigotin)
... A22: 17 | B22: Farbstoff nicht quantifiziert
B31: E 105 (Fast Yellow AB)
B32: E 107 (Gelb 2G)
B43: 12 | C43: =MAX(A45:A56)-1 -> 11
A44: Methode | B44: Bezeichnung des Analysenverfahrens | C44: Anzahl
A45: 1 | B45: § 64 LMFB Nr. L 26.11.03-14
A46: 2 | B46: § 64 LMFB Nr. L 26.11.03-14, modifiziert | C46: x
A47: 3 | B47: Isolierung und Anreicherung: Wollfadenmethode; HPLC
A48: 4 | B48: Isolierung und Anreicherung: Wollfadenmethode; DC
A49: 5 | B49: Isolierung und Anreicherung: Polyamidpulver; HPLC
A50: 6 | B50: Isolierung und Anreicherung: Polyamidpulver; DC
A51: 7 | B51: Isolierung und Anreicherung: C18-Kartusche; HPLC
A52: 8 | B52: Isolierung und Anreicherung: C18-Kartusche; DC
A53: 9 | B53: keine spezielle Anreicherung; HPLC (diverse Ausführungen)
A54: 10 | B54: Mitteilung Nr. 14 der DFG Farbstoffkommission 1980
A55: 11 | B55: Sonstiges
A56: 12

Sheet Gluconsäure
A1: Gluconsäure | B1: 6 | C1: =MAX($A$3:$A$7)-1 -> 4
A2: Methode | B2: Bezeichnung des Analysenverfahrens | C2: Anzahl
A3: 1 | B3: § 64 LFGB Nr. Nr. L 07.00-16 (2008-06)
A4: 2 | B4: § 64 LFGB Nr. Nr. L 07.00-16 (2008-06), modifiziert oder andere Version | C4: x
A5: 3 | B5: Enzymatisch nach Roche / r-biopharm Nr. 10 428 191 035
A6: 4 | B6: Sonstiges
A7: 5

Sheet Sorbinsäure
A1: ^Sorbinsäure | B1: 13 | C1: =MAX($A$3:$A$15)-1 -> 12
A2: Methode | B2: Bezeichnung des Analysenverfahrens | C2: Anzahl
A3: 1 | B3: § 64 LFGB Nr. L 00.00-9 (1984-11)
A4: 2 | B4: § 64 LFGB Nr. L 00.00-9 (1984-11), modifiziert oder andere Version | C4: x
A5: 3 | B5: § 64 LFGB Nr. L 00.00-10 (1984-11)
A6: 4 | B6: § 64 LFGB Nr. L 00.00-10 (1984-11), modifiziert oder andere Version | C6: x
A7: 5 | B7: § 64 LFGB Nr. L 00.00-28 (DIN 12856) (2001-07)
A8: 6 | B8: § 64 LFGB Nr. L 00.00-28 (DIN 12856) (2001-07), modifiziert oder andere Version | C8: x
A9: 7 | B9: Wasserdampfdestillation mit anschließender HPLC-Detektion
A10: 8 | B10: Wasserdampfdestillation mit anschließender UV-Detektion
A11: 9 | B11: HPLC-Verfahren (UV- oder DAD-Detektion)
A12: 10 | B12: E. Schulte, DLR 91, Heft 9 (1995)
A13: 11 | B13: HPLC nach Hagenauer-Hener, DLR 86 (1990) 348
A14: 12 | B14: Sonstiges
A15: 13
